BEGIN:VCALENDAR
VERSION:2.0
PRODID:-//Be Outdoors Arizona - ECPv6.15.20//NONSGML v1.0//EN
CALSCALE:GREGORIAN
METHOD:PUBLISH
X-ORIGINAL-URL:https://beoutdoorsarizona.org
X-WR-CALDESC:Events for Be Outdoors Arizona
REFRESH-INTERVAL;VALUE=DURATION:PT1H
X-Robots-Tag:noindex
X-PUBLISHED-TTL:PT1H
BEGIN:VTIMEZONE
TZID:America/Phoenix
BEGIN:STANDARD
TZOFFSETFROM:-0700
TZOFFSETTO:-0700
TZNAME:MST
DTSTART:20240101T000000
END:STANDARD
END:VTIMEZONE
BEGIN:VEVENT
DTSTART;TZID=America/Phoenix:20251201T100000
DTEND;TZID=America/Phoenix:20251201T120000
DTSTAMP:20260421T153332
CREATED:20251103T015222Z
LAST-MODIFIED:20251103T015303Z
UID:10015058-1764583200-1764590400@beoutdoorsarizona.org
SUMMARY:🌵 Discover the Desert: Explore the Wonders of the Sonoran!
DESCRIPTION:Step into the wild beauty of the Sonoran Desert and uncover its incredible secrets! From towering saguaro cacti to elusive desert dwellers\, this event will introduce you to the unique plants and animals that thrive in Arizona’s sun-baked landscape. \nLearn essential desert safety tips\, discover how to navigate the terrain like a pro\, and gain a deeper appreciation for one of the most fascinating ecosystems on Earth. \nJoin us for an unforgettable journey through the desert — where survival meets splendor!
URL:https://beoutdoorsarizona.org/event/%f0%9f%8c%b5-discover-the-desert-explore-the-wonders-of-the-sonoran/
LOCATION:Wickenberg Public Library\, 164 E. Apache St\, Wickenberg\, 85390
CATEGORIES:Ecology,Geology,Hiking,Meeting,Trails,Volunteering,Wildlife Education
ATTACH;FMTTYPE=image/png:https://beoutdoorsarizona.org/wp-content/uploads/2025/04/Desert-Plants.png
ORGANIZER;CN="Wickenburg Conservation Foundation":MAILTO:info@wickenburgtrails.org
END:VEVENT
END:VCALENDAR