BEGIN:VCALENDAR
VERSION:2.0
PRODID:-//Be Outdoors Arizona - ECPv6.15.20//NONSGML v1.0//EN
CALSCALE:GREGORIAN
METHOD:PUBLISH
X-ORIGINAL-URL:https://beoutdoorsarizona.org
X-WR-CALDESC:Events for Be Outdoors Arizona
REFRESH-INTERVAL;VALUE=DURATION:PT1H
X-Robots-Tag:noindex
X-PUBLISHED-TTL:PT1H
BEGIN:VTIMEZONE
TZID:America/Phoenix
BEGIN:STANDARD
TZOFFSETFROM:-0700
TZOFFSETTO:-0700
TZNAME:MST
DTSTART:20240101T000000
END:STANDARD
END:VTIMEZONE
BEGIN:VEVENT
DTSTART;VALUE=DATE:20250503
DTEND;VALUE=DATE:20250504
DTSTAMP:20260421T193322
CREATED:20250311T161213Z
LAST-MODIFIED:20250311T161213Z
UID:10012267-1746230400-1746316799@beoutdoorsarizona.org
SUMMARY:Verde BioBlitz 2025
DESCRIPTION:The Verde BioBlitz is back for its fifth year! Join us in exploring the incredible biodiversity of the Verde River Watershed while contributing to real scientific research. Whether you’re a seasoned naturalist or just love being outdoors\, this is your chance to help document the plants\, animals\, birds\, and insects that call this area home. \nHow to Participate \n\nGet outside – Visit any location within the Verde River watershed\, including the river\, Oak Creek\, West Clear Creek\, and other natural areas.\nTake photos – Use the iNaturalist app to capture images of species you find.\n\n\nJoin the Verde BioBlitz on iNaturalist\nLog your observations – Upload your findings to iNaturalist and contribute valuable data to help track biodiversity.
URL:https://beoutdoorsarizona.org/event/verde-bioblitz-2025/2025-05-03/
LOCATION:Verde River Watershed
CATEGORIES:Bird Watching,Ecology,Volunteering
END:VEVENT
END:VCALENDAR