BEGIN:VCALENDAR
VERSION:2.0
PRODID:-//Be Outdoors Arizona - ECPv6.15.20//NONSGML v1.0//EN
CALSCALE:GREGORIAN
METHOD:PUBLISH
X-ORIGINAL-URL:https://beoutdoorsarizona.org
X-WR-CALDESC:Events for Be Outdoors Arizona
REFRESH-INTERVAL;VALUE=DURATION:PT1H
X-Robots-Tag:noindex
X-PUBLISHED-TTL:PT1H
BEGIN:VTIMEZONE
TZID:America/Phoenix
BEGIN:STANDARD
TZOFFSETFROM:-0700
TZOFFSETTO:-0700
TZNAME:MST
DTSTART:20240101T000000
END:STANDARD
END:VTIMEZONE
BEGIN:VEVENT
DTSTART;TZID=America/Phoenix:20250413T050000
DTEND;TZID=America/Phoenix:20250413T143000
DTSTAMP:20260422T201153
CREATED:20250331T235431Z
LAST-MODIFIED:20250331T235431Z
UID:10012723-1744520400-1744554600@beoutdoorsarizona.org
SUMMARY:2025 Vail Scramble Race Day Support
DESCRIPTION:Join us to help support Vail Scramble Race Participants! \nSign Up by visiting:\n2025 Vail Scramble Race Day Support
URL:https://beoutdoorsarizona.org/event/2025-vail-scramble-race-day-support/
LOCATION:Vail\, AZ 85641\, USA
CATEGORIES:Volunteering
ATTACH;FMTTYPE=image/png:https://beoutdoorsarizona.org/wp-content/uploads/2025/02/volunteering.png
ORGANIZER;CN="Arizona Trail Association":MAILTO: aznst1@gmail.com
END:VEVENT
END:VCALENDAR