BEGIN:VCALENDAR
VERSION:2.0
PRODID:-//Be Outdoors Arizona - ECPv6.15.20//NONSGML v1.0//EN
CALSCALE:GREGORIAN
METHOD:PUBLISH
X-ORIGINAL-URL:https://beoutdoorsarizona.org
X-WR-CALDESC:Events for Be Outdoors Arizona
REFRESH-INTERVAL;VALUE=DURATION:PT1H
X-Robots-Tag:noindex
X-PUBLISHED-TTL:PT1H
BEGIN:VTIMEZONE
TZID:America/Phoenix
BEGIN:STANDARD
TZOFFSETFROM:-0700
TZOFFSETTO:-0700
TZNAME:MST
DTSTART:20250101T000000
END:STANDARD
END:VTIMEZONE
BEGIN:VEVENT
DTSTART;TZID=America/Phoenix:20260515T190000
DTEND;TZID=America/Phoenix:20260515T210000
DTSTAMP:20260420T184615
CREATED:20250710T210246Z
LAST-MODIFIED:20250710T210246Z
UID:10014401-1778871600-1778878800@beoutdoorsarizona.org
SUMMARY:East Valley Astronomy Club Meeting
DESCRIPTION:The monthly general meeting is your chance to find out what other club members are up to\, learn about upcoming club events and listen to presentations by professional and well-known amateur astronomers. Visitors are always welcome! \n\n\nMeetings are held via Zoom and In Person. \n\n\nA typical meeting begins with introductions and a brief discussion of club business\, including upcoming events. \n\n\nRecognition and a couple of short (10 – 15 minute) presentations by EVAC members follows. \n\n\nRefreshments are served during a short intermission. \n\n\nOur guest speaker then gives a 45-minute to 1-hour presentation.  \n\nSee our upcoming Speaker Schedule.
URL:https://beoutdoorsarizona.org/event/east-valley-astronomy-club-meeting/2026-05-15/
LOCATION:Southeast Regional Library\, 775 N Greenfield Rd\, Gilbert\, AZ\, 85234\, United States
CATEGORIES:Astromony
ATTACH;FMTTYPE=image/png:https://beoutdoorsarizona.org/wp-content/uploads/2025/07/Astronomy.png
ORGANIZER;CN="East Valley Astromony Club":MAILTO:President@evaconline.org
GEO:33.3637759;-111.7374315
X-APPLE-STRUCTURED-LOCATION;VALUE=URI;X-ADDRESS=Southeast Regional Library 775 N Greenfield Rd Gilbert AZ 85234 United States;X-APPLE-RADIUS=500;X-TITLE=775 N Greenfield Rd:geo:-111.7374315,33.3637759
END:VEVENT
END:VCALENDAR