BEGIN:VCALENDAR
VERSION:2.0
PRODID:-//Be Outdoors Arizona - ECPv6.15.20//NONSGML v1.0//EN
CALSCALE:GREGORIAN
METHOD:PUBLISH
X-ORIGINAL-URL:https://beoutdoorsarizona.org
X-WR-CALDESC:Events for Be Outdoors Arizona
REFRESH-INTERVAL;VALUE=DURATION:PT1H
X-Robots-Tag:noindex
X-PUBLISHED-TTL:PT1H
BEGIN:VTIMEZONE
TZID:America/Phoenix
BEGIN:STANDARD
TZOFFSETFROM:-0700
TZOFFSETTO:-0700
TZNAME:MST
DTSTART:20240101T000000
END:STANDARD
END:VTIMEZONE
BEGIN:VEVENT
DTSTART;TZID=America/Phoenix:20251002T080000
DTEND;TZID=America/Phoenix:20251005T170000
DTSTAMP:20260421T152637
CREATED:20250820T142113Z
LAST-MODIFIED:20250820T142113Z
UID:10014864-1759392000-1759683600@beoutdoorsarizona.org
SUMMARY:Unit 21 Youth Deer Camp - AMDO
DESCRIPTION:Camp for youth hunters drawn for Unit 21.\nMentors\, deer hunting tips and instruction\, assistance\, biology and habits\, game processing\, food and drawings. Family welcome. Meals provided. Raffles for youth tag\nholders Saturday night. \n• Information: Contact: Terry\, 623-696-5579\,
URL:https://beoutdoorsarizona.org/event/unit-21-youth-deer-camp-amdo/
LOCATION:Seven Springs – Humboldt Tank\, N seven springs rd and 562 Camp Creek\,\, AZ 85262
CATEGORIES:Hunting,Youth Event
ATTACH;FMTTYPE=image/jpeg:https://beoutdoorsarizona.org/wp-content/uploads/2025/07/Dad-and-daughter-hunting.jpeg
END:VEVENT
END:VCALENDAR