BEGIN:VCALENDAR
VERSION:2.0
PRODID:-//Be Outdoors Arizona - ECPv6.15.20//NONSGML v1.0//EN
CALSCALE:GREGORIAN
METHOD:PUBLISH
X-ORIGINAL-URL:https://beoutdoorsarizona.org
X-WR-CALDESC:Events for Be Outdoors Arizona
REFRESH-INTERVAL;VALUE=DURATION:PT1H
X-Robots-Tag:noindex
X-PUBLISHED-TTL:PT1H
BEGIN:VTIMEZONE
TZID:America/Phoenix
BEGIN:STANDARD
TZOFFSETFROM:-0700
TZOFFSETTO:-0700
TZNAME:MST
DTSTART:20240101T000000
END:STANDARD
END:VTIMEZONE
BEGIN:VEVENT
DTSTART;VALUE=DATE:20251108
DTEND;VALUE=DATE:20251110
DTSTAMP:20260421T130704
CREATED:20251103T021531Z
LAST-MODIFIED:20251103T021619Z
UID:10015049-1762588800-1762727400@beoutdoorsarizona.org
SUMMARY:🏜️ Test Your Limits at the Phoenix Metro Navigation Games!
DESCRIPTION:Get ready for an epic day of adventure\, endurance\, and navigation in the rugged beauty of the Lower Salt River drainage! The Phoenix Metro Navigation Games bring together athletes and outdoor enthusiasts for a full day of running\, biking\, paddling\, and more across the challenging desert terrain. \nChoose your challenge:🚵 Adventure Races: 6-hour and 12-hour options — push your limits across multiple disciplines.🥾 Rogaine Foot Races: 3-hour\, 5-hour\, and 12-hour events — strategy\, stamina\, and map-reading mastery collide. \nThis isn’t just a race — it’s a true test of skill\, endurance\, and grit under the Arizona sun. Come prepared with your recommended gear\, plenty of water\, and your adventurous spirit! \n🔥 Are you ready to conquer the desert?
URL:https://beoutdoorsarizona.org/event/%f0%9f%8f%9c%ef%b8%8f-test-your-limits-at-the-phoenix-metro-navigation-games/
LOCATION:Salt River Arizona\, United States
CATEGORIES:Biking,Bird Watching,Educator Workshop,Evening Event,Family Event,Hiking,Meeting,Mentored event,Morning Event,Orienteering,Streams and Rivers,Wildlife Education,Wildlife Watching
ATTACH;FMTTYPE=image/png:https://beoutdoorsarizona.org/wp-content/uploads/2025/04/mtn-biking.png
GEO:37.09024;-95.712891
END:VEVENT
END:VCALENDAR