BEGIN:VCALENDAR
VERSION:2.0
PRODID:-//Be Outdoors Arizona - ECPv6.15.20//NONSGML v1.0//EN
CALSCALE:GREGORIAN
METHOD:PUBLISH
X-ORIGINAL-URL:https://beoutdoorsarizona.org
X-WR-CALDESC:Events for Be Outdoors Arizona
REFRESH-INTERVAL;VALUE=DURATION:PT1H
X-Robots-Tag:noindex
X-PUBLISHED-TTL:PT1H
BEGIN:VTIMEZONE
TZID:America/Phoenix
BEGIN:STANDARD
TZOFFSETFROM:-0700
TZOFFSETTO:-0700
TZNAME:MST
DTSTART:20240101T000000
END:STANDARD
END:VTIMEZONE
BEGIN:VEVENT
DTSTART;TZID=America/Phoenix:20250826T074500
DTEND;TZID=America/Phoenix:20250826T100000
DTSTAMP:20260425T141227
CREATED:20250729T203925Z
LAST-MODIFIED:20250729T203925Z
UID:10014868-1756194300-1756202400@beoutdoorsarizona.org
SUMMARY:Tuesday Trekkers-Low Impact Hike
DESCRIPTION:The term “low impact hiking” means that our hikes are shorter than other hiking groups\, and we try to avoid challenging hills.  Our hikes are usually about 3 miles. It’s an interesting experience to lead a hike\, so we are always on the lookout for volunteer leaders.  If you have any questions or suggestions\, please contact Heather Steiner\, steinerhm@aol.com or Ed Gorny\, ejgorny@gmail.com. \nPlease meet at 7:45 a.m. for an 8:00 a.m. departure from the parking lot on the south side of the Pinetop McDonalds. Suggested rideshare for short drives $2 person; longer drives $5 per person. \nPanorama Trail #635: The short loop is more easily navigated by continuing to the right and using the shortcut trail on your return.
URL:https://beoutdoorsarizona.org/event/tuesday-trekkers-low-impact-hike-4/
LOCATION:Pinetop McDonalds\, 6 White Mountain Road\, Pinetop\, AZ\, 85929\, United States
CATEGORIES:Hiking
ATTACH;FMTTYPE=image/png:https://beoutdoorsarizona.org/wp-content/uploads/2025/04/hiking-mntn.png
ORGANIZER;CN="TRACKS White Mountain":MAILTO:info@trackswhitemountains.org
END:VEVENT
BEGIN:VEVENT
DTSTART;TZID=America/Phoenix:20250819T074500
DTEND;TZID=America/Phoenix:20250819T100000
DTSTAMP:20260425T141227
CREATED:20250729T203846Z
LAST-MODIFIED:20250729T203846Z
UID:10014867-1755589500-1755597600@beoutdoorsarizona.org
SUMMARY:Tuesday Trekkers-Low Impact Hike
DESCRIPTION:The term “low impact hiking” means that our hikes are shorter than other hiking groups\, and we try to avoid challenging hills.  Our hikes are usually about 3 miles. It’s an interesting experience to lead a hike\, so we are always on the lookout for volunteer leaders.  If you have any questions or suggestions\, please contact Heather Steiner\, steinerhm@aol.com or Ed Gorny\, ejgorny@gmail.com. \nPlease meet at 7:45 a.m. for an 8:00 a.m. departure from the parking lot on the south side of the Pinetop McDonalds. Suggested rideshare for short drives $2 person; longer drives $5 per person. \nBuena Vista: This is the closest trail to Show Low. It follows portions of old logging roads through oak trees.
URL:https://beoutdoorsarizona.org/event/tuesday-trekkers-low-impact-hike-3/
LOCATION:Pinetop McDonalds\, 6 White Mountain Road\, Pinetop\, AZ\, 85929\, United States
CATEGORIES:Hiking
ATTACH;FMTTYPE=image/png:https://beoutdoorsarizona.org/wp-content/uploads/2025/04/hiking-mntn.png
ORGANIZER;CN="TRACKS White Mountain":MAILTO:info@trackswhitemountains.org
END:VEVENT
BEGIN:VEVENT
DTSTART;TZID=America/Phoenix:20250812T074500
DTEND;TZID=America/Phoenix:20250812T100000
DTSTAMP:20260425T141227
CREATED:20250729T203745Z
LAST-MODIFIED:20250729T203745Z
UID:10014866-1754984700-1754992800@beoutdoorsarizona.org
SUMMARY:Tuesday Trekkers-Low Impact Hike
DESCRIPTION:The term “low impact hiking” means that our hikes are shorter than other hiking groups\, and we try to avoid challenging hills.  Our hikes are usually about 3 miles. It’s an interesting experience to lead a hike\, so we are always on the lookout for volunteer leaders.  If you have any questions or suggestions\, please contact Heather Steiner\, steinerhm@aol.com or Ed Gorny\, ejgorny@gmail.com. \nPlease meet at 7:45 a.m. for an 8:00 a.m. departure from the parking lot on the south side of the Pinetop McDonalds. Suggested rideshare for short drives $2 person; longer drives $5 per person. \nBlue Ridge lower trail follows Billy Creek and winds its way through a wet meadow and oak-pine woods.
URL:https://beoutdoorsarizona.org/event/tuesday-trekkers-low-impact-hike-2/
LOCATION:Pinetop McDonalds\, 6 White Mountain Road\, Pinetop\, AZ\, 85929\, United States
CATEGORIES:Hiking
ATTACH;FMTTYPE=image/png:https://beoutdoorsarizona.org/wp-content/uploads/2025/04/hiking-mntn.png
ORGANIZER;CN="TRACKS White Mountain":MAILTO:info@trackswhitemountains.org
END:VEVENT
BEGIN:VEVENT
DTSTART;TZID=America/Phoenix:20250805T074500
DTEND;TZID=America/Phoenix:20250805T093000
DTSTAMP:20260425T141227
CREATED:20250729T203553Z
LAST-MODIFIED:20250729T203553Z
UID:10014865-1754379900-1754386200@beoutdoorsarizona.org
SUMMARY:Tuesday Trekkers-Low Impact Hike
DESCRIPTION:The term “low impact hiking” means that our hikes are shorter than other hiking groups\, and we try to avoid challenging hills.  Our hikes are usually about 3 miles. It’s an interesting experience to lead a hike\, so we are always on the lookout for volunteer leaders.  If you have any questions or suggestions\, please contact Heather Steiner\, steinerhm@aol.com or Ed Gorny\, ejgorny@gmail.com. \nPlease meet at 7:45 a.m. for an 8:00 a.m. departure from the parking lot on the south side of the Pinetop McDonalds. Suggested rideshare for short drives $2 person; longer drives $5 per person. \nChipmunk Connector No. 631A from the Vernon-McNary Road (FR 224) to the Los Burro Trail.
URL:https://beoutdoorsarizona.org/event/tuesday-trekkers-low-impact-hike/
LOCATION:Pinetop McDonalds\, 6 White Mountain Road\, Pinetop\, AZ\, 85929\, United States
CATEGORIES:Hiking
ORGANIZER;CN="TRACKS White Mountain":MAILTO:info@trackswhitemountains.org
END:VEVENT
END:VCALENDAR