BEGIN:VCALENDAR
VERSION:2.0
PRODID:-//Be Outdoors Arizona - ECPv6.15.20//NONSGML v1.0//EN
CALSCALE:GREGORIAN
METHOD:PUBLISH
X-WR-CALNAME:Be Outdoors Arizona
X-ORIGINAL-URL:https://beoutdoorsarizona.org
X-WR-CALDESC:Events for Be Outdoors Arizona
REFRESH-INTERVAL;VALUE=DURATION:PT1H
X-Robots-Tag:noindex
X-PUBLISHED-TTL:PT1H
BEGIN:VTIMEZONE
TZID:America/Phoenix
BEGIN:STANDARD
TZOFFSETFROM:-0700
TZOFFSETTO:-0700
TZNAME:MST
DTSTART:20240101T000000
END:STANDARD
END:VTIMEZONE
BEGIN:VEVENT
DTSTART;TZID=America/Phoenix:20250913T080000
DTEND;TZID=America/Phoenix:20250913T170000
DTSTAMP:20260424T203513
CREATED:20250830T205614Z
LAST-MODIFIED:20250830T205629Z
UID:10014964-1757750400-1757782800@beoutdoorsarizona.org
SUMMARY:🎣✨ Saturday Fly Fishing at Lower Goldwater Lake ✨🎣
DESCRIPTION:Spend your Saturday surrounded by fresh mountain air and the peaceful waters of Lower Goldwater Lake while casting for trout! 🐟🌲 Whether you’re new to fly fishing or a seasoned angler\, this is the perfect chance to relax\, learn\, and connect with others who share your love of the sport. \nBring your own fly tying materials\, or borrow gear and tips from fishing professionals who will be on hand to help you improve your technique. It’s a great opportunity to swap stories\, pick up new skills\, and maybe even reel in the catch of the day! 🎉 \n📍 Location: Lower Goldwater Lake💵 Parking: $2 fee✅ All ages and skill levels welcome \nCome for the fishing\, stay for the community—make your Saturday an adventure on the water! 🌊🌿
URL:https://beoutdoorsarizona.org/event/%f0%9f%8e%a3%e2%9c%a8-saturday-fly-fishing-at-lower-goldwater-lake-%e2%9c%a8%f0%9f%8e%a3/
LOCATION:Lower Goldwater Lake\, 2875 S Goldwater Lake Rd.\, Prescott\, 86303
CATEGORIES:Bird Watching,Evening Event,Fishing,Flyfishing,Meeting,Streams and Rivers,Wildlife Education,Wildlife Watching
ATTACH;FMTTYPE=image/png:https://beoutdoorsarizona.org/wp-content/uploads/2025/04/Fishing-flyfishing-2.png
END:VEVENT
END:VCALENDAR