BEGIN:VCALENDAR
VERSION:2.0
PRODID:-//Be Outdoors Arizona - ECPv6.15.20//NONSGML v1.0//EN
CALSCALE:GREGORIAN
METHOD:PUBLISH
X-WR-CALNAME:Be Outdoors Arizona
X-ORIGINAL-URL:https://beoutdoorsarizona.org
X-WR-CALDESC:Events for Be Outdoors Arizona
REFRESH-INTERVAL;VALUE=DURATION:PT1H
X-Robots-Tag:noindex
X-PUBLISHED-TTL:PT1H
BEGIN:VTIMEZONE
TZID:America/Phoenix
BEGIN:STANDARD
TZOFFSETFROM:-0700
TZOFFSETTO:-0700
TZNAME:MST
DTSTART:20240101T000000
END:STANDARD
END:VTIMEZONE
BEGIN:VEVENT
DTSTART;TZID=America/Phoenix:20250929T080000
DTEND;TZID=America/Phoenix:20250929T103000
DTSTAMP:20260421T152606
CREATED:20250930T193524Z
LAST-MODIFIED:20250930T193524Z
UID:10014987-1759132800-1759141800@beoutdoorsarizona.org
SUMMARY:Bird Lovers Unite: Morning Walk Along the Verde River
DESCRIPTION:🦉 Start your morning with a birding adventure on the Jail Trail! \nJoin us for a scenic walk along the Verde River\, keeping your eyes peeled for owls\, hawks\, and a variety of local birds. This one-mile trail is perfect for bird enthusiasts of all levels and a great way to enjoy nature while getting some fresh air and exercise. \nBring your binoculars\, your curiosity\, and a love of wildlife for a memorable morning outing!
URL:https://beoutdoorsarizona.org/event/bird-lovers-unite-morning-walk-along-the-verde-river/
LOCATION:Jail Trail\, 1101 N Main St.\, Cottonwood\, 86326
CATEGORIES:Bird Watching,Streams and Rivers,Trails,Wildlife Watching
ATTACH;FMTTYPE=image/jpeg:https://beoutdoorsarizona.org/wp-content/uploads/2025/07/Great-horned-owl-Rory-Aikens.jpeg
END:VEVENT
END:VCALENDAR