BEGIN:VCALENDAR
VERSION:2.0
PRODID:-//Be Outdoors Arizona - ECPv6.15.20//NONSGML v1.0//EN
CALSCALE:GREGORIAN
METHOD:PUBLISH
X-WR-CALNAME:Be Outdoors Arizona
X-ORIGINAL-URL:https://beoutdoorsarizona.org
X-WR-CALDESC:Events for Be Outdoors Arizona
REFRESH-INTERVAL;VALUE=DURATION:PT1H
X-Robots-Tag:noindex
X-PUBLISHED-TTL:PT1H
BEGIN:VTIMEZONE
TZID:America/Phoenix
BEGIN:STANDARD
TZOFFSETFROM:-0700
TZOFFSETTO:-0700
TZNAME:MST
DTSTART:20250101T000000
END:STANDARD
END:VTIMEZONE
BEGIN:VEVENT
DTSTART;TZID=America/Phoenix:20260421T090000
DTEND;TZID=America/Phoenix:20260421T223000
DTSTAMP:20260423T110200
CREATED:20240604T225702Z
LAST-MODIFIED:20250407T155442Z
UID:10006988-1776762000-1776810600@beoutdoorsarizona.org
SUMMARY:Biking in the White Mountains - Tuesdays
DESCRIPTION:Bikes need to be in condition and ready to ride. Helmets are required. Our rides are social\, not competitive\, with distances determined by the leader and depending on who shows up. If you are not yet on the mountain bike list\, please send an email to Suzanne Milligan at suzanne.milligan@yahoo.com.
URL:https://beoutdoorsarizona.org/event/biking-in-the-white-mountains-thursdays/2026-04-21/
LOCATION:Fire Escape East Lane
CATEGORIES:Biking
ATTACH;FMTTYPE=image/png:https://beoutdoorsarizona.org/wp-content/uploads/2024/06/biking.png
ORGANIZER;CN="TRACKS White Mountain":MAILTO:info@trackswhitemountains.org
END:VEVENT
END:VCALENDAR