BEGIN:VCALENDAR
VERSION:2.0
PRODID:-//Be Outdoors Arizona - ECPv6.15.20//NONSGML v1.0//EN
CALSCALE:GREGORIAN
METHOD:PUBLISH
X-ORIGINAL-URL:https://beoutdoorsarizona.org
X-WR-CALDESC:Events for Be Outdoors Arizona
REFRESH-INTERVAL;VALUE=DURATION:PT1H
X-Robots-Tag:noindex
X-PUBLISHED-TTL:PT1H
BEGIN:VTIMEZONE
TZID:America/Phoenix
BEGIN:STANDARD
TZOFFSETFROM:-0700
TZOFFSETTO:-0700
TZNAME:MST
DTSTART:20240101T000000
END:STANDARD
END:VTIMEZONE
BEGIN:VEVENT
DTSTART;TZID=America/Phoenix:20260416T170000
DTEND;TZID=America/Phoenix:20260419T230000
DTSTAMP:20260424T120225
CREATED:20250831T023840Z
LAST-MODIFIED:20250831T023904Z
UID:10014939-1776358800-1776639600@beoutdoorsarizona.org
SUMMARY:🦃🏹 Youth Mentored Turkey Hunting Camp (Units 1 & 27)  – Learn\, Hunt & Explore the Outdoors!
DESCRIPTION:Get ready for an unforgettable outdoor adventure! This mentored turkey hunting camp is designed for youth hunters who want to learn the skills\, strategies\, and ethics of hunting wild turkeys in a safe and supportive environment. \n🌟 Camp Highlights: \n\n\nExpert-led seminars covering turkey behavior\, calling techniques\, and hunting strategies \n\n\nHands-on outdoor skills training\, including tracking\, scouting\, and field techniques \n\n\nFun activities designed to enhance your hunting knowledge and confidence \n\n\nCentralized group camping where participants can connect with mentors and peers \n\n\nMeals provided to fuel your day and make the experience worry-free \n\n\nOpportunities to practice skills and gain real-world hunting experience \n\n\n\n🎒 What to Bring – Youth Turkey Hunting Camp Checklist\nClothing & Personal Gear: \n\n\nSturdy\, closed-toe shoes or boots \n\n\nWeather-appropriate clothing (layers recommended) \n\n\nHat & sunglasses \n\n\nRain jacket or windbreaker \n\n\nPersonal toiletries \n\n\nCamping & Outdoor Gear: \n\n\nSleeping bag or bedding \n\n\nTent (if not provided) \n\n\nFlashlight or headlamp + extra batteries \n\n\nCamp chair (optional) \n\n\nHunting Essentials: \n\n\nHunting gear (appropriate firearm or bow as applicable) \n\n\nYouth hunting license / turkey tag \n\n\nBinoculars (optional) \n\n\nWater bottle / hydration pack \n\n\nSnacks (optional) \n\n\nOther: \n\n\nPersonal medications or special items \n\n\nSunscreen & insect repellent \n\n\nNotebook & pen (for notes and observations) \n\n\n📌 Meals are provided; all mentoring and instruction included. \n\n📌 Important Registration Information\n\n\nRegistration opens February 1\, 2026 at 11:00 PM CST \n\n\nSpots are limited—register early to guarantee participation! \n\n\n🌐 Learn More & Register: www.youthoutdoorsunlimited.com
URL:https://beoutdoorsarizona.org/event/%f0%9f%a6%83%f0%9f%8f%b9-youth-mentored-turkey-hunting-camp-units-1-27-learn-hunt-explore-the-outdoors/
LOCATION:Hidden Meadows / Fish Creek\, Highway 260 & FR 1325 Greer\,\, AZ 85927
CATEGORIES:Flyfishing,Hunting,Shooting Sports,Wildlife Education,Wildlife Watching,Youth Event
ATTACH;FMTTYPE=image/jpeg:https://beoutdoorsarizona.org/wp-content/uploads/2025/07/Family-Camp-out-Catalina.jpeg
END:VEVENT
BEGIN:VEVENT
DTSTART;TZID=America/Phoenix:20260122T170000
DTEND;TZID=America/Phoenix:20260125T230000
DTSTAMP:20260424T120225
CREATED:20250831T014104Z
LAST-MODIFIED:20250831T014129Z
UID:10014899-1769101200-1769382000@beoutdoorsarizona.org
SUMMARY:🐗🎯  Unit 20C Outdoor Skills & Hunting Adventure: Youth Javelina & Small Game Camp🏕️
DESCRIPTION:Calling all youth hunters! Join us for an exciting hands-on hunting camp where young outdoors enthusiasts will learn javelina and small game hunting skills under the guidance of experienced mentors. This camp combines education\, adventure\, and fun in a safe and supportive environment. \n🌟 Camp Highlights: \n\n\nMentorship from experienced hunters to guide youth through every step \n\n\nHands-on training in:• Javelina hunting techniques• Small game hunting (rabbits\, quail\, and more)• Outdoor survival skills \n\n\nFun outdoor activities at base camp \n\n\nCooked meals provided to keep everyone energized \n\n\nOpportunities to build confidence\, teamwork\, and outdoor skills \n\n\n🌐 Learn More & Register: www.youthoutdoorsunlimited.com \n\n📌 Important Registration Information\n\n\nRegistration opens November 10\, 2025 at 5:30 PM CST \n\n\nSpots are limited—register early to secure your child’s participation! \n\n\n\n🎒 What to Bring – Youth Hunting Camp Checklist\nClothing & Personal Gear: \n\n\nSturdy\, closed-toe shoes or boots \n\n\nWeather-appropriate layers (cool mornings\, warmer afternoons) \n\n\nHat & sunglasses \n\n\nRain jacket or windbreaker \n\n\nPersonal toiletries \n\n\nCamping Gear: \n\n\nSleeping bag or bedding \n\n\nTent (if not provided) \n\n\nFlashlight or headlamp + extra batteries \n\n\nCamp chair (optional) \n\n\nHunting & Outdoor Essentials: \n\n\nHunting gear (appropriate firearm or bow\, if applicable) \n\n\nHunting license / tag (if required) \n\n\nBinoculars (optional) \n\n\nWater bottle / hydration pack \n\n\nSnacks (optional) \n\n\nOther: \n\n\nPersonal medications or special items \n\n\nSunscreen & insect repellent \n\n\nNotebook & pen (for learning and observations) \n\n\n📌 Meals are provided throughout the camp. All mentoring\, hunting\, and outdoor instruction are included. \n\n🚗 Directions to Camp (from Phoenix):\n\n\nTake I-17 North toward Flagstaff. \n\n\nExit onto Carefree Highway (AZ-74) and head west. \n\n\nTurn right onto US-60 W toward Wickenburg. \n\n\nAt the first roundabout in Wickenburg\, stay right. \n\n\n\n\nMerge onto US-93 N and drive 5.8 miles. \n\n\nTurn onto AZ-89 N (Congress) and continue through Congress. \n\n\nAbout 2 miles past Congress\, turn left onto Date Creek Road. \n\n\nLook for a rock painted like a frog at the turn! 🐸 \n\n\n\n\nDrive 15.3 miles on Date Creek Road\, then turn left onto a dirt road. \n\n\nCamp entrance will be on the right-hand side. \n\n\n\n📞 Contact for More Information:Youth Outdoors Unlimited
URL:https://beoutdoorsarizona.org/event/%f0%9f%90%97%f0%9f%8e%af-unit-20c-outdoor-skills-hunting-adventure-youth-javelina-small-game-camp%f0%9f%8f%95%ef%b8%8f/
LOCATION:Date Creek – Sunflower Flat\, 13565 Date Creek Rd. Congress\,\, AZ 85332
CATEGORIES:Bird Watching,Educational/Training/Workshop,Hunting,Meeting,Mentored event,Wildlife Education,Youth Event
ATTACH;FMTTYPE=image/jpeg:https://beoutdoorsarizona.org/wp-content/uploads/2025/07/Family-Camp-out-Catalina.jpeg
GEO:34.3553981;-112.9341093
X-APPLE-STRUCTURED-LOCATION;VALUE=URI;X-ADDRESS=Date Creek – Sunflower Flat 13565 Date Creek Rd. Congress AZ 85332;X-APPLE-RADIUS=500;X-TITLE=13565 Date Creek Rd. Congress\,:geo:-112.9341093,34.3553981
END:VEVENT
BEGIN:VEVENT
DTSTART;TZID=America/Phoenix:20251121T170000
DTEND;TZID=America/Phoenix:20251123T230000
DTSTAMP:20260424T120225
CREATED:20250831T004006Z
LAST-MODIFIED:20250831T004041Z
UID:10014895-1763744400-1763938800@beoutdoorsarizona.org
SUMMARY:🎯 Youth Predator & Small Game Hunting Camp – Learn\, Hunt\, and Explore the Outdoors! 🏕️
DESCRIPTION:Ready to take your first steps into the world of hunting? Join us at this hands-on youth hunting camp\, designed to teach the basics of predator hunting and more! \n🔹 What You’ll Learn: \n\n\nPredator hunting fundamentals – calling\, stands\, and tracking \n\n\nSmall game hunting for rabbits and desert quail \n\n\nOutdoor and survival skills \n\n\nMentorship from experienced hunters \n\n\n🍳 Perks of Camp: \n\n\nDelicious cooked meals provided \n\n\nOutdoor activities for all skill levels \n\n\nMentors available to guide youth every step of the way \n\n\n🌐 Learn More & Register: www.youthoutdoorsunlimited.com \n📍 \n📍 Getting to Camp (from Phoenix): \n\n\nTake I-17 North toward Flagstaff. \n\n\nExit onto Carefree Highway (AZ-74) and head west. \n\n\nTurn right onto US-60 W toward Wickenburg. \n\n\nAt the first roundabout in Wickenburg\, stay to the right. \n\n\n\n\nMerge onto US-93 N and drive 5.8 miles. \n\n\nTurn onto AZ-89 N (Congress) and continue through town. \n\n\nAbout 2 miles past Congress\, turn left onto Date Creek Road. \n\n\nLook for a rock painted like a frog at the turn! 🐸 \n\n\n\n\nDrive 15.3 miles on Date Creek Road\, then turn left onto a dirt road. \n\n\nThe camp entrance will be on the right-hand side. \n\n\n⚠️ Important: Registration opens October 1\, 2025 at 5:15 PM CDT. Spots are limited—don’t miss out!
URL:https://beoutdoorsarizona.org/event/%f0%9f%8e%af-youth-predator-small-game-hunting-camp-learn-hunt-and-explore-the-outdoors-%f0%9f%8f%95%ef%b8%8f/
LOCATION:Date Creek – Sunflower Flat\, 13565 Date Creek Rd. Congress\,\, AZ 85332
CATEGORIES:Family Event,Hunting,Mentored event,Shooting Sports,Youth Event
ATTACH;FMTTYPE=image/jpeg:https://beoutdoorsarizona.org/wp-content/uploads/2025/07/Campfire-Kids.jpeg
GEO:34.3553981;-112.9341093
X-APPLE-STRUCTURED-LOCATION;VALUE=URI;X-ADDRESS=Date Creek – Sunflower Flat 13565 Date Creek Rd. Congress AZ 85332;X-APPLE-RADIUS=500;X-TITLE=13565 Date Creek Rd. Congress\,:geo:-112.9341093,34.3553981
END:VEVENT
BEGIN:VEVENT
DTSTART;TZID=America/Phoenix:20250417T170000
DTEND;TZID=America/Phoenix:20250420T130000
DTSTAMP:20260424T120225
CREATED:20240608T133706Z
LAST-MODIFIED:20240608T133706Z
UID:10008322-1744909200-1745154000@beoutdoorsarizona.org
SUMMARY:Unit 1 & 27 Youth Spring Turkey Hunt Camp - Marvin Robbins Memorial - YOU
DESCRIPTION:Apr. 17-20\, 2025: Units 1 & 27 Youth Spring Turkey Hunt Camp – Marvin Robbins Memorial \nLearn to hunt wild turkeys at this mentored turkey hunting camp. Seminars\, outdoor skills\, activities\, camping and meals provided.
URL:https://beoutdoorsarizona.org/event/unit-1-27-youth-spring-turkey-hunt-camp-marvin-robbins-memorial-you/
LOCATION:Lightning Ridge Trailhead – Basin Lake\, Arizona 273 and Forest Service Road 116\, Greer\, AZ\, 85927\, United States
CATEGORIES:Hunting,Youth Event
GEO:34.0021566;-109.4554319
X-APPLE-STRUCTURED-LOCATION;VALUE=URI;X-ADDRESS=Lightning Ridge Trailhead – Basin Lake Arizona 273 and Forest Service Road 116 Greer AZ 85927 United States;X-APPLE-RADIUS=500;X-TITLE=Arizona 273 and Forest Service Road 116:geo:-109.4554319,34.0021566
END:VEVENT
END:VCALENDAR