BEGIN:VCALENDAR
VERSION:2.0
PRODID:-//Be Outdoors Arizona - ECPv6.15.20//NONSGML v1.0//EN
CALSCALE:GREGORIAN
METHOD:PUBLISH
X-ORIGINAL-URL:https://beoutdoorsarizona.org
X-WR-CALDESC:Events for Be Outdoors Arizona
REFRESH-INTERVAL;VALUE=DURATION:PT1H
X-Robots-Tag:noindex
X-PUBLISHED-TTL:PT1H
BEGIN:VTIMEZONE
TZID:America/Phoenix
BEGIN:STANDARD
TZOFFSETFROM:-0700
TZOFFSETTO:-0700
TZNAME:MST
DTSTART:20250101T000000
END:STANDARD
END:VTIMEZONE
BEGIN:VEVENT
DTSTART;TZID=America/Phoenix:20260509T063000
DTEND;TZID=America/Phoenix:20260509T083000
DTSTAMP:20260420T161011
CREATED:20250710T211912Z
LAST-MODIFIED:20250710T211912Z
UID:10014521-1778308200-1778315400@beoutdoorsarizona.org
SUMMARY:Trail Work Days
DESCRIPTION:Yavapai Trails Association has worked with Prescott National Forest to set up each 2nd and 4th Saturday of the month as a trail workday. \nAt our work events you may enjoy routine brushing or trail building\, and occasionally we’ll spend a Saturday doing something a bit more adventurous. We may hike out further or do a slightly different type of work. Emails will go out prior to each work event with all the details. Please read them carefully to decide which work events are a good fit for you. \nYou may sign up to receive work event emails by sending an email to: yta.benefit@gmail.com and requesting to be added to our email list for volunteer workers. You do not need to be a member to join us for work events\, although we would appreciate it. Keep your eyes on our website and those emails! There may be opportunities for work every Saturday. \nThank you and Happy Trails! \nLook for an email just before each scheduled workday to remind you to RSVP and announce the location. Thank you for all your volunteer hours. \n*If you have them\, please bring your own hard hat/bike helmet\, gloves\, and eye protection. If you don’t have them\, we are able to provide those items. As always\, make sure to wear long sleeve shirts\, pants\, closed-toe shoes\, and bring snacks/water for the morning.
URL:https://beoutdoorsarizona.org/event/trail-work-days/2026-05-09/
LOCATION:TBD
CATEGORIES:Volunteering
ATTACH;FMTTYPE=image/png:https://beoutdoorsarizona.org/wp-content/uploads/2025/02/volunteering.png
END:VEVENT
BEGIN:VEVENT
DTSTART;TZID=America/Phoenix:20260509T080000
DTEND;TZID=America/Phoenix:20260509T120000
DTSTAMP:20260420T161011
CREATED:20240603T170547Z
LAST-MODIFIED:20240603T170547Z
UID:10005571-1778313600-1778328000@beoutdoorsarizona.org
SUMMARY:Upcoming Trail Workdays
DESCRIPTION:Yavapai Trails Association has worked with Prescott National Forest to set up each 2nd Saturday of the month as a trail workday. \nContact yavapai.trails@gmail.com to sign up \nLook for an email just before each scheduled workday to remind you to RSVP and announce the location. Thank you for all your volunteer hours. \n*If you have them\, please bring your own hard hat/bike helmet\, gloves\, and eye protection. If you don’t have them\, we are able to provide those items. As always\, make sure to wear long sleeve shirts\, pants\, closed-toe shoes\, and bring snacks/water for the morning.
URL:https://beoutdoorsarizona.org/event/upcoming-trail-workdays/2026-05-09/
LOCATION:TBD
CATEGORIES:Volunteering
END:VEVENT
END:VCALENDAR