BEGIN:VCALENDAR
VERSION:2.0
PRODID:-//Be Outdoors Arizona - ECPv6.15.20//NONSGML v1.0//EN
CALSCALE:GREGORIAN
METHOD:PUBLISH
X-ORIGINAL-URL:https://beoutdoorsarizona.org
X-WR-CALDESC:Events for Be Outdoors Arizona
REFRESH-INTERVAL;VALUE=DURATION:PT1H
X-Robots-Tag:noindex
X-PUBLISHED-TTL:PT1H
BEGIN:VTIMEZONE
TZID:America/Phoenix
BEGIN:STANDARD
TZOFFSETFROM:-0700
TZOFFSETTO:-0700
TZNAME:MST
DTSTART:20240101T000000
END:STANDARD
END:VTIMEZONE
BEGIN:VEVENT
DTSTART;TZID=America/Phoenix:20251020T160000
DTEND;TZID=America/Phoenix:20261020T190000
DTSTAMP:20260421T151121
CREATED:20250709T200358Z
LAST-MODIFIED:20250709T200358Z
UID:10012898-1760976000-1792522800@beoutdoorsarizona.org
SUMMARY:Plateau Perspectives: Nature  Through Art presented by ARTx @ The Arb
DESCRIPTION:plateau perspectives: Nature Through Art celebrates  the Colorado Plateau. set  amid  the natural  beauty of the Arboretum at  flagstaff\, this  exhibition  invites artists to explore  and amplify the  stories  of native plants and ecological processes  that  define  this extraordinary  region. The  exhibition centers
URL:https://beoutdoorsarizona.org/event/plateau-perspectives-nature-through-art-presented-by-artx-the-arb/
LOCATION:4001 S. woody Mountain Road\, flagstaff\, Az\, United states
CATEGORIES:Botany,Ecology
ORGANIZER;CN="The Arboretum at Flagstaff":MAILTO:events@thearb.org
END:VEVENT
END:VCALENDAR