BEGIN:VCALENDAR
VERSION:2.0
PRODID:-//Be Outdoors Arizona - ECPv6.15.20//NONSGML v1.0//EN
CALSCALE:GREGORIAN
METHOD:PUBLISH
X-ORIGINAL-URL:https://beoutdoorsarizona.org
X-WR-CALDESC:Events for Be Outdoors Arizona
REFRESH-INTERVAL;VALUE=DURATION:PT1H
X-Robots-Tag:noindex
X-PUBLISHED-TTL:PT1H
BEGIN:VTIMEZONE
TZID:America/Phoenix
BEGIN:STANDARD
TZOFFSETFROM:-0700
TZOFFSETTO:-0700
TZNAME:MST
DTSTART:20240101T000000
END:STANDARD
END:VTIMEZONE
BEGIN:VEVENT
DTSTART;TZID=America/Phoenix:20251113T080000
DTEND;TZID=America/Phoenix:20251114T173000
DTSTAMP:20260422T204253
CREATED:20250831T002914Z
LAST-MODIFIED:20250831T003012Z
UID:10014941-1763020800-1763141400@beoutdoorsarizona.org
SUMMARY:🌟 Master the Art of Facilitation: 16-Hour Training for Leaders & Changemakers 🌟
DESCRIPTION:Ready to transform the way you lead meetings in natural resource and community settings? This hands-on\, 16-hour training will equip you with the tools\, strategies\, and confidence to design and facilitate meetings that truly engage and inspire. \n✨ What You’ll Gain: \n\n\n🌎 Explore Applications of Facilitation – discover how facilitation can be used in diverse community and resource settings \n\n\n📚 Learn Best Practices – gain key principles that make meetings productive and meaningful \n\n\n🎤 Build Real Skills – practice facilitation techniques and strengthen your confidence \n\n\n💻 Design for Any Setting – learn methods for both in-person and virtual meetings\, from small team sessions to large-scale public workshops \n\n\n🧩 Problem-Solve Real Challenges – work through scenarios and leave with practical strategies you can apply immediately \n\n\n🤝 Grow Your Network – connect with peers who share your passion for effective\, inclusive collaboration \n\n\n📅 Don’t miss this chance to sharpen your facilitation skills and take your leadership to the next level! \n👉 Buy Tickets: Buy tickets👉 Need Help?: Need help?👉 Manage Tickets: Manage tickets
URL:https://beoutdoorsarizona.org/event/%f0%9f%8c%9f-master-the-art-of-facilitation-16-hour-training-for-leaders-changemakers-%f0%9f%8c%9f/
LOCATION:phonix
CATEGORIES:Educator Workshop,Mentored event
ATTACH;FMTTYPE=image/jpeg:https://beoutdoorsarizona.org/wp-content/uploads/2025/07/Hassayampa-River-Preserve.jpeg
ORGANIZER;CN="Southwest Wildlife Conservation Center":MAILTO:swcc@southwestwildlife.org
END:VEVENT
END:VCALENDAR