BEGIN:VCALENDAR
VERSION:2.0
PRODID:-//Be Outdoors Arizona - ECPv6.15.20//NONSGML v1.0//EN
CALSCALE:GREGORIAN
METHOD:PUBLISH
X-WR-CALNAME:Be Outdoors Arizona
X-ORIGINAL-URL:https://beoutdoorsarizona.org
X-WR-CALDESC:Events for Be Outdoors Arizona
REFRESH-INTERVAL;VALUE=DURATION:PT1H
X-Robots-Tag:noindex
X-PUBLISHED-TTL:PT1H
BEGIN:VTIMEZONE
TZID:America/Phoenix
BEGIN:STANDARD
TZOFFSETFROM:-0700
TZOFFSETTO:-0700
TZNAME:MST
DTSTART:20250101T000000
END:STANDARD
END:VTIMEZONE
BEGIN:VEVENT
DTSTART;TZID=America/Phoenix:20260422T153000
DTEND;TZID=America/Phoenix:20260422T173000
DTSTAMP:20260421T113655
CREATED:20260420T151234Z
LAST-MODIFIED:20260420T151234Z
UID:10015858-1776871800-1776879000@beoutdoorsarizona.org
SUMMARY:Attend WET Workshop for Wetland Educators
DESCRIPTION:The Arizona Wet Project is hosting a Wonders of Wetland workshop to teach educators. Wildlife educators will learn how to teach others about wetlands and complex river ecosystems.
URL:https://beoutdoorsarizona.org/event/attend-wet-workshop-for-wetland-educators/
LOCATION:Nina Mason Pulliam Rio Salado Audubon Center\, 3131 S. Central Avenue\, Phoenix\, AZ 85040\, 2801 S Central Ave\, United States
CATEGORIES:Educator Workshop,Networking Event
ATTACH;FMTTYPE=image/png:https://beoutdoorsarizona.org/wp-content/uploads/2025/02/meeting-class-seminar.png
ORGANIZER;CN="Rio Salado Audubon":MAILTO:riosalado@audubon.org
GEO:33.42086;-112.073302
X-APPLE-STRUCTURED-LOCATION;VALUE=URI;X-ADDRESS=Nina Mason Pulliam Rio Salado Audubon Center 3131 S. Central Avenue Phoenix AZ 85040 2801 S Central Ave United States;X-APPLE-RADIUS=500;X-TITLE=2801 S Central Ave:geo:-112.073302,33.42086
END:VEVENT
BEGIN:VEVENT
DTSTART;TZID=America/Phoenix:20260425T100000
DTEND;TZID=America/Phoenix:20260425T110000
DTSTAMP:20260421T113655
CREATED:20260420T151108Z
LAST-MODIFIED:20260420T151108Z
UID:10015862-1777111200-1777114800@beoutdoorsarizona.org
SUMMARY:Attend Nature Walk and Activities at Rio Salado
DESCRIPTION:Adults\, children and families are encouraged to take an easy\, scenic walk through the Rio Salado area. After the walk\, enjoy outdoor games and arts and crafts activities. Email riosalado@audubon.org or call 602-468-6470 for more information.
URL:https://beoutdoorsarizona.org/event/attend-nature-walk-and-activities-at-rio-salado/2026-04-25/
LOCATION:Nina Mason Pulliam Rio Salado Audubon Center\, 3131 S. Central Avenue\, Phoenix\, AZ 85040\, 2801 S Central Ave\, United States
CATEGORIES:Bird Watching,Conservation,Ecology,Family Event,Photography,Streams and Rivers,Tour,Trails,Wildlife Watching,Youth Event
ORGANIZER;CN="Rio Salado Audubon":MAILTO:riosalado@audubon.org
GEO:33.42086;-112.073302
X-APPLE-STRUCTURED-LOCATION;VALUE=URI;X-ADDRESS=Nina Mason Pulliam Rio Salado Audubon Center 3131 S. Central Avenue Phoenix AZ 85040 2801 S Central Ave United States;X-APPLE-RADIUS=500;X-TITLE=2801 S Central Ave:geo:-112.073302,33.42086
END:VEVENT
BEGIN:VEVENT
DTSTART;TZID=America/Phoenix:20260502T090000
DTEND;TZID=America/Phoenix:20260502T120000
DTSTAMP:20260421T113655
CREATED:20260420T150952Z
LAST-MODIFIED:20260420T151002Z
UID:10015864-1777712400-1777723200@beoutdoorsarizona.org
SUMMARY:Volunteer to Help Displaced Burrowing Owls
DESCRIPTION:This event involves trapping and relocating burrowing owls to safer\, less crowded areas where they will live in peace. Tools and guided instructions are provided to volunteers.
URL:https://beoutdoorsarizona.org/event/volunteer-to-help-displaced-burrowing-owls/
LOCATION:Wild At Heart Raptor Center\, 31840 N 45th St\, Cave Creek\, 85331
CATEGORIES:Bird Watching,Conservation,Trapping,Volunteering,Wildlife Watching
ATTACH;FMTTYPE=image/jpeg:https://beoutdoorsarizona.org/wp-content/uploads/2025/07/Burrowing-owls.jpeg
ORGANIZER;CN="Rio Salado Audubon":MAILTO:riosalado@audubon.org
END:VEVENT
END:VCALENDAR