BEGIN:VCALENDAR
VERSION:2.0
PRODID:-//Be Outdoors Arizona - ECPv6.15.20//NONSGML v1.0//EN
CALSCALE:GREGORIAN
METHOD:PUBLISH
X-WR-CALNAME:Be Outdoors Arizona
X-ORIGINAL-URL:https://beoutdoorsarizona.org
X-WR-CALDESC:Events for Be Outdoors Arizona
REFRESH-INTERVAL;VALUE=DURATION:PT1H
X-Robots-Tag:noindex
X-PUBLISHED-TTL:PT1H
BEGIN:VTIMEZONE
TZID:America/Phoenix
BEGIN:STANDARD
TZOFFSETFROM:-0700
TZOFFSETTO:-0700
TZNAME:MST
DTSTART:20240101T000000
END:STANDARD
END:VTIMEZONE
BEGIN:VEVENT
DTSTART;TZID=America/Phoenix:20251029T173000
DTEND;TZID=America/Phoenix:20251029T193000
DTSTAMP:20260421T153908
CREATED:20251103T022422Z
LAST-MODIFIED:20251103T022422Z
UID:10015047-1761759000-1761766200@beoutdoorsarizona.org
SUMMARY:🖤 Meet Shade the Raven and Unlock the Mysteries of These Fascinating Birds!
DESCRIPTION:Celebrate the spirit of Halloween by learning more about one of its most iconic symbols — the raven! Join us for an enchanting presentation with guest speaker Dr. Emily Faun Cory\, who will explore the biology\, behavior\, and intriguing stories of ravens through captivating photographs and anecdotes. \nMeet Shade the Raven in person and discover what makes these intelligent\, mysterious birds so remarkable. From their clever problem-solving skills to their cultural significance\, this event is perfect for nature lovers\, wildlife enthusiasts\, and curious minds of all ages. \n✨ Experience the magic of ravens this Halloween season — and see why these black-feathered icons have captured imaginations for centuries!
URL:https://beoutdoorsarizona.org/event/%f0%9f%96%a4-meet-shade-the-raven-and-unlock-the-mysteries-of-these-fascinating-birds/
LOCATION:East Flagstaff Community Library\, 3000 N Fourth St\, Flagstaff\, 86004
CATEGORIES:Evening Event,Family Event,Meeting,Wildlife Education
ATTACH;FMTTYPE=image/png:https://beoutdoorsarizona.org/wp-content/uploads/2025/01/bird-watching.png
END:VEVENT
BEGIN:VEVENT
DTSTART;TZID=America/Phoenix:20251022T180000
DTEND;TZID=America/Phoenix:20251022T200000
DTSTAMP:20260421T153908
CREATED:20250930T191214Z
LAST-MODIFIED:20250930T191214Z
UID:10014989-1761156000-1761163200@beoutdoorsarizona.org
SUMMARY:Antarctica & the North Pole Through the Lens of Cindy Miller Hopkins
DESCRIPTION:📸 Join acclaimed wildlife photographer Cindy Miller Hopkins for an unforgettable journey to the Earth’s polar regions! \nIn this captivating talk\, Cindy will share her experiences traveling to Antarctica and the North Pole\, revealing the challenges and rewards of photographing wildlife in these remote\, icy landscapes. Learn about the unique species she encounters\, the techniques she uses to capture stunning images\, and the stories behind her incredible photographs. \nWhether you’re a photography enthusiast\, a wildlife lover\, or simply curious about the polar regions\, this talk promises to inspire and educate. \n 
URL:https://beoutdoorsarizona.org/event/antarctica-the-north-pole-through-the-lens-of-cindy-miller-hopkins/
LOCATION:Sedona Public Library\, 3250 White Bear Rd\, Sedona\, 86336
CATEGORIES:Bird Watching,Conservation,Evening Event,Meeting,Morning Event,Photography,Wildlife Education,Wildlife Watching
END:VEVENT
BEGIN:VEVENT
DTSTART;TZID=America/Phoenix:20251022T180000
DTEND;TZID=America/Phoenix:20251022T200000
DTSTAMP:20260421T153908
CREATED:20250830T234239Z
LAST-MODIFIED:20250830T234337Z
UID:10014945-1761156000-1761163200@beoutdoorsarizona.org
SUMMARY:📸❄️ Around the World Through the Lens: A Polar Adventure with Cindy Miller Hopkins ❄️📸
DESCRIPTION:Embark on an unforgettable photographic journey to the planet’s most remote corners with full-time travel and wildlife photographer Cindy Miller Hopkins. From the icy expanses of Antarctica to the geographic North Pole\, Cindy’s passion for the polar regions shines through—especially when it comes to her favorite residents: penguins and polar bears! 🐧🐻‍❄️ \nDuring this casual and interactive evening\, Cindy will share: \n\n\nThe challenges and rewards of exploring the polar regions \n\n\nHer favorite birding and wildlife photography spots around the globe \n\n\nInsider photo tips and techniques for capturing wildlife and landscapes \n\n\nFollow her adventures through stunning photographs\, hear the stories behind the shots\, and get inspired to see the world through a whole new lens. 🌎✨ \n  \n  \n 
URL:https://beoutdoorsarizona.org/event/%f0%9f%93%b8%e2%9d%84%ef%b8%8f-around-the-world-through-the-lens-a-polar-adventure-with-cindy-miller-hopkins-%e2%9d%84%ef%b8%8f%f0%9f%93%b8/
LOCATION:Sedona Public Library\, 3250 White Bear Rd\, Sedona\, 86336
CATEGORIES:Educational/Training/Workshop,Evening Event,Wildlife Education,Wildlife Watching
ATTACH;FMTTYPE=image/png:https://beoutdoorsarizona.org/wp-content/uploads/2025/07/virtual-seminar-bears.png
END:VEVENT
BEGIN:VEVENT
DTSTART;TZID=America/Phoenix:20251001T180000
DTEND;TZID=America/Phoenix:20251001T203000
DTSTAMP:20260421T153908
CREATED:20250930T192747Z
LAST-MODIFIED:20250930T192747Z
UID:10014988-1759341600-1759350600@beoutdoorsarizona.org
SUMMARY:Feathers & Facts: A Bird-Themed Trivia Night
DESCRIPTION:🦜 Think you know your birds? Put your knowledge to the test! \nJoin us for a fun and interactive trivia night featuring questions about the Pinyon Jay and a variety of other birds—vulnerable\, endangered\, and non-endangered alike. Test your skills while learning about bird conservation\, spotting interesting facts\, and even enjoying some pop culture twists along the way. \nWhether you’re a seasoned birder\, a trivia buff\, or just looking for a fun night out\, this event is sure to entertain and educate!
URL:https://beoutdoorsarizona.org/event/feathers-facts-a-bird-themed-trivia-night/
LOCATION:Drinking Horn Meadery\, 108 E Rte 66\, Flagstaff\, 86001
CATEGORIES:Conservation,Ecology,Evening Event,Meeting,Wildlife Education
ATTACH;FMTTYPE=image/png:https://beoutdoorsarizona.org/wp-content/uploads/2025/09/Pinyon-Jay.png
END:VEVENT
BEGIN:VEVENT
DTSTART;TZID=America/Phoenix:20250929T080000
DTEND;TZID=America/Phoenix:20250929T103000
DTSTAMP:20260421T153908
CREATED:20250930T193524Z
LAST-MODIFIED:20250930T193524Z
UID:10014987-1759132800-1759141800@beoutdoorsarizona.org
SUMMARY:Bird Lovers Unite: Morning Walk Along the Verde River
DESCRIPTION:🦉 Start your morning with a birding adventure on the Jail Trail! \nJoin us for a scenic walk along the Verde River\, keeping your eyes peeled for owls\, hawks\, and a variety of local birds. This one-mile trail is perfect for bird enthusiasts of all levels and a great way to enjoy nature while getting some fresh air and exercise. \nBring your binoculars\, your curiosity\, and a love of wildlife for a memorable morning outing!
URL:https://beoutdoorsarizona.org/event/bird-lovers-unite-morning-walk-along-the-verde-river/
LOCATION:Jail Trail\, 1101 N Main St.\, Cottonwood\, 86326
CATEGORIES:Bird Watching,Streams and Rivers,Trails,Wildlife Watching
ATTACH;FMTTYPE=image/jpeg:https://beoutdoorsarizona.org/wp-content/uploads/2025/07/Great-horned-owl-Rory-Aikens.jpeg
END:VEVENT
BEGIN:VEVENT
DTSTART;TZID=America/Phoenix:20250828T073000
DTEND;TZID=America/Phoenix:20250828T093000
DTSTAMP:20260421T153908
CREATED:20250825T211538Z
LAST-MODIFIED:20250825T211538Z
UID:10014944-1756366200-1756373400@beoutdoorsarizona.org
SUMMARY:Butterfly Walk with Becky
DESCRIPTION:Join Becky Hardy on a butterfly walk at Bubbling Ponds. We will walk approximately two miles along a mostly flat trail; however\, there are some unstable areas along the way. We will walk around the ponds and then the Black Hawk trail. Both are mostly sun-exposed. \nBring the usual: Hydration and closed-toed\, sturdy shoes\, binoculars\, a hat\, sunscreen\, a snack\, and a camera (if preferred).
URL:https://beoutdoorsarizona.org/event/butterfly-walk-with-becky/
LOCATION:Bubbling Ponds Preserve\, 1970 N Page Springs Rd\, Cornville\, 86325
CATEGORIES:Bugs/Insects/Butterflies,Tour,Wildlife Watching
ATTACH;FMTTYPE=image/png:https://beoutdoorsarizona.org/wp-content/uploads/2025/08/Butterfly.png
END:VEVENT
BEGIN:VEVENT
DTSTART;TZID=America/Phoenix:20250719T070000
DTEND;TZID=America/Phoenix:20250719T093000
DTSTAMP:20260421T153908
CREATED:20250718T152946Z
LAST-MODIFIED:20250718T152946Z
UID:10014809-1752908400-1752917400@beoutdoorsarizona.org
SUMMARY:See Summer Birds at Kachina Wetlands
DESCRIPTION:The Kachina Wetlands is hosting a bird walk for July. Learn about different species of birds’ behaviors and ecosystems. Bring binoculars and water for a two-mile walk. For questions\, email Harry Jones at hjones@birdpop.org.
URL:https://beoutdoorsarizona.org/event/see-summer-birds-at-kachina-wetlands/
LOCATION:Kachina Wetlands Preserve\, 2263 Utility Rd\, Flagstaff\, 86005\, United States
CATEGORIES:Bird Watching,Ecology,Medicinal/Edible Plants,Morning Event,Wildlife Education,Wildlife Watching
ATTACH;FMTTYPE=image/png:https://beoutdoorsarizona.org/wp-content/uploads/2025/04/wildlife-watching.png
END:VEVENT
BEGIN:VEVENT
DTSTART;TZID=America/Phoenix:20250617T060000
DTEND;TZID=America/Phoenix:20250617T110000
DTSTAMP:20260421T153908
CREATED:20250605T221741Z
LAST-MODIFIED:20250605T221741Z
UID:10012937-1750140000-1750158000@beoutdoorsarizona.org
SUMMARY:Look for Birds on Scenic Mingus Mountain
DESCRIPTION:Look for warblers\, crossbills\, flycatchers and more on this birdwatching trek. Mingus Mountain is a favorite place for hiking\, biking\, fishing and camping within the Black Hills Mountains. For questions\, contact footballmom27@gmail.com.
URL:https://beoutdoorsarizona.org/event/look-for-birds-on-scenic-mingus-mountain/
LOCATION:Tractor Supply\, 685 AZ-89A\, Cottonwood\, 86326
CATEGORIES:Bird Watching,Hiking,Morning Event,Streams and Rivers,Trails,Wildlife Watching
ATTACH;FMTTYPE=image/png:https://beoutdoorsarizona.org/wp-content/uploads/2025/04/birding.png
END:VEVENT
BEGIN:VEVENT
DTSTART;TZID=America/Phoenix:20250530T100000
DTEND;TZID=America/Phoenix:20250530T110000
DTSTAMP:20260421T153908
CREATED:20250606T173623Z
LAST-MODIFIED:20250606T173623Z
UID:10012920-1748599200-1748602800@beoutdoorsarizona.org
SUMMARY:Learn About Birds and Butterflies at Monarch Garden
DESCRIPTION:Learn about the ecology and ecosystems of birds and butterflies in a garden-based lecture. Also learn tips and tricks on creating the ideal habitat for both species. Bring a chair\, if you want\, to sit in the garden and tools to take notes.
URL:https://beoutdoorsarizona.org/event/learn-about-birds-and-butterflies-at-monarch-garden/
LOCATION:The Monarch Waystation garden\, 1600 N. Page Springs Rd.\, Cornville\, 86325
CATEGORIES:Bird Watching,Bugs/Insects/Butterflies,Conservation,Ecology,Evening Event,Meeting,Wildlife Education,Wildlife Watching
END:VEVENT
BEGIN:VEVENT
DTSTART;TZID=America/Phoenix:20250429T080000
DTEND;TZID=America/Phoenix:20250429T093000
DTSTAMP:20260421T153908
CREATED:20250428T161019Z
LAST-MODIFIED:20250428T161019Z
UID:10012892-1745913600-1745919000@beoutdoorsarizona.org
SUMMARY:Explore the Sedona Wetlands
DESCRIPTION:Spend one hour looking for migratory birds at the Sedona Wetlands\, a nature preserve that is ideal for bird watching.  Contact Rich at richarmstrong47@gmail.com or call 928-282-3675 for more information.
URL:https://beoutdoorsarizona.org/event/explore-the-sedona-wetlands/
LOCATION:Sedona Wetlands\, 7500 AZ-89A\, Sedona\, 86336
CATEGORIES:Bird Watching
ATTACH;FMTTYPE=image/png:https://beoutdoorsarizona.org/wp-content/uploads/2025/04/birding-2.png
END:VEVENT
END:VCALENDAR