BEGIN:VCALENDAR
VERSION:2.0
PRODID:-//Be Outdoors Arizona - ECPv6.15.20//NONSGML v1.0//EN
CALSCALE:GREGORIAN
METHOD:PUBLISH
X-ORIGINAL-URL:https://beoutdoorsarizona.org
X-WR-CALDESC:Events for Be Outdoors Arizona
REFRESH-INTERVAL;VALUE=DURATION:PT1H
X-Robots-Tag:noindex
X-PUBLISHED-TTL:PT1H
BEGIN:VTIMEZONE
TZID:America/Phoenix
BEGIN:STANDARD
TZOFFSETFROM:-0700
TZOFFSETTO:-0700
TZNAME:MST
DTSTART:20240101T000000
END:STANDARD
END:VTIMEZONE
BEGIN:VEVENT
DTSTART;VALUE=DATE:20250425
DTEND;VALUE=DATE:20250429
DTSTAMP:20260423T123130
CREATED:20250402T203437Z
LAST-MODIFIED:20250402T203437Z
UID:10012795-1745539200-1745884799@beoutdoorsarizona.org
SUMMARY:Phoenix Nature Challenge
DESCRIPTION:Do you like observing nature? Then make your observations count! April 25-28\, the Greater Phoenix Area will participate in the 2025 City Nature Challenge. This is a global effort to observe and document as much urban biodiversity as possible\, using iNaturalist.  \nThis is the 5th year the Greater Phoenix Area will be part of the international challenge\, co-organized by the @maricopamasternaturalists\, @ecoexplorersusa\, @maryloufultonasu\, @scistarter and @barretthonors.  \nWe’ve also tagged some of the amazing collaborators that are joining in on the fun. \nTag us in your best observations! 📸🔥 #CNC2025 #iNaturalist #CityNatureChallenge #GreaterPhoenixCNC \nThe City Nature Challenge is a friendly worldwide competition among cities to see whose residents can spot and identify the most wildlife. The CNC is a unique event that serves to connect people to their local nature in urban or metro areas worldwide. The hope of the event is to grow volunteer community science documentation while collecting urban biodiversity data that are available to managers and scientists but most importantly have fun while spending time outside!
URL:https://beoutdoorsarizona.org/event/phoenix-nature-challenge/
CATEGORIES:Educational/Training/Workshop,Family Event
ATTACH;FMTTYPE=image/png:https://beoutdoorsarizona.org/wp-content/uploads/2025/04/Nature-Challenge.png
END:VEVENT
END:VCALENDAR