BEGIN:VCALENDAR
VERSION:2.0
PRODID:-//Be Outdoors Arizona - ECPv6.15.20//NONSGML v1.0//EN
CALSCALE:GREGORIAN
METHOD:PUBLISH
X-WR-CALNAME:Be Outdoors Arizona
X-ORIGINAL-URL:https://beoutdoorsarizona.org
X-WR-CALDESC:Events for Be Outdoors Arizona
REFRESH-INTERVAL;VALUE=DURATION:PT1H
X-Robots-Tag:noindex
X-PUBLISHED-TTL:PT1H
BEGIN:VTIMEZONE
TZID:America/Phoenix
BEGIN:STANDARD
TZOFFSETFROM:-0700
TZOFFSETTO:-0700
TZNAME:MST
DTSTART:20240101T000000
END:STANDARD
END:VTIMEZONE
BEGIN:VEVENT
DTSTART;TZID=America/Phoenix:20250608T090000
DTEND;TZID=America/Phoenix:20250627T160000
DTSTAMP:20260425T175408
CREATED:20240608T134140Z
LAST-MODIFIED:20241203T175541Z
UID:10008325-1749373200-1751040000@beoutdoorsarizona.org
SUMMARY:Fish Camp 2025
DESCRIPTION:Weeklong\, hands-on\, immersive adventure for youth ages 13-18. \nWill learn both technical skills like casting and fly tying\, high-end angling and conservation programs. 3 separate courses available. \nTentative Dates:\nJune 8-13\, 2025\,\nJune 15-20\, 2025 and;\nJune 22-27\, 2025. \nNon-scouts welcome. \nFee required.
URL:https://beoutdoorsarizona.org/event/fish-camp-2025-aztu-gcc-bsa/
LOCATION:R-C Scout Ranch\, 19887 E\, AZ-260\, Payson\, AZ 85541\, USA
CATEGORIES:Fishing,Youth Event
END:VEVENT
END:VCALENDAR