BEGIN:VCALENDAR
VERSION:2.0
PRODID:-//Be Outdoors Arizona - ECPv6.15.20//NONSGML v1.0//EN
CALSCALE:GREGORIAN
METHOD:PUBLISH
X-WR-CALNAME:Be Outdoors Arizona
X-ORIGINAL-URL:https://beoutdoorsarizona.org
X-WR-CALDESC:Events for Be Outdoors Arizona
REFRESH-INTERVAL;VALUE=DURATION:PT1H
X-Robots-Tag:noindex
X-PUBLISHED-TTL:PT1H
BEGIN:VTIMEZONE
TZID:America/Phoenix
BEGIN:STANDARD
TZOFFSETFROM:-0700
TZOFFSETTO:-0700
TZNAME:MST
DTSTART:20240101T000000
END:STANDARD
END:VTIMEZONE
BEGIN:VEVENT
DTSTART;TZID=America/Phoenix:20250404T100000
DTEND;TZID=America/Phoenix:20250404T133000
DTSTAMP:20260423T133518
CREATED:20250331T174620Z
LAST-MODIFIED:20250331T174620Z
UID:10012694-1743760800-1743773400@beoutdoorsarizona.org
SUMMARY:AZ Native Plant Society Tonto Basin Chapter Year End Meeting
DESCRIPTION:Meeting Highlights: \n10am: Wildflower Adventures \n11:30am: Potluck Picnic \n12:15pm: Tonto Basin Stinknet Patrol Info & Training \n1pm: Garden Tour
URL:https://beoutdoorsarizona.org/event/az-native-plant-society-tonto-basin-chapter-year-end-meeting/
LOCATION:268 E Stephens Way\, Tonto Basin\, AZ\, United States
CATEGORIES:Botany
ATTACH;FMTTYPE=image/png:https://beoutdoorsarizona.org/wp-content/uploads/2025/02/volunteering.png
GEO:33.8361;-111.30035
END:VEVENT
END:VCALENDAR