BEGIN:VCALENDAR
VERSION:2.0
PRODID:-//Be Outdoors Arizona - ECPv6.15.20//NONSGML v1.0//EN
CALSCALE:GREGORIAN
METHOD:PUBLISH
X-WR-CALNAME:Be Outdoors Arizona
X-ORIGINAL-URL:https://beoutdoorsarizona.org
X-WR-CALDESC:Events for Be Outdoors Arizona
REFRESH-INTERVAL;VALUE=DURATION:PT1H
X-Robots-Tag:noindex
X-PUBLISHED-TTL:PT1H
BEGIN:VTIMEZONE
TZID:America/Phoenix
BEGIN:STANDARD
TZOFFSETFROM:-0700
TZOFFSETTO:-0700
TZNAME:MST
DTSTART:20240101T000000
END:STANDARD
END:VTIMEZONE
BEGIN:VEVENT
DTSTART;TZID=America/Phoenix:20260403T073000
DTEND;TZID=America/Phoenix:20260403T093000
DTSTAMP:20260423T094434
CREATED:20260327T155050Z
LAST-MODIFIED:20260327T155050Z
UID:10015552-1775201400-1775208600@beoutdoorsarizona.org
SUMMARY:Arizona Public Lands Day Hike with Arizona Wildlife Federation
DESCRIPTION:Celebrate Arizona Public Lands Day: An All Afield Hike with AWF + AZT in Sandy’s Canyon\nSaturday\, April 4\, 2026 @ 8:30 AM \nJoin us for a guided hike in Sandy’s Canyon near Flagstaff\, Arizona\, as we celebrate Arizona Public Lands Day in partnership with the Arizona Trail Association. This hidden canyon offers a beautiful place to experience northern Arizona’s landscapes while connecting with the public lands that support wildlife\, recreation\, and outdoor traditions across our state. \nWe begin along the canyon rim before descending into Sandy’s Canyon\, where dramatic rock walls and ponderosa pine forest create a striking backdrop. After about 1.5 miles\, we’ll reach the Arizona Trail\, one of Arizona’s most iconic long-distance trails\, before turning around and hiking back the same way. \nAlong the way\, we’ll talk about the importance of Arizona’s public lands\, how trails like the Arizona Trail connect landscapes and communities\, and how these places support wildlife and outdoor recreation. Sandy’s Canyon offers a great place to introduce people to the outdoors and experience the beauty of northern Arizona. \nHighlights: \n\nReach the Arizona Trail and learn about this iconic statewide trail\nExperience the dramatic rock walls and scenery of Sandy’s Canyon\nCelebrate Arizona Public Lands Day outdoors\nLearn about native wildlife and plant species and the importance of Arizona’s public lands\n\nWhat to Bring: \n\nSturdy hiking shoes\nHat and sun protection\nPlenty of water!\nSnacks\nLayers for changing mountain weather\nBinoculars (optional but recommended\, we have 4 pairs to loan)\n\nAdditional Info: \n\nWe will email meeting location details and directions to registered participants before the hike (the parking area does not always appear correctly on Google Maps)\nHike difficulty: easy to moderate — approximately 3 miles roundtrip with a descent into the canyon and gradual climb back out\nPrepare for mountain conditions by bringing layers\, sun protection\, and extra water\nNo restroom facilities are available at the trailhead\n\nFor More Info: Contact Elise Ketcham\, AWF’s Communications Manager\, at elise@azwildlife.org
URL:https://beoutdoorsarizona.org/event/arizona-public-lands-day-hike-with-arizona-wildlife-federation/
LOCATION:Sandy’s Canyon to Flagstaff
CATEGORIES:Volunteering
ATTACH;FMTTYPE=image/png:https://beoutdoorsarizona.org/wp-content/uploads/2025/04/hiking-mntn.png
ORGANIZER;CN="Arizona Wildlife Federation":MAILTO:awf@azwildlife.org
END:VEVENT
BEGIN:VEVENT
DTSTART;TZID=America/Phoenix:20250726T103000
DTEND;TZID=America/Phoenix:20250726T123000
DTSTAMP:20260423T094434
CREATED:20250724T175827Z
LAST-MODIFIED:20250724T175827Z
UID:10014840-1753525800-1753533000@beoutdoorsarizona.org
SUMMARY:Name That Species
DESCRIPTION:Explore the beauty of Rogers Lake County Natural Area\, just outside Flagstaff\, with the Arizona Wildlife Federation! This special place features a variety of habitats: wetlands\, grasslands\, Ponderosa pine\, and Gambel oak. This mosaic supports a rich diversity of wildlife and native plants. \nWhile Rogers Lake\, which is an ephemeral lake\, often dries in late summer\, after a good monsoon or wet season\, the lakebed transforms into the perfect place for migratory waterfowl and other wildlife to gather. During the drier periods\, the area provides prime grazing grounds for large herds of elk that descend from Woody Ridge at dawn and dusk. With a bit of luck\, we might catch a glimpse of these majestic animals and other wildlife that frequent the area! \nDuring the hike\, we will utilize the mobile apps iNaturalist\, Seek by iNaturalist\, and Merlin to identify all sorts of flora and fauna in the area! We highly recommend you download these apps prior to attending.
URL:https://beoutdoorsarizona.org/event/name-that-species/
LOCATION:Rogers Lake – Flagstaff\, AZ
CATEGORIES:Wildlife Watching
ATTACH;FMTTYPE=image/jpeg:https://beoutdoorsarizona.org/wp-content/uploads/2025/07/White-tail-Randy-Babb.jpeg
ORGANIZER;CN="Arizona Wildlife Federation":MAILTO:awf@azwildlife.org
END:VEVENT
BEGIN:VEVENT
DTSTART;TZID=America/Phoenix:20250425T170000
DTEND;TZID=America/Phoenix:20250427T120000
DTSTAMP:20260423T094434
CREATED:20240608T133754Z
LAST-MODIFIED:20250423T204513Z
UID:10008324-1745600400-1745755200@beoutdoorsarizona.org
SUMMARY:Becoming an Outdoors- Woman Workshop - AWF
DESCRIPTION:For adult women 18+\, any fitness level\, no experience required. A supportive environment for learning\, making friends\, and fun. Sessions include plant ID\, fishing\, camping\, navigation\, rappelling\, geocaching\, Dutch-oven cooking\, and shooting.
URL:https://beoutdoorsarizona.org/event/becoming-an-outdoors-woman-workshop-awf-2/
LOCATION:Prescott\, Friendly Pines Camp
CATEGORIES:Women's Events
ATTACH;FMTTYPE=image/png:https://beoutdoorsarizona.org/wp-content/uploads/2024/06/BOW.png
ORGANIZER;CN="Arizona Wildlife Federation":MAILTO:awf@azwildlife.org
END:VEVENT
BEGIN:VEVENT
DTSTART;TZID=America/Phoenix:20250417T170000
DTEND;TZID=America/Phoenix:20250420T130000
DTSTAMP:20260423T094434
CREATED:20240608T133734Z
LAST-MODIFIED:20240608T133734Z
UID:10008323-1744909200-1745154000@beoutdoorsarizona.org
SUMMARY:Unit 6A\, 5A & 5B Youth Spring Turkey Hunt Camp - Marvin Robbins Memorial - NWTF
DESCRIPTION:Learn to hunt Arizona’s wild turkeys in this mentored turkey hunting camp. \nSeminars\, outdoor skills\, activities\, camping and meals provided.
URL:https://beoutdoorsarizona.org/event/unit-6a-5a-5b-youth-spring-turkey-hunt-camp-marvin-robbins-memorial-nwtf/
LOCATION:V bar V Ranch\, 34°37'51.5"N 111°22'35.7"W Happy Jack\,\, AZ 86024
CATEGORIES:Hunting,Youth Event
GEO:34.6387133;-111.3638771
X-APPLE-STRUCTURED-LOCATION;VALUE=URI;X-ADDRESS=V bar V Ranch 34°37'51.5"N 111°22'35.7"W Happy Jack AZ 86024;X-APPLE-RADIUS=500;X-TITLE=34°37'51.5"N 111°22'35.7"W Happy Jack\,:geo:-111.3638771,34.6387133
END:VEVENT
END:VCALENDAR