BEGIN:VCALENDAR
VERSION:2.0
PRODID:-//Be Outdoors Arizona - ECPv6.15.20//NONSGML v1.0//EN
CALSCALE:GREGORIAN
METHOD:PUBLISH
X-WR-CALNAME:Be Outdoors Arizona
X-ORIGINAL-URL:https://beoutdoorsarizona.org
X-WR-CALDESC:Events for Be Outdoors Arizona
REFRESH-INTERVAL;VALUE=DURATION:PT1H
X-Robots-Tag:noindex
X-PUBLISHED-TTL:PT1H
BEGIN:VTIMEZONE
TZID:America/Phoenix
BEGIN:STANDARD
TZOFFSETFROM:-0700
TZOFFSETTO:-0700
TZNAME:MST
DTSTART:20250101T000000
END:STANDARD
END:VTIMEZONE
BEGIN:VEVENT
DTSTART;TZID=America/Phoenix:20260421T180000
DTEND;TZID=America/Phoenix:20260421T190000
DTSTAMP:20260420T140055
CREATED:20260420T150852Z
LAST-MODIFIED:20260420T150852Z
UID:10015865-1776794400-1776798000@beoutdoorsarizona.org
SUMMARY:Attend Sonoran Speaker Series: Wolves and Coyotes
DESCRIPTION:The Sonoran Speaker Series is presenting “Wolves and Coyotes\,” a discussion about Arizona’s wolves and coyotes by Arizona Game and Fish Department’s Jeff Meyers and Cheyenne Towne. Ask questions to the speakers\, and be prepared to learn about the endangered species.
URL:https://beoutdoorsarizona.org/event/attend-sonoran-speaker-series-wolves-and-coyotes/
LOCATION:Valley of the Sun J\, 12701 N Scottsdale Rd\, Scottsdale\, AZ\, 85254\, United States
CATEGORIES:Arizona History,Bird Watching,Conservation,Ecology,Evening Event,Hiking,Streams and Rivers,Trails,Wildlife Education,Wildlife Watching
ATTACH;FMTTYPE=image/png:https://beoutdoorsarizona.org/wp-content/uploads/2025/02/meeting-class-seminar.png
ORGANIZER;CN="Desert Foothills Land Trust":MAILTO:info@dflt.org
END:VEVENT
END:VCALENDAR