BEGIN:VCALENDAR
VERSION:2.0
PRODID:-//Be Outdoors Arizona - ECPv6.15.20//NONSGML v1.0//EN
CALSCALE:GREGORIAN
METHOD:PUBLISH
X-ORIGINAL-URL:https://beoutdoorsarizona.org
X-WR-CALDESC:Events for Be Outdoors Arizona
REFRESH-INTERVAL;VALUE=DURATION:PT1H
X-Robots-Tag:noindex
X-PUBLISHED-TTL:PT1H
BEGIN:VTIMEZONE
TZID:America/Phoenix
BEGIN:STANDARD
TZOFFSETFROM:-0700
TZOFFSETTO:-0700
TZNAME:MST
DTSTART:20240101T000000
END:STANDARD
END:VTIMEZONE
BEGIN:VEVENT
DTSTART;TZID=America/Phoenix:20250919T093000
DTEND;TZID=America/Phoenix:20250919T113000
DTSTAMP:20260421T130503
CREATED:20250819T225337Z
LAST-MODIFIED:20250819T225337Z
UID:10014814-1758274200-1758281400@beoutdoorsarizona.org
SUMMARY:Morning Serenity: Guided Garden Walk
DESCRIPTION:🌿✨ Morning Garden Walk ✨🌿 \nStart your day with a peaceful and refreshing walk through the Gardens\, guided by our friendly and knowledgeable Arboretum staff. Immerse yourself in the sights and sounds of nature as you wander along tranquil paths\, breathe in the fresh\, crisp air\, and soak up the beauty of blooming plants and vibrant greenery. \nThis guided walk is a perfect opportunity to slow down\, reconnect with nature\, and let the serenity of the Gardens lift your spirit. Whether you’re seeking a moment of calm\, inspiration\, or simply a gentle start to your day\, this experience is sure to delight your senses. \n🌸 Enjoy learning about the plants\, wildlife\, and natural features of the Gardens along the way\, as our staff share their expertise and answer your questions. \n👟 Comfortable walking shoes are recommended\, and don’t forget to bring your curiosity and love for the outdoors! \n🔹 Limited to 15 participants\, so register early to secure your spot for this intimate and rejuvenating experience.
URL:https://beoutdoorsarizona.org/event/morning-serenity-guided-garden-walk/
LOCATION:The Arboretum at Flagstaff\, 4001 S. Woody Mountain Road\, Flagstaff\, 86005\, United States
CATEGORIES:Medicinal/Edible Plants,Trails
ATTACH;FMTTYPE=image/png:https://beoutdoorsarizona.org/wp-content/uploads/2025/03/walk-tour.png
ORGANIZER;CN="The Arboretum at Flagstaff":MAILTO:events@thearb.org
END:VEVENT
BEGIN:VEVENT
DTSTART;TZID=America/Phoenix:20251108T090000
DTEND;TZID=America/Phoenix:20251108T140000
DTSTAMP:20260421T130503
CREATED:20250831T001512Z
LAST-MODIFIED:20250831T001627Z
UID:10014942-1762592400-1762610400@beoutdoorsarizona.org
SUMMARY:🌎✨ Nature Fest PHX 2025: A Celebration of Community & the Outdoors ✨🌎
DESCRIPTION:Celebrate our community’s deep connection to nature at Nature Fest PHX—a full day of discovery\, inspiration\, and family fun in the great outdoors! \n🌿 What to Expect: \n\n\n🐾 Interactive Exhibits – get hands-on with engaging displays that bring nature to life \n\n\n👩‍🔬 Meet Local Experts – chat with biologists\, conservationists\, and outdoor enthusiasts \n\n\n🎨 Family-Friendly Activities – crafts\, games\, and fun learning opportunities for kids of all ages \n\n\n🎶 Live Entertainment – enjoy music and performances that highlight our cultural connection to nature \n\n\n🦋 Nature Walks & Demos – discover local plants\, wildlife\, and simple ways to enjoy and protect them \n\n\n🌱 Why Attend?Nature Fest is more than just a festival—it’s a chance to learn how we can all make a difference in protecting the natural world that surrounds us while celebrating the joy of being outdoors with friends\, family\, and neighbors. \n📅 Save the Date & Be Part of the Celebration!Nature Fest PHX promises something for everyone—whether you’re looking to deepen your knowledge\, connect with your community\, or simply enjoy a day outside.
URL:https://beoutdoorsarizona.org/event/%f0%9f%8c%8e%e2%9c%a8-nature-fest-phx-2025-a-celebration-of-community-the-outdoors-%e2%9c%a8%f0%9f%8c%8e/
LOCATION:2801 S. 7th Avenue (Rio Salado 7th Avenue Trailhead)\, 2801 S. 7th Avenue (Rio Salado 7th Avenue Trailhead)
CATEGORIES:Educational/Training/Workshop,Family Event,Wildlife Education
ATTACH;FMTTYPE=image/png:https://beoutdoorsarizona.org/wp-content/uploads/2025/02/social-family-festival.png
END:VEVENT
END:VCALENDAR