BEGIN:VCALENDAR
VERSION:2.0
PRODID:-//Be Outdoors Arizona - ECPv6.15.20//NONSGML v1.0//EN
CALSCALE:GREGORIAN
METHOD:PUBLISH
X-WR-CALNAME:Be Outdoors Arizona
X-ORIGINAL-URL:https://beoutdoorsarizona.org
X-WR-CALDESC:Events for Be Outdoors Arizona
REFRESH-INTERVAL;VALUE=DURATION:PT1H
X-Robots-Tag:noindex
X-PUBLISHED-TTL:PT1H
BEGIN:VTIMEZONE
TZID:America/Phoenix
BEGIN:STANDARD
TZOFFSETFROM:-0700
TZOFFSETTO:-0700
TZNAME:MST
DTSTART:20250101T000000
END:STANDARD
END:VTIMEZONE
BEGIN:VEVENT
DTSTART;TZID=America/Phoenix:20260307T080000
DTEND;TZID=America/Phoenix:20260307T110000
DTSTAMP:20260421T145242
CREATED:20260120T025243Z
LAST-MODIFIED:20260120T025243Z
UID:10015095-1772870400-1772881200@beoutdoorsarizona.org
SUMMARY:Plant Stravaganza on Tumamoc Hill
DESCRIPTION:Get ready to dig in and celebrate all things plants at Plant Stravaganza\, a free\, family-friendly community event held at the base of beautiful Tumamoc Hill! Meet local plant organizations\, connect with plant experts\, and learn more about the incredible plants of the Sonoran Desert—and beyond. \n\nWhat’s Happening\nStop by the Tumamoc Historic Boathouse to chat with plant-centric organizations\, ask your burning plant questions\, and discover new ways to grow\, share\, and care for plants in our desert environment. \n\nFun Activities for All Ages\n🌱 Plant Swap – Bring a plant\, take a plant!🌼 Seedball Workshop – Learn how to spread native plants the fun way♻️ Composting Information – Turn scraps into soil🎁 Giveaways Galore – Plants\, seeds\, and more🧒 Kids Activities – Hands-on fun for young plant lovers🌿 Plant Demos – Tips\, tricks\, and inspiration…and so much more! \n\n🎟 Cost: FREE and open to the public of all ages📍 Location: Tumamoc Historic Boathouse (base of Tumamoc Hill) \nWhether you’re a seasoned gardener or just plant-curious\, Plant Stravaganza is the perfect way to grow your knowledge\, connect with the community\, and celebrate desert plants together! 🌵🌞
URL:https://beoutdoorsarizona.org/event/plant-stravaganza-on-tumamoc-hill/
LOCATION:Tumamoc Hill Boathouse\, Tucson\, 85745\, United States
CATEGORIES:Botany,Ecology,Educational/Training/Workshop,Family Event,Invasive Species,Social Gathering-Festivals-Fundraisers,Youth Event
ATTACH;FMTTYPE=image/jpeg:https://beoutdoorsarizona.org/wp-content/uploads/2025/07/Century-Plant.jpeg
END:VEVENT
BEGIN:VEVENT
DTSTART;TZID=America/Phoenix:20260314T181500
DTEND;TZID=America/Phoenix:20260315T090000
DTSTAMP:20260421T145242
CREATED:20251022T185729Z
LAST-MODIFIED:20251022T185729Z
UID:10015042-1773512100-1773565200@beoutdoorsarizona.org
SUMMARY:Phoenix Zoo Family Camp
DESCRIPTION:Now everyone can experience Night Camp! Twice a year\, the Zoo offers camps just for families! Groups will bring and set up their own tents on the lawn outside of the Red Barn. These camps have prepared activities\, plus pre-set dates and sleeping locations. \nAll Night Camps include:  \nPizza dinner  |  Evening snack  |  Souvenir water bottle  |  Guided trail hikes  |  Activities/games  |  Up-close animal encounters  |  For overnight camps: Continental breakfast and admission to the Zoo the next day  
URL:https://beoutdoorsarizona.org/event/phoenix-zoo-family-camp/2026-03-14/
LOCATION:455 N Galvin Pkwy\, Phoenix AZ 85008\, 455 N Galvin Pkwy\, Phoenix\, 85008
CATEGORIES:Camping,Evening Event,Family Event,Tour,Wildlife Education
ATTACH;FMTTYPE=image/png:https://beoutdoorsarizona.org/wp-content/uploads/2025/09/campoing.png
END:VEVENT
BEGIN:VEVENT
DTSTART;TZID=America/Phoenix:20260328T080000
DTEND;TZID=America/Phoenix:20260328T120000
DTSTAMP:20260421T145242
CREATED:20260304T222533Z
LAST-MODIFIED:20260304T222533Z
UID:10015118-1774684800-1774699200@beoutdoorsarizona.org
SUMMARY:28th Annual Hike for Hope
DESCRIPTION:We are thrilled to host the 28th Annual Hike for Hope! Your support helps us continue to provide pathways to self-sufficiency through quality employment and housing. \nThe Worker helps guide and empower individuals to save for stable\, market-rate housing while attending our critical life skills classes. Your support ensures participants receive the tools they need to achieve financial independence and long-term workplace success. \nEvery step taken at Hike for Hope represents a step toward stability\, dignity\, and opportunity for those we serve. Our work is only possible because of the generosity and commitment of people like you! \nBring your friends\, lace up your walking shoes\, and be part of a morning that makes a real difference in our community. \n\nEvent Schedule\n8:00 – 9:00 am  Check-In & T-Shirt Distribution8:30 – 9:30 am  Enjoy Coffee\, Donuts\, Bagels\, & Fruit9:15 – 9:30 am  Announcements & Prizes9:30 – 11:30 am Pick a Trail (1.5m or 4.5m) & Hike11:30 – Noon  Celebrate with Breakfast Burritos
URL:https://beoutdoorsarizona.org/event/28th-annual-hike-for-hope/
LOCATION:McDowell Mountain Regional Park (Pemberton Trailhead)\, 16300 McDowell Mountain Park Dr. Fountain Hills\, AZ\, 85268\, United States
CATEGORIES:Family Event,Hiking,Morning Event,Social Gathering-Festivals-Fundraisers
ATTACH;FMTTYPE=image/png:https://beoutdoorsarizona.org/wp-content/uploads/2025/04/hiking.png
GEO:33.6660479;-111.695733
X-APPLE-STRUCTURED-LOCATION;VALUE=URI;X-ADDRESS=McDowell Mountain Regional Park (Pemberton Trailhead) 16300 McDowell Mountain Park Dr. Fountain Hills AZ 85268 United States;X-APPLE-RADIUS=500;X-TITLE=16300 McDowell Mountain Park Dr. Fountain Hills:geo:-111.695733,33.6660479
END:VEVENT
END:VCALENDAR