BEGIN:VCALENDAR
VERSION:2.0
PRODID:-//Be Outdoors Arizona - ECPv6.15.20//NONSGML v1.0//EN
CALSCALE:GREGORIAN
METHOD:PUBLISH
X-WR-CALNAME:Be Outdoors Arizona
X-ORIGINAL-URL:https://beoutdoorsarizona.org
X-WR-CALDESC:Events for Be Outdoors Arizona
REFRESH-INTERVAL;VALUE=DURATION:PT1H
X-Robots-Tag:noindex
X-PUBLISHED-TTL:PT1H
BEGIN:VTIMEZONE
TZID:America/Phoenix
BEGIN:STANDARD
TZOFFSETFROM:-0700
TZOFFSETTO:-0700
TZNAME:MST
DTSTART:20240101T000000
END:STANDARD
END:VTIMEZONE
BEGIN:VEVENT
DTSTART;TZID=America/Phoenix:20251101T090000
DTEND;TZID=America/Phoenix:20251101T160000
DTSTAMP:20260421T214255
CREATED:20250830T235356Z
LAST-MODIFIED:20250830T235516Z
UID:10014892-1761987600-1762012800@beoutdoorsarizona.org
SUMMARY:🏹🌟 Adventure Awaits: Ben Avery Kids Outdoor Skills Day Camp! 🌟🏹
DESCRIPTION:Calling all young explorers ages 7–15! Join us at Ben Avery Shooting Facility for a fun-filled day camp packed with hands-on outdoor adventures and exciting learning experiences. Kids will get to discover new skills\, make friends\, and explore nature in a safe and supportive environment. 🌲✨ \nActivities Include: \n\n\nArchery 🏹 \n\n\nWildlife exploration 🦉 \n\n\nGun safety & survival skills 🔫🛡️ \n\n\nCrafting survival bracelets 🧵 \n\n\nAnimal tracks & owl pellet dissection 🐾 \n\n\nKayaking 🚣‍♂️ \n\n\nHorsemanship 🐴…and many more exciting outdoor skills! \n\n\nPerks for Campers: \n\n\nEvent shirts 👕 \n\n\nGoody bags 🎁 \n\n\n📌 Information & Registration: www.arizonaelksociety.org | 623-444-4147 \nGive your kids a day of adventure\, learning\, and memories to last a lifetime! 🌟🌿
URL:https://beoutdoorsarizona.org/event/%f0%9f%8f%b9%f0%9f%8c%9f-adventure-awaits-ben-avery-kids-outdoor-skills-day-camp-%f0%9f%8c%9f%f0%9f%8f%b9/
LOCATION:Ben Avery Shooting Facility\, 4044 W. Black Canyon Blvd Phoenix\, AZ 85086
CATEGORIES:Archery,Camping,Educational/Training/Workshop,Hunting,Mentored event,Shooting Sports,Survival Training,Wildlife Watching,Youth Event
ATTACH;FMTTYPE=image/jpeg:https://beoutdoorsarizona.org/wp-content/uploads/2025/07/Youth-Hunting-camp.jpeg
END:VEVENT
BEGIN:VEVENT
DTSTART;TZID=America/Phoenix:20251104T103000
DTEND;TZID=America/Phoenix:20251104T110000
DTSTAMP:20260421T214255
CREATED:20251103T023935Z
LAST-MODIFIED:20251103T024048Z
UID:10015043-1762252200-1762254000@beoutdoorsarizona.org
SUMMARY:📖🌵 Storytime & Stroll at Saguaro Hill Preserve
DESCRIPTION:Step into the desert outdoors for half an hour of captivating storytelling\, then stretch your legs with a scenic walk through the nearby Saguaro Hill Preserve. Enjoy the sights and sounds of the desert while learning about the natural and cultural history of this unique landscape. \nBe sure to bring water\, sun protection\, and a sense of adventure as you explore the trails and soak in the beauty of the Sonoran Desert. \n👣 A perfect blend of stories\, nature\, and outdoor fun for all ages!
URL:https://beoutdoorsarizona.org/event/%f0%9f%93%96%f0%9f%8c%b5-storytime-stroll-at-saguaro-hill-preserve/
LOCATION:38443 N School House Rd\, Cave Creek\, AZ 85331\, 38443 N School House Rd\, Cave Creek\, AZ 85331
CATEGORIES:Arizona History,Educational/Training/Workshop,Family Event,Meeting,Tour,Youth Event
ATTACH;FMTTYPE=image/png:https://beoutdoorsarizona.org/wp-content/uploads/2025/04/Desert-Plants.png
ORGANIZER;CN="Desert Foothills Land Trust":MAILTO:info@dflt.org
END:VEVENT
BEGIN:VEVENT
DTSTART;TZID=America/Phoenix:20251107T170000
DTEND;TZID=America/Phoenix:20251107T230000
DTSTAMP:20260421T214255
CREATED:20250831T000526Z
LAST-MODIFIED:20250831T000610Z
UID:10014894-1762534800-1762556400@beoutdoorsarizona.org
SUMMARY:🦊🌲 Arizona Trappers Association Fall Family Camp
DESCRIPTION:Are you curious about the outdoors\, wildlife\, and the heritage of trapping? Whether you’re brand new or already experienced\, the Arizona Trappers Association Fall Family Camp is the perfect chance for youth\, families\, and individuals to: \n\n\n🌎 Learn about the legal & ethical management of predatory wildlife \n\n\n🛠️ Gain hands-on trapping and outdoor skills \n\n\n🎯 Join sessions designed for all experience levels — from curious beginners to seasoned families honing their craft \n\n\n✨ And it’s not just trapping! Other activities include: \n\n\n🐾 Wildlife viewing \n\n\n🎨 Arts & crafts \n\n\n🎲 Games and fun for the whole family \n\n\n\n🍽️ Food & Meals Provided\n\n\nFriday & Saturday: Dinner \n\n\nFriday–Sunday: Lunch \n\n\nSaturday & Sunday: Breakfast(Please contact us with special dietary needs.) \n\n\n\n📍 Location & Camp Info\n\n\nWhere: Chauncey Ranch near Mayer\, AZ \n\n\nWhen: Registration opens October 1\, 2025 at 5:00 PM CDT \n\n\nCapacity: 80 camp slots available \n\n\nAmenities: Semi-primitive site with water & restrooms (no electricity) \n\n\nWhat to Bring: Personal camping items\, sturdy shoes\, and clothes for short hikes \n\n\nWeather: Expect temps from the mid-30s to mid-60s \n\n\n\n✅ Quick Notes\n\n\n🍴 Food provided (small fee may apply) \n\n\n🎒 All trapping supplies & equipment provided \n\n\n🌿 Please contact us in advance if you need special accommodations \n\n\n\n📞 For Information & RegistrationJim: 928-642-2614📧 arizonatrappers@gmail.com
URL:https://beoutdoorsarizona.org/event/%f0%9f%a6%8a%f0%9f%8c%b2-arizona-trappers-association-fall-family-camp/
LOCATION:Chauncey Ranch\, Arizona 69 and Old Sycamore Road Mayer\,\, AZ 86333
CATEGORIES:Hiking,Trapping,Wildlife Education,Wildlife Watching,Youth Event
ATTACH;FMTTYPE=image/png:https://beoutdoorsarizona.org/wp-content/uploads/2025/02/social-family-festival.png
END:VEVENT
BEGIN:VEVENT
DTSTART;TZID=America/Phoenix:20251108T181500
DTEND;TZID=America/Phoenix:20251109T090000
DTSTAMP:20260421T214255
CREATED:20251022T185729Z
LAST-MODIFIED:20251022T185729Z
UID:10015041-1762625700-1762678800@beoutdoorsarizona.org
SUMMARY:Phoenix Zoo Family Camp
DESCRIPTION:Now everyone can experience Night Camp! Twice a year\, the Zoo offers camps just for families! Groups will bring and set up their own tents on the lawn outside of the Red Barn. These camps have prepared activities\, plus pre-set dates and sleeping locations. \nAll Night Camps include:  \nPizza dinner  |  Evening snack  |  Souvenir water bottle  |  Guided trail hikes  |  Activities/games  |  Up-close animal encounters  |  For overnight camps: Continental breakfast and admission to the Zoo the next day  
URL:https://beoutdoorsarizona.org/event/phoenix-zoo-family-camp/2025-11-08/
LOCATION:455 N Galvin Pkwy\, Phoenix AZ 85008\, 455 N Galvin Pkwy\, Phoenix\, 85008
CATEGORIES:Camping,Evening Event,Family Event,Tour,Wildlife Education
ATTACH;FMTTYPE=image/png:https://beoutdoorsarizona.org/wp-content/uploads/2025/09/campoing.png
END:VEVENT
END:VCALENDAR