BEGIN:VCALENDAR
VERSION:2.0
PRODID:-//Be Outdoors Arizona - ECPv6.15.20//NONSGML v1.0//EN
CALSCALE:GREGORIAN
METHOD:PUBLISH
X-ORIGINAL-URL:https://beoutdoorsarizona.org
X-WR-CALDESC:Events for Be Outdoors Arizona
REFRESH-INTERVAL;VALUE=DURATION:PT1H
X-Robots-Tag:noindex
X-PUBLISHED-TTL:PT1H
BEGIN:VTIMEZONE
TZID:America/Phoenix
BEGIN:STANDARD
TZOFFSETFROM:-0700
TZOFFSETTO:-0700
TZNAME:MST
DTSTART:20240101T000000
END:STANDARD
END:VTIMEZONE
BEGIN:VEVENT
DTSTART;TZID=America/Phoenix:20250725T110000
DTEND;TZID=America/Phoenix:20250727T130000
DTSTAMP:20260423T084754
CREATED:20250724T175327Z
LAST-MODIFIED:20250724T175327Z
UID:10014835-1753441200-1753621200@beoutdoorsarizona.org
SUMMARY:Hunting Skills Camp
DESCRIPTION:3 days of covering basic fundamentals of hunting\ntopics include:\nhunter ethics\, glassing\, tracking\, field dressing\, GPS\, map reading\, camping\, meat processing\, wild game cooking\, shotgun shooting\, rifleshooting skills\, and general ins and outs of hunting in AZ. \n*Limited to 35 people.
URL:https://beoutdoorsarizona.org/event/hunting-skills-camp/
LOCATION:Tonto Mountain Tank\, N. of Skull Valley\, W. of Iron Springs\, Prescott NF\, Forest Service Road 102 and Contreras Road Skull Valley\, Tonto Mountain Tank Camp\, AZ 86338
CATEGORIES:Hunting
ATTACH;FMTTYPE=image/jpeg:https://beoutdoorsarizona.org/wp-content/uploads/2025/07/Youth-Hunting-camp.jpeg
END:VEVENT
BEGIN:VEVENT
DTSTART;TZID=America/Phoenix:20250801T170000
DTEND;TZID=America/Phoenix:20250803T230000
DTSTAMP:20260423T084754
CREATED:20250724T180143Z
LAST-MODIFIED:20250724T180143Z
UID:10014842-1754067600-1754262000@beoutdoorsarizona.org
SUMMARY:Predator Hunting Boot Camp\, George Knox - Ray Evridge Memorial - PVCI
DESCRIPTION:Adult focused\, for beginners to learn about predator calling\, hunting\, history of predator and furbearers and other outdoor skill activities. Great centralized campsite\, food provided\, open tent and truck camping. \n• Contact: Gail Bosgieter\, cbgb1072@cox.net\, \n 
URL:https://beoutdoorsarizona.org/event/predator-hunting-boot-camp-george-knox-ray-evridge-memorial-pvci/
LOCATION:Vincent Ranch\, Woods Canyon Lake area\, Hart Canyon Loop and Wallace Road Payson\, Vincent Ranch\, Woods Canyon Lake area\, AZ 8554
CATEGORIES:Adult Event,Hunting
ATTACH;FMTTYPE=image/jpeg:https://beoutdoorsarizona.org/wp-content/uploads/2025/07/Youth-Hunting-camp.jpeg
ORGANIZER;CN="Phoenix Varmint Callers":MAILTO:pvcigroup@gmail.com
END:VEVENT
BEGIN:VEVENT
DTSTART;TZID=America/Phoenix:20250906T090000
DTEND;TZID=America/Phoenix:20250906T160000
DTSTAMP:20260423T084754
CREATED:20250819T212204Z
LAST-MODIFIED:20250819T212204Z
UID:10014861-1757149200-1757174400@beoutdoorsarizona.org
SUMMARY:Youth Dove Hunt with Mentors & Lunch Provided
DESCRIPTION:🕊️ Youth Dove Hunt 🕊️Calling all hunters ages 10–16—whether you’re brand new or already experienced\, this is your chance to get out in the field! \n✅ Expert mentors will be on-site to guide first-timers and help sharpen skills.✅ Limited to 50 participants—reserve your spot early!✅ Lunch provided for all youth hunters. \n📞 For details or to sign up\, contact: \n\n\nDebbie Power: 928-259-0969 \n\n\nBrian Shadd: 928-271-1234
URL:https://beoutdoorsarizona.org/event/youth-dove-hunt-with-mentors-lunch-provided/
LOCATION:Gary Ware Memorial Range GPS\, 16070 E County 3rd St Dome Valley\, AZ 85365
CATEGORIES:Botany,Ecology,Hunting,Wildlife Education,Women's Events
ATTACH;FMTTYPE=image/png:https://beoutdoorsarizona.org/wp-content/uploads/2024/04/shooting-sports.png
END:VEVENT
BEGIN:VEVENT
DTSTART;TZID=America/Phoenix:20251009T170000
DTEND;TZID=America/Phoenix:20251012T230000
DTSTAMP:20260423T084754
CREATED:20250830T230538Z
LAST-MODIFIED:20250830T230643Z
UID:10014879-1760029200-1760310000@beoutdoorsarizona.org
SUMMARY:🦌 Youth Deer Hunting Mentorship Camp – 34A\, 35A & 35B Tags 🦌
DESCRIPTION:Join experienced mentors to help youth hunters with locating\, tracking\, and field dressing deer! This is a hands-on\, educational experience designed to build skills and confidence in the field. \nRequirements for Hunters: \n\n\nHunter Education certificate \n\n\nDeer tag for 34A\, 35A\, or 35B \n\n\nSleeping/camping gear \n\n\nHunting gear and firearm \n\n\nWhat’s Provided: \n\n\nMeals for all participants \n\n\nFun drawings for those in the main camp \n\n\nMentorship from experienced hunters \n\n\nRegistration: All participants must register with AZGFD. \nContact:Tom Ditsch | 520-850-9379 | cditsch@outlook.com \nLocation:Empire Ranch Airstrip Group Campsite (31.790403\, -110.631404)Directions from Tucson: \n\n\nTake I-10 east to Highway 83 \n\n\nHead south on Highway 83 to Empire Ranch Rd\, then turn east \n\n\nContinue to the T intersection\, turn north\, and follow signs to the campsite \n\n\nAmenities: Pit toilets\, a single water spigot\, and space for tents\, trailers\, and RVs. No electricity available. \nCome gain invaluable hunting experience\, learn from seasoned mentors\, and make lasting memories in the beautiful Arizona outdoors! 🌲🔥
URL:https://beoutdoorsarizona.org/event/%f0%9f%a6%8c-youth-deer-hunting-mentorship-camp-34a-35a-35b-tags-%f0%9f%a6%8c/
LOCATION:Empire Ranch Airstrip Group Campsite\, Highway 83 and Empire Ranch Road sonoita\, AZ 85637
CATEGORIES:Hunting,Mentored event,Wildlife Education,Youth Event
ATTACH;FMTTYPE=image/jpeg:https://beoutdoorsarizona.org/wp-content/uploads/2025/07/Youth-Hunting-camp.jpeg
GEO:31.7687122;-110.6827149
X-APPLE-STRUCTURED-LOCATION;VALUE=URI;X-ADDRESS=Empire Ranch Airstrip Group Campsite Highway 83 and Empire Ranch Road sonoita AZ 85637;X-APPLE-RADIUS=500;X-TITLE=Highway 83 and Empire Ranch Road sonoita:geo:-110.6827149,31.7687122
END:VEVENT
BEGIN:VEVENT
DTSTART;TZID=America/Phoenix:20251009T170000
DTEND;TZID=America/Phoenix:20251012T230000
DTSTAMP:20260423T084754
CREATED:20250830T224632Z
LAST-MODIFIED:20250830T224717Z
UID:10014878-1760029200-1760310000@beoutdoorsarizona.org
SUMMARY:🌲🦌 Kaibab Deer Hunters Base Camp! 🦌🌲
DESCRIPTION:Join us for a fun-filled\, action-packed gathering for Kaibab deer hunters! Get all the info you need on deer biology\, habits\, and hunting tips\, enjoy hands-on activities\, and connect with fellow hunters around the campfire. Plus\, there’ll be food to fuel your adventure! 🍂🔥 \n📧 For more information\, reach out: adabuckskinchapter@gmail.com \nCome for the knowledge\, stay for the camaraderie—it’s a base camp experience you won’t want to miss!
URL:https://beoutdoorsarizona.org/event/%f0%9f%8c%b2%f0%9f%a6%8c-kaibab-deer-hunters-base-camp-%f0%9f%a6%8c%f0%9f%8c%b2/
LOCATION:Kaibab 12A Deer Camp – North Rim (Lookout Canyon)\, Arizona 22 and Forest Service Road 429 Jacob Lake\,\, AZ 86022
CATEGORIES:Family Event,Hunting,Shooting Sports,Wildlife Education
ATTACH;FMTTYPE=image/png:https://beoutdoorsarizona.org/wp-content/uploads/2025/04/hunting-1.png
END:VEVENT
BEGIN:VEVENT
DTSTART;TZID=America/Phoenix:20251121T170000
DTEND;TZID=America/Phoenix:20251123T230000
DTSTAMP:20260423T084754
CREATED:20250831T004006Z
LAST-MODIFIED:20250831T004041Z
UID:10014895-1763744400-1763938800@beoutdoorsarizona.org
SUMMARY:🎯 Youth Predator & Small Game Hunting Camp – Learn\, Hunt\, and Explore the Outdoors! 🏕️
DESCRIPTION:Ready to take your first steps into the world of hunting? Join us at this hands-on youth hunting camp\, designed to teach the basics of predator hunting and more! \n🔹 What You’ll Learn: \n\n\nPredator hunting fundamentals – calling\, stands\, and tracking \n\n\nSmall game hunting for rabbits and desert quail \n\n\nOutdoor and survival skills \n\n\nMentorship from experienced hunters \n\n\n🍳 Perks of Camp: \n\n\nDelicious cooked meals provided \n\n\nOutdoor activities for all skill levels \n\n\nMentors available to guide youth every step of the way \n\n\n🌐 Learn More & Register: www.youthoutdoorsunlimited.com \n📍 \n📍 Getting to Camp (from Phoenix): \n\n\nTake I-17 North toward Flagstaff. \n\n\nExit onto Carefree Highway (AZ-74) and head west. \n\n\nTurn right onto US-60 W toward Wickenburg. \n\n\nAt the first roundabout in Wickenburg\, stay to the right. \n\n\n\n\nMerge onto US-93 N and drive 5.8 miles. \n\n\nTurn onto AZ-89 N (Congress) and continue through town. \n\n\nAbout 2 miles past Congress\, turn left onto Date Creek Road. \n\n\nLook for a rock painted like a frog at the turn! 🐸 \n\n\n\n\nDrive 15.3 miles on Date Creek Road\, then turn left onto a dirt road. \n\n\nThe camp entrance will be on the right-hand side. \n\n\n⚠️ Important: Registration opens October 1\, 2025 at 5:15 PM CDT. Spots are limited—don’t miss out!
URL:https://beoutdoorsarizona.org/event/%f0%9f%8e%af-youth-predator-small-game-hunting-camp-learn-hunt-and-explore-the-outdoors-%f0%9f%8f%95%ef%b8%8f/
LOCATION:Date Creek – Sunflower Flat\, 13565 Date Creek Rd. Congress\,\, AZ 85332
CATEGORIES:Family Event,Hunting,Mentored event,Shooting Sports,Youth Event
ATTACH;FMTTYPE=image/jpeg:https://beoutdoorsarizona.org/wp-content/uploads/2025/07/Campfire-Kids.jpeg
GEO:34.3553981;-112.9341093
X-APPLE-STRUCTURED-LOCATION;VALUE=URI;X-ADDRESS=Date Creek – Sunflower Flat 13565 Date Creek Rd. Congress AZ 85332;X-APPLE-RADIUS=500;X-TITLE=13565 Date Creek Rd. Congress\,:geo:-112.9341093,34.3553981
END:VEVENT
BEGIN:VEVENT
DTSTART;TZID=America/Phoenix:20251212T170000
DTEND;TZID=America/Phoenix:20251214T230000
DTSTAMP:20260423T084754
CREATED:20250831T010855Z
LAST-MODIFIED:20250831T011007Z
UID:10014898-1765558800-1765753200@beoutdoorsarizona.org
SUMMARY:🌊🦆 Cibola Youth Waterfowl Camp – Learn\, Hunt & Explore the Outdoors! 🏕️
DESCRIPTION:Calling all youth hunters ages 11–17! Join us for an exciting mentored waterfowl hunting experience designed to teach hands-on skills\, outdoor ethics\, and wildlife knowledge in a safe and supportive environment. \n🌟 Camp Highlights: \n\n\nMentorship from experienced hunters to guide every step \n\n\nInstruction on:\n• Shooting techniques and safety\n• Waterfowl identification and calling\n• Using blinds effectively\n• Field dressing and game processing \n\n\nCentralized remote camping for a full outdoor experience \n\n\nSome meals provided to keep you fueled for adventure \n\n\nOpportunities to build confidence and outdoor skills while connecting with peers \n\n\n\n📌 Important Registration Information\n\n\nSpecial registration required! \n\n\nDownload and mail the registration paperwork with a refundable registration fee to secure your spot. \n\n\nLimited spots available—register early to guarantee participation! \n\n\n\n🎒 What to Bring – Youth Camp Checklist\nClothing & Personal Gear: \n\n\nSturdy\, closed-toe shoes or boots \n\n\nWeather-appropriate layers (cool mornings\, warmer afternoons) \n\n\nHat & sunglasses \n\n\nRain jacket or windbreaker \n\n\nPersonal toiletries \n\n\nCamping Gear: \n\n\nSleeping bag or bedding \n\n\nTent (if not provided) \n\n\nFlashlight or headlamp + extra batteries \n\n\nCamp chair (optional) \n\n\nHunting & Outdoor Essentials: \n\n\nHunting gear (appropriate firearm or bow if applicable) \n\n\nHunting license / tag (if required) \n\n\nBinoculars (optional) \n\n\nWater bottle / hydration pack \n\n\nSnacks (optional) \n\n\nOther: \n\n\nPersonal medications or special items \n\n\nSunscreen & insect repellent \n\n\nNotebook & pen (for learning and observations) \n\n\n📌 Meals provided Friday dinner through Sunday breakfast. All mentoring\, hunting\, and processing instruction included. \n\n🚗 Directions to Camp\n\n\nFrom Yuma\, AZ\, take US-95 North toward the Cibola National Wildlife Refuge. \n\n\nFollow the signs for Friends of Cibola Youth Waterfowl Camp. \n\n\nThe camp site is centralized remote camping; event signs will guide you from the main road. \n\n\nFor precise GPS navigation\, use 33.0284\, -113.4805. \n\n\n\n📞 Contact for More Information:\nCarissa Rosenfeld | 626-484-2752 | friendsofcibolanwr@gmail.com \n\n🎥 Camp Preview Video\nGet a glimpse of the adventure awaiting at the Cibola Youth Waterfowl Camp
URL:https://beoutdoorsarizona.org/event/%f0%9f%8c%8a%f0%9f%a6%86-cibola-youth-waterfowl-camp-learn-hunt-explore-the-outdoors-%f0%9f%8f%95%ef%b8%8f/
LOCATION:Cibola National Wildlife Refuge – Visitor Center\, 66600 Cibola Lake Rd Cibol\, AZ 85328
CATEGORIES:Camping,Hunting,Shooting Sports,Wildlife Education,Youth Event
ATTACH;FMTTYPE=image/jpeg:https://beoutdoorsarizona.org/wp-content/uploads/2025/07/Summer-Camp.jpeg
END:VEVENT
BEGIN:VEVENT
DTSTART;TZID=America/Phoenix:20251212T170000
DTEND;TZID=America/Phoenix:20251214T230000
DTSTAMP:20260423T084754
CREATED:20250831T005444Z
LAST-MODIFIED:20250831T005510Z
UID:10014896-1765558800-1765753200@beoutdoorsarizona.org
SUMMARY:🏹 Youth Outdoor Adventure: Unit 41 Yuma Small Game Camp – YVRGC 🐇
DESCRIPTION:Are you ready to experience the thrill of hunting with expert guidance? This camp is designed for youth ages 8–16 who want to learn how to hunt small game\, quail\, and rabbits—and for youth ages 11–17 who want a mentored waterfowl hunting experience. \nExperience the thrill of hunting with expert guidance at this hands-on youth hunting camp! Designed for youth ages 8–16 interested in small game hunting (quail & rabbits) and youth ages 11–17 for mentored waterfowl hunting\, this camp provides a safe\, educational\, and fun outdoor experience. \n🌟 Camp Highlights: \n\n\nMentored hunting instruction from experienced mentors \n\n\nHands-on learning in:• Small game hunting (quail & rabbits)• Waterfowl identification\, calling\, and shooting• Using blinds\, field dressing & game processing \n\n\nOutdoor activities at base camp \n\n\nMeals provided Friday dinner through Sunday breakfast \n\n\nSupportive\, family-friendly environment \n\n\n🌐 Learn More & Register: www.youthoutdoorsunlimited.com📞 Contact: Kelly Young – kyoung@azgfd.gov | 928-341-4063 \n\n📍 Location & Directions\nGPS Coordinates: 33.0284\, -113.4805This site is near the Imperial National Wildlife Refuge / Martinez Lake area\, northwest of Yuma\, AZ. Centralized remote camping is available (rustic site\, no electricity\, water provided). \nDirections from Yuma: \n\n\nTake US-95 North toward Martinez Lake (~25 miles). \n\n\nTurn right (east) onto Imperial Dam Road. \n\n\nFollow signs toward Martinez Lake / Imperial National Wildlife Refuge. \n\n\nContinue following event signs to camp. \n\n\n⚠️ Registration Required: \n\n\nDownload and mail the registration paperwork with a refundable registration fee to secure your spot. \n\n\nRegistration opens October 1\, 2025 at 5:15 PM CDT. \n\n\n\n🎒 What to Bring – Youth Hunting Camp Checklist\nClothing & Personal Gear: \n\n\nSturdy\, closed-toe shoes/boots \n\n\nWeather-appropriate layers (cool mornings & warm afternoons) \n\n\nHat & sunglasses \n\n\nRain jacket or windbreaker \n\n\nPersonal toiletries \n\n\nCamping Gear: \n\n\nSleeping bag/bedding \n\n\nTent (if not provided) \n\n\nFlashlight/headlamp + extra batteries \n\n\nCamp chair (optional) \n\n\nHunting & Outdoor Essentials: \n\n\nHunting gear (appropriate firearm or bow\, if applicable) \n\n\nHunting license/tag (if required) \n\n\nBinoculars (optional) \n\n\nWater bottle / hydration pack \n\n\nSnacks (optional) \n\n\nOther: \n\n\nPersonal medications or special items \n\n\nSunscreen & insect repellent \n\n\nNotebook & pen (for learning and observations) \n\n\n📌 Meals are provided Friday dinner through Sunday breakfast. All mentoring\, hunting\, and trapping supplies are included in the program.
URL:https://beoutdoorsarizona.org/event/%f0%9f%8f%b9-youth-outdoor-adventure-unit-41-yuma-small-game-camp-yvrgc-%f0%9f%90%87/
LOCATION:Palomas Plains – Hyder\, Palomas Harquahala Road and County 15th Street N Yuma County\, AZ 85333
CATEGORIES:Mentored event,Shooting Sports
ATTACH;FMTTYPE=image/png:https://beoutdoorsarizona.org/wp-content/uploads/2025/04/CAMPING-1.png
END:VEVENT
BEGIN:VEVENT
DTSTART;TZID=America/Phoenix:20260122T170000
DTEND;TZID=America/Phoenix:20260125T230000
DTSTAMP:20260423T084754
CREATED:20250831T014104Z
LAST-MODIFIED:20250831T014129Z
UID:10014899-1769101200-1769382000@beoutdoorsarizona.org
SUMMARY:🐗🎯  Unit 20C Outdoor Skills & Hunting Adventure: Youth Javelina & Small Game Camp🏕️
DESCRIPTION:Calling all youth hunters! Join us for an exciting hands-on hunting camp where young outdoors enthusiasts will learn javelina and small game hunting skills under the guidance of experienced mentors. This camp combines education\, adventure\, and fun in a safe and supportive environment. \n🌟 Camp Highlights: \n\n\nMentorship from experienced hunters to guide youth through every step \n\n\nHands-on training in:• Javelina hunting techniques• Small game hunting (rabbits\, quail\, and more)• Outdoor survival skills \n\n\nFun outdoor activities at base camp \n\n\nCooked meals provided to keep everyone energized \n\n\nOpportunities to build confidence\, teamwork\, and outdoor skills \n\n\n🌐 Learn More & Register: www.youthoutdoorsunlimited.com \n\n📌 Important Registration Information\n\n\nRegistration opens November 10\, 2025 at 5:30 PM CST \n\n\nSpots are limited—register early to secure your child’s participation! \n\n\n\n🎒 What to Bring – Youth Hunting Camp Checklist\nClothing & Personal Gear: \n\n\nSturdy\, closed-toe shoes or boots \n\n\nWeather-appropriate layers (cool mornings\, warmer afternoons) \n\n\nHat & sunglasses \n\n\nRain jacket or windbreaker \n\n\nPersonal toiletries \n\n\nCamping Gear: \n\n\nSleeping bag or bedding \n\n\nTent (if not provided) \n\n\nFlashlight or headlamp + extra batteries \n\n\nCamp chair (optional) \n\n\nHunting & Outdoor Essentials: \n\n\nHunting gear (appropriate firearm or bow\, if applicable) \n\n\nHunting license / tag (if required) \n\n\nBinoculars (optional) \n\n\nWater bottle / hydration pack \n\n\nSnacks (optional) \n\n\nOther: \n\n\nPersonal medications or special items \n\n\nSunscreen & insect repellent \n\n\nNotebook & pen (for learning and observations) \n\n\n📌 Meals are provided throughout the camp. All mentoring\, hunting\, and outdoor instruction are included. \n\n🚗 Directions to Camp (from Phoenix):\n\n\nTake I-17 North toward Flagstaff. \n\n\nExit onto Carefree Highway (AZ-74) and head west. \n\n\nTurn right onto US-60 W toward Wickenburg. \n\n\nAt the first roundabout in Wickenburg\, stay right. \n\n\n\n\nMerge onto US-93 N and drive 5.8 miles. \n\n\nTurn onto AZ-89 N (Congress) and continue through Congress. \n\n\nAbout 2 miles past Congress\, turn left onto Date Creek Road. \n\n\nLook for a rock painted like a frog at the turn! 🐸 \n\n\n\n\nDrive 15.3 miles on Date Creek Road\, then turn left onto a dirt road. \n\n\nCamp entrance will be on the right-hand side. \n\n\n\n📞 Contact for More Information:Youth Outdoors Unlimited
URL:https://beoutdoorsarizona.org/event/%f0%9f%90%97%f0%9f%8e%af-unit-20c-outdoor-skills-hunting-adventure-youth-javelina-small-game-camp%f0%9f%8f%95%ef%b8%8f/
LOCATION:Date Creek – Sunflower Flat\, 13565 Date Creek Rd. Congress\,\, AZ 85332
CATEGORIES:Bird Watching,Educational/Training/Workshop,Hunting,Meeting,Mentored event,Wildlife Education,Youth Event
ATTACH;FMTTYPE=image/jpeg:https://beoutdoorsarizona.org/wp-content/uploads/2025/07/Family-Camp-out-Catalina.jpeg
GEO:34.3553981;-112.9341093
X-APPLE-STRUCTURED-LOCATION;VALUE=URI;X-ADDRESS=Date Creek – Sunflower Flat 13565 Date Creek Rd. Congress AZ 85332;X-APPLE-RADIUS=500;X-TITLE=13565 Date Creek Rd. Congress\,:geo:-112.9341093,34.3553981
END:VEVENT
BEGIN:VEVENT
DTSTART;TZID=America/Phoenix:20260122T170000
DTEND;TZID=America/Phoenix:20260126T230000
DTSTAMP:20260423T084754
CREATED:20250831T020832Z
LAST-MODIFIED:20250831T020911Z
UID:10014900-1769101200-1769468400@beoutdoorsarizona.org
SUMMARY:🏹 Youth Outdoor Skills Camp: Javelina & Archery Deer – Units 36A\, 36B & 36C (AMDO)
DESCRIPTION:Ready to take your hunting skills to the next level? Join us for a hands-on youth hunting camp where experienced mentors will guide you through locating\, tracking\, and field dressing javelina and deer. This is an incredible opportunity for youth hunters to gain real-world experience in a safe and supportive environment! \n🌟 Camp Highlights: \n\n\nMentorship from experienced hunters \n\n\nInstruction on tracking\, locating\, and field dressing \n\n\nMeals provided to keep you fueled for the adventure \n\n\nFun raffles and drawings for participants in the main camp \n\n\nCentralized group camping to connect with fellow youth hunters \n\n\n⚠️ Requirements: \n\n\nMust have Hunter Education certification \n\n\nYouth Javelina Hunt Permit tag and/or OTC Archery Deer tag \n\n\nPersonal sleeping/camping gear\, hunting gear\, and firearm \n\n\nAll participants must register with AZGFD \n\n\n\n🎒 What to Bring – Youth Camp Checklist\nClothing & Personal Gear: \n\n\nSturdy\, closed-toe shoes or boots \n\n\nWeather-appropriate clothing (layers recommended) \n\n\nHat & sunglasses \n\n\nRain jacket or windbreaker \n\n\nPersonal toiletries \n\n\nCamping Gear: \n\n\nSleeping bag or bedding \n\n\nTent (if not provided) \n\n\nFlashlight/headlamp + extra batteries \n\n\nCamp chair (optional) \n\n\nHunting & Outdoor Essentials: \n\n\nHunting gear (firearm or bow as applicable) \n\n\nHunting license / tag (required) \n\n\nBinoculars (optional) \n\n\nWater bottle / hydration pack \n\n\nSnacks (optional) \n\n\nOther: \n\n\nPersonal medications or special items \n\n\nSunscreen & insect repellent \n\n\nNotebook & pen (for learning and notes) \n\n\n📌 Meals provided for all participants. Mentoring and hunting instruction included. \n\n🚗 Simplified Directions\n\n\nCamp is located at Buenos Aires National Wildlife Refuge Group Campsite\, approx. Milepost 4\, west of Arivaca\, AZ. \n\n\nLandmark: Look for the communications tower on the south side of the Arivaca-Sasabe Highway—this is the main entrance. \n\n\nOnce at the entrance\, follow event signs to the group campsite. \n\n\n\n📞 Contact for More Information & Registration:Tom Ditsch | 520-850-9379 | cditsch@outlook.com \n📝 Registration is open now! Secure your spot for this exciting youth hunting adventure.
URL:https://beoutdoorsarizona.org/event/%f0%9f%8f%b9-youth-outdoor-skills-camp-javelina-archery-deer-units-36a-36b-36c-amdo/
LOCATION:Buenos Aires Group Campsite\, Mile Post 4 - Arivaca Sasabe Rd Arivaca\, AZ 85601
CATEGORIES:Archery,Camping,Hunting,Mentored event,Shooting Sports,Wildlife Education,Youth Event
ATTACH;FMTTYPE=image/jpeg:https://beoutdoorsarizona.org/wp-content/uploads/2025/07/camping-in-the-woods.jpeg
END:VEVENT
BEGIN:VEVENT
DTSTART;TZID=America/Phoenix:20260416T170000
DTEND;TZID=America/Phoenix:20260419T230000
DTSTAMP:20260423T084754
CREATED:20250831T023840Z
LAST-MODIFIED:20250831T023904Z
UID:10014939-1776358800-1776639600@beoutdoorsarizona.org
SUMMARY:🦃🏹 Youth Mentored Turkey Hunting Camp (Units 1 & 27)  – Learn\, Hunt & Explore the Outdoors!
DESCRIPTION:Get ready for an unforgettable outdoor adventure! This mentored turkey hunting camp is designed for youth hunters who want to learn the skills\, strategies\, and ethics of hunting wild turkeys in a safe and supportive environment. \n🌟 Camp Highlights: \n\n\nExpert-led seminars covering turkey behavior\, calling techniques\, and hunting strategies \n\n\nHands-on outdoor skills training\, including tracking\, scouting\, and field techniques \n\n\nFun activities designed to enhance your hunting knowledge and confidence \n\n\nCentralized group camping where participants can connect with mentors and peers \n\n\nMeals provided to fuel your day and make the experience worry-free \n\n\nOpportunities to practice skills and gain real-world hunting experience \n\n\n\n🎒 What to Bring – Youth Turkey Hunting Camp Checklist\nClothing & Personal Gear: \n\n\nSturdy\, closed-toe shoes or boots \n\n\nWeather-appropriate clothing (layers recommended) \n\n\nHat & sunglasses \n\n\nRain jacket or windbreaker \n\n\nPersonal toiletries \n\n\nCamping & Outdoor Gear: \n\n\nSleeping bag or bedding \n\n\nTent (if not provided) \n\n\nFlashlight or headlamp + extra batteries \n\n\nCamp chair (optional) \n\n\nHunting Essentials: \n\n\nHunting gear (appropriate firearm or bow as applicable) \n\n\nYouth hunting license / turkey tag \n\n\nBinoculars (optional) \n\n\nWater bottle / hydration pack \n\n\nSnacks (optional) \n\n\nOther: \n\n\nPersonal medications or special items \n\n\nSunscreen & insect repellent \n\n\nNotebook & pen (for notes and observations) \n\n\n📌 Meals are provided; all mentoring and instruction included. \n\n📌 Important Registration Information\n\n\nRegistration opens February 1\, 2026 at 11:00 PM CST \n\n\nSpots are limited—register early to guarantee participation! \n\n\n🌐 Learn More & Register: www.youthoutdoorsunlimited.com
URL:https://beoutdoorsarizona.org/event/%f0%9f%a6%83%f0%9f%8f%b9-youth-mentored-turkey-hunting-camp-units-1-27-learn-hunt-explore-the-outdoors/
LOCATION:Hidden Meadows / Fish Creek\, Highway 260 & FR 1325 Greer\,\, AZ 85927
CATEGORIES:Flyfishing,Hunting,Shooting Sports,Wildlife Education,Wildlife Watching,Youth Event
ATTACH;FMTTYPE=image/jpeg:https://beoutdoorsarizona.org/wp-content/uploads/2025/07/Family-Camp-out-Catalina.jpeg
END:VEVENT
END:VCALENDAR