BEGIN:VCALENDAR
VERSION:2.0
PRODID:-//Be Outdoors Arizona - ECPv6.15.20//NONSGML v1.0//EN
CALSCALE:GREGORIAN
METHOD:PUBLISH
X-WR-CALNAME:Be Outdoors Arizona
X-ORIGINAL-URL:https://beoutdoorsarizona.org
X-WR-CALDESC:Events for Be Outdoors Arizona
REFRESH-INTERVAL;VALUE=DURATION:PT1H
X-Robots-Tag:noindex
X-PUBLISHED-TTL:PT1H
BEGIN:VTIMEZONE
TZID:America/Phoenix
BEGIN:STANDARD
TZOFFSETFROM:-0700
TZOFFSETTO:-0700
TZNAME:MST
DTSTART:20250101T000000
END:STANDARD
END:VTIMEZONE
BEGIN:VEVENT
DTSTART;TZID=America/Phoenix:20260304T173000
DTEND;TZID=America/Phoenix:20260304T183000
DTSTAMP:20260421T162940
CREATED:20260214T173614Z
LAST-MODIFIED:20260214T173614Z
UID:10015110-1772645400-1772649000@beoutdoorsarizona.org
SUMMARY:Tumamoc Talks: Stinknet Stay Away!
DESCRIPTION:The Desert Laboratory on Tumamoc Hill invites you to a public lecture in its ongoing series exploring the science\, ecology\, history\, and culture of the Sonoran Desert. These talks are free and open to the public and highlight current research and timely environmental issues affecting our region. \n🗓 Wednesday\, March 4th🕠 5:30 PM \n🎤 Stinknet Stay Away! An invasive species transforming desert wildfire risk \nStinknet (Oncosiphon pilulifer\, also known as globe chamomile) is a relatively new invasive species in Pima County\, though it has been present in the Sonoran Desert for nearly three decades. This aggressive plant dramatically increases wildfire risk by adding dense\, continuous fuel loads to desert landscapes where it spreads. \nIn this talk\, you’ll learn about the history\, biology\, and impacts of stinknet\, including how it threatens native plants and public safety. The presentation will also share practical tips for identification and removal\, empowering community members to help slow its spread. \nAbout the Speaker:Rachel Mitchell is an Associate Professor at the University of Arizona whose work focuses on how ecosystems across the Southwest respond to climate change\, invasive species\, and altered fire regimes. \n📍 Location: Tumamoc Hill Boathouse (base of the Hill)1675 W. Anklam Rd.\, Tucson\, AZ \n🚗 Parking:Street parking is available on Anklam Road or in the lot at the corner of Anklam and Silverbell.Note: There is no event parking available on Tumamoc Hill. \n📞 Questions?(520) 621-6945✉️ tumamoc-hill@arizona.edu \n👉 RSVP:https://forms.gle/exVsCB8v8HGN6U817
URL:https://beoutdoorsarizona.org/event/tumamoc-talks-stinknet-stay-away/
LOCATION:Tumamoc Hill Boathouse\, Tucson\, 85745\, United States
CATEGORIES:Bugs/Insects/Butterflies,Conservation,Ecology,Invasive Species,Wildlife Education
ATTACH;FMTTYPE=image/png:https://beoutdoorsarizona.org/wp-content/uploads/2025/04/bugs-butterflies.png
END:VEVENT
BEGIN:VEVENT
DTSTART;TZID=America/Phoenix:20260307T080000
DTEND;TZID=America/Phoenix:20260307T110000
DTSTAMP:20260421T162940
CREATED:20260120T025243Z
LAST-MODIFIED:20260120T025243Z
UID:10015095-1772870400-1772881200@beoutdoorsarizona.org
SUMMARY:Plant Stravaganza on Tumamoc Hill
DESCRIPTION:Get ready to dig in and celebrate all things plants at Plant Stravaganza\, a free\, family-friendly community event held at the base of beautiful Tumamoc Hill! Meet local plant organizations\, connect with plant experts\, and learn more about the incredible plants of the Sonoran Desert—and beyond. \n\nWhat’s Happening\nStop by the Tumamoc Historic Boathouse to chat with plant-centric organizations\, ask your burning plant questions\, and discover new ways to grow\, share\, and care for plants in our desert environment. \n\nFun Activities for All Ages\n🌱 Plant Swap – Bring a plant\, take a plant!🌼 Seedball Workshop – Learn how to spread native plants the fun way♻️ Composting Information – Turn scraps into soil🎁 Giveaways Galore – Plants\, seeds\, and more🧒 Kids Activities – Hands-on fun for young plant lovers🌿 Plant Demos – Tips\, tricks\, and inspiration…and so much more! \n\n🎟 Cost: FREE and open to the public of all ages📍 Location: Tumamoc Historic Boathouse (base of Tumamoc Hill) \nWhether you’re a seasoned gardener or just plant-curious\, Plant Stravaganza is the perfect way to grow your knowledge\, connect with the community\, and celebrate desert plants together! 🌵🌞
URL:https://beoutdoorsarizona.org/event/plant-stravaganza-on-tumamoc-hill/
LOCATION:Tumamoc Hill Boathouse\, Tucson\, 85745\, United States
CATEGORIES:Botany,Ecology,Educational/Training/Workshop,Family Event,Invasive Species,Social Gathering-Festivals-Fundraisers,Youth Event
ATTACH;FMTTYPE=image/jpeg:https://beoutdoorsarizona.org/wp-content/uploads/2025/07/Century-Plant.jpeg
END:VEVENT
BEGIN:VEVENT
DTSTART;TZID=America/Phoenix:20260311T180000
DTEND;TZID=America/Phoenix:20260311T193000
DTSTAMP:20260421T162940
CREATED:20260214T172901Z
LAST-MODIFIED:20260214T172901Z
UID:10015111-1773252000-1773257400@beoutdoorsarizona.org
SUMMARY:Tumamoc Author Series: Theresa Crimmins
DESCRIPTION:Book Presentation – Free Event🗓 Wednesday\, March 11\, 2026🕕 6:00 PM📍 Tumamoc Hill Boathouse1675 W. Anklam Rd.\, Tucson\, AZ👉RSVP HERE \nWhat can the seasonal rhythms of plants and animals reveal about the health of our planet—and our own well-being? \nJoin Theresa Crimmins\, Director of the USA National Phenology Network and Associate Professor at the University of Arizona\, for an inspiring presentation based on her new book\, Phenology (MIT Press\, 2025). \nWith warmth and scientific clarity\, Crimmins introduces audiences to the fascinating science of life-cycle timing in nature—from leaf-out and flowering to bird migration and insect emergence. She demonstrates how paying attention to these seasonal patterns deepens our sense of place\, strengthens climate research\, and supports personal well-being. \nIn this talk\, Crimmins invites us all to become “everyday phenologists” and take part in a joyful and urgent practice that benefits both mental health and environmental stewardship. \n🎥 Bonus:Check out Theresa’s TED Talk:Observing the Outer World to Change Our Inner One | Theresa Crimmins | TEDxUofA
URL:https://beoutdoorsarizona.org/event/tumamoc-author-series-theresa-crimmins/
LOCATION:Tumamoc Hill Boathouse\, Tucson\, 85745\, United States
CATEGORIES:Botany,Conservation,Ecology
ATTACH;FMTTYPE=image/jpeg:https://beoutdoorsarizona.org/wp-content/uploads/2025/07/Century-Plant.jpeg
END:VEVENT
BEGIN:VEVENT
DTSTART;TZID=America/Phoenix:20260313T090000
DTEND;TZID=America/Phoenix:20260313T130000
DTSTAMP:20260421T162940
CREATED:20260214T174331Z
LAST-MODIFIED:20260214T174331Z
UID:10015109-1773392400-1773406800@beoutdoorsarizona.org
SUMMARY:Tumamoc Book Swap
DESCRIPTION:Do you love books? 📖📚A generous Tumamoc Hill community member has donated a wonderful collection of books\, and we’re excited to share them with you! \nJoin us Friday\, March 13th from 9:00 AM–1:00 PM at the Tumamoc Hill Historic Boathouse for a free book swap. Browse through a variety of titles and take home something new to read—no purchase required! \n✨ How it works:Bring books you’re ready to pass along (optional) and swap them for new-to-you reads. Whether you’re into fiction\, nonfiction\, or something for the whole family\, there will be something for every kind of reader. \n👜 Don’t forget to bring bags for your books! \n📍 Location: Tumamoc Hill Boathouse (base of the Hill)1675 W. Anklam Rd.\, Tucson\, AZ \n🚗 Parking:Street parking is available on Anklam Road or in the lot at the corner of Anklam and Silverbell.Note: There is no event parking available on Tumamoc Hill. \n📞 Questions?(520) 621-6945✉️ tumamoc-hill@arizona.edu \nCome celebrate reading\, reuse\, and community—your next favorite book might be waiting for you! 📚💛 \n 
URL:https://beoutdoorsarizona.org/event/tumamoc-book-swap/
LOCATION:Tumamoc Hill Boathouse\, Tucson\, 85745\, United States
CATEGORIES:Family Event,Social Gathering-Festivals-Fundraisers,Wildlife Education,Youth Event
ATTACH;FMTTYPE=image/png:https://beoutdoorsarizona.org/wp-content/uploads/2025/08/sunset.png
END:VEVENT
BEGIN:VEVENT
DTSTART;TZID=America/Phoenix:20260314T181500
DTEND;TZID=America/Phoenix:20260315T090000
DTSTAMP:20260421T162940
CREATED:20251022T185729Z
LAST-MODIFIED:20251022T185729Z
UID:10015042-1773512100-1773565200@beoutdoorsarizona.org
SUMMARY:Phoenix Zoo Family Camp
DESCRIPTION:Now everyone can experience Night Camp! Twice a year\, the Zoo offers camps just for families! Groups will bring and set up their own tents on the lawn outside of the Red Barn. These camps have prepared activities\, plus pre-set dates and sleeping locations. \nAll Night Camps include:  \nPizza dinner  |  Evening snack  |  Souvenir water bottle  |  Guided trail hikes  |  Activities/games  |  Up-close animal encounters  |  For overnight camps: Continental breakfast and admission to the Zoo the next day  
URL:https://beoutdoorsarizona.org/event/phoenix-zoo-family-camp/2026-03-14/
LOCATION:455 N Galvin Pkwy\, Phoenix AZ 85008\, 455 N Galvin Pkwy\, Phoenix\, 85008
CATEGORIES:Camping,Evening Event,Family Event,Tour,Wildlife Education
ATTACH;FMTTYPE=image/png:https://beoutdoorsarizona.org/wp-content/uploads/2025/09/campoing.png
END:VEVENT
BEGIN:VEVENT
DTSTART;TZID=America/Phoenix:20260321T090000
DTEND;TZID=America/Phoenix:20260321T103000
DTSTAMP:20260421T162940
CREATED:20260304T221955Z
LAST-MODIFIED:20260304T221955Z
UID:10015119-1774083600-1774089000@beoutdoorsarizona.org
SUMMARY:Tumamoc Hill Youth Program
DESCRIPTION:Join us for the Tumamoc Hill Youth Program! \nEvery month brings a brand-new adventure with a fresh theme\, a special guest speaker\, and a hands-on art activity—all completely free! \n🌞 Sonoran Desert Animal Painting\nKids will enjoy a fun\, bite-sized science talk with Robert Villa (Desert Laboratory & Tucson Herpetological Society)\, then dive into a creative painting session with local artist Kayla Faulkner.🎨 All art supplies are provided—just bring your imagination! \n📍 Location: Tumamoc Hill Historic Boathouse (base of the Hill)1675 W. Anklam Rd.\, Tucson\, AZ \n🚗 Parking:Street parking is available on Anklam Rd. or in the lot at the corner of Anklam & Silverbell.⚠️ Please note: There is no event parking available on Tumamoc Hill. \nCome explore Sonoran Desert wildlife through science and art in a fun\, welcoming environment. We can’t wait to see you there!
URL:https://beoutdoorsarizona.org/event/tumamoc-hill-youth-program-3/
LOCATION:Tumamoc Hill Boathouse\, Tucson\, 85745\, United States
CATEGORIES:Family Event,Wildlife Education,Youth Event
ATTACH;FMTTYPE=image/png:https://beoutdoorsarizona.org/wp-content/uploads/2024/07/outdoor-activities-kids.png
END:VEVENT
BEGIN:VEVENT
DTSTART;TZID=America/Phoenix:20260321T100000
DTEND;TZID=America/Phoenix:20260321T130000
DTSTAMP:20260421T162940
CREATED:20260130T130428Z
LAST-MODIFIED:20260130T131631Z
UID:10015106-1774087200-1774098000@beoutdoorsarizona.org
SUMMARY:Restoration at the PVCC Arizona Restoration Center
DESCRIPTION:Help out with community nature restoration and gardening at the ARC at Paradise Valley Community College! We will be removing invasive plants\, planting native plants and seeds\, improving paths\, creating habitat\, and more! Our tasks and their difficulty are highly flexible\, and we will teach you how to do everything! We will provide water refills\, snacks\, shade\, tools\, bags for disposal\, and a few chairs. Our supplies are limited of these\, so you are encouraged to bring your own\, especially tools and gloves\, if you’d like to ensure you have them. You are also encouraged to wear sunscreen and closed-toed shoes. Let’s make a difference in our community and get connected with nature! \nSign up or just show up! \nFor more information about the ARC\, visit paradisevalley.edu/arc
URL:https://beoutdoorsarizona.org/event/restoration-at-the-pvcc-arizona-restoration-center-3/
LOCATION:Paradise Valley Community College\, 18401 N 32nd St\, Phoenix\, AZ\, 85024\, United States
CATEGORIES:Clean up,Conservation,Ecology,Invasive Species,Mentored event,Trails,Volunteering
ATTACH;FMTTYPE=image/png:https://beoutdoorsarizona.org/wp-content/uploads/2025/04/Desert-Plants.png
END:VEVENT
BEGIN:VEVENT
DTSTART;TZID=America/Phoenix:20260321T100000
DTEND;TZID=America/Phoenix:20260321T130000
DTSTAMP:20260421T162940
CREATED:20260130T131843Z
LAST-MODIFIED:20260130T133600Z
UID:10015107-1774087200-1774098000@beoutdoorsarizona.org
SUMMARY:Restoration at the PVCC Arizona Restoration Center
DESCRIPTION:Help out with community nature restoration and gardening at the ARC at Paradise Valley Community College! We will be removing invasive plants\, planting native plants and seeds\, improving paths\, creating habitat\, and more! Our tasks and their difficulty are highly flexible\, and we will teach you how to do everything! We will provide water refills\, snacks\, shade\, tools\, bags for disposal\, and a few chairs. Our supplies are limited of these\, so you are encouraged to bring your own\, especially tools and gloves\, if you’d like to ensure you have them. You are also encouraged to wear sunscreen and closed-toed shoes. Let’s make a difference in our community and get connected with nature! \nSign up or just show up! \nFor more information about the ARC\, visit paradisevalley.edu/arc
URL:https://beoutdoorsarizona.org/event/restoration-at-the-pvcc-arizona-restoration-center-4/
LOCATION:Paradise Valley Community College\, 18401 N 32nd St\, Phoenix\, AZ\, 85024\, United States
CATEGORIES:Clean up,Conservation,Ecology,Invasive Species,Mentored event,Trails,Volunteering
ATTACH;FMTTYPE=image/png:https://beoutdoorsarizona.org/wp-content/uploads/2025/04/Desert-Plants.png
END:VEVENT
END:VCALENDAR