BEGIN:VCALENDAR
VERSION:2.0
PRODID:-//Be Outdoors Arizona - ECPv6.15.20//NONSGML v1.0//EN
CALSCALE:GREGORIAN
METHOD:PUBLISH
X-ORIGINAL-URL:https://beoutdoorsarizona.org
X-WR-CALDESC:Events for Be Outdoors Arizona
REFRESH-INTERVAL;VALUE=DURATION:PT1H
X-Robots-Tag:noindex
X-PUBLISHED-TTL:PT1H
BEGIN:VTIMEZONE
TZID:America/Phoenix
BEGIN:STANDARD
TZOFFSETFROM:-0700
TZOFFSETTO:-0700
TZNAME:MST
DTSTART:20250101T000000
END:STANDARD
END:VTIMEZONE
BEGIN:VEVENT
DTSTART;TZID=America/Phoenix:20260106T180000
DTEND;TZID=America/Phoenix:20260106T200000
DTSTAMP:20260424T174810
CREATED:20251118T031739Z
LAST-MODIFIED:20251118T031739Z
UID:10015068-1767722400-1767729600@beoutdoorsarizona.org
SUMMARY:Foothills Speaker Series: Javelina
DESCRIPTION:Who are you calling a pig? Javelina\, also known as Collared Peccaries\, are actually not pigs\, even though they are commonly confused with them. Join us and learn more about these highly sociable\, widely distributed\, and often seen animals here in Arizona! We will talk about their history\, behavior\, adaptations\, and practical tips for peaceful coexistence in our shared neighborhoods. Whether javelina regularly visit your backyard or you’ve only glimpsed them from afar\, you’ll discover there’s much more to these animals than meets the eye. Instructed by Jeff Meyers\, Wildlife Biologist\, at the Arizona Game and Fish Department. \n  \n🟤 Event Details\nWhat: Foothills Speaker Series: JavelinaDate: Tuesday\, January 6th • 6:00 PMLocation: Holland Center — 34250 N 60th St\, Scottsdale\, AZ 85266Admission: Free & open to the public – all ages welcome!🪑 Registration required due to limited seating: dflt.org/speakerseries \n\nCome ready to learn\, laugh\, and discover why there’s much more to javelina than meets the eye! 🌵🟤
URL:https://beoutdoorsarizona.org/event/foothills-speaker-series-javelina/
LOCATION:Holland Community Center\, 34250 N. 60th St\, Scottsdale\, 85266\, United States
CATEGORIES:Evening Event,Family Event,Wildlife Watching
ATTACH;FMTTYPE=image/jpeg:https://beoutdoorsarizona.org/wp-content/uploads/2019/12/educator-workshop-1.jpg
ORGANIZER;CN="Desert Foothills Land Trust":MAILTO:info@dflt.org
END:VEVENT
BEGIN:VEVENT
DTSTART;TZID=America/Phoenix:20260122T170000
DTEND;TZID=America/Phoenix:20260126T230000
DTSTAMP:20260424T174810
CREATED:20250831T020832Z
LAST-MODIFIED:20250831T020911Z
UID:10014900-1769101200-1769468400@beoutdoorsarizona.org
SUMMARY:🏹 Youth Outdoor Skills Camp: Javelina & Archery Deer – Units 36A\, 36B & 36C (AMDO)
DESCRIPTION:Ready to take your hunting skills to the next level? Join us for a hands-on youth hunting camp where experienced mentors will guide you through locating\, tracking\, and field dressing javelina and deer. This is an incredible opportunity for youth hunters to gain real-world experience in a safe and supportive environment! \n🌟 Camp Highlights: \n\n\nMentorship from experienced hunters \n\n\nInstruction on tracking\, locating\, and field dressing \n\n\nMeals provided to keep you fueled for the adventure \n\n\nFun raffles and drawings for participants in the main camp \n\n\nCentralized group camping to connect with fellow youth hunters \n\n\n⚠️ Requirements: \n\n\nMust have Hunter Education certification \n\n\nYouth Javelina Hunt Permit tag and/or OTC Archery Deer tag \n\n\nPersonal sleeping/camping gear\, hunting gear\, and firearm \n\n\nAll participants must register with AZGFD \n\n\n\n🎒 What to Bring – Youth Camp Checklist\nClothing & Personal Gear: \n\n\nSturdy\, closed-toe shoes or boots \n\n\nWeather-appropriate clothing (layers recommended) \n\n\nHat & sunglasses \n\n\nRain jacket or windbreaker \n\n\nPersonal toiletries \n\n\nCamping Gear: \n\n\nSleeping bag or bedding \n\n\nTent (if not provided) \n\n\nFlashlight/headlamp + extra batteries \n\n\nCamp chair (optional) \n\n\nHunting & Outdoor Essentials: \n\n\nHunting gear (firearm or bow as applicable) \n\n\nHunting license / tag (required) \n\n\nBinoculars (optional) \n\n\nWater bottle / hydration pack \n\n\nSnacks (optional) \n\n\nOther: \n\n\nPersonal medications or special items \n\n\nSunscreen & insect repellent \n\n\nNotebook & pen (for learning and notes) \n\n\n📌 Meals provided for all participants. Mentoring and hunting instruction included. \n\n🚗 Simplified Directions\n\n\nCamp is located at Buenos Aires National Wildlife Refuge Group Campsite\, approx. Milepost 4\, west of Arivaca\, AZ. \n\n\nLandmark: Look for the communications tower on the south side of the Arivaca-Sasabe Highway—this is the main entrance. \n\n\nOnce at the entrance\, follow event signs to the group campsite. \n\n\n\n📞 Contact for More Information & Registration:Tom Ditsch | 520-850-9379 | cditsch@outlook.com \n📝 Registration is open now! Secure your spot for this exciting youth hunting adventure.
URL:https://beoutdoorsarizona.org/event/%f0%9f%8f%b9-youth-outdoor-skills-camp-javelina-archery-deer-units-36a-36b-36c-amdo/
LOCATION:Buenos Aires Group Campsite\, Mile Post 4 - Arivaca Sasabe Rd Arivaca\, AZ 85601
CATEGORIES:Archery,Camping,Hunting,Mentored event,Shooting Sports,Wildlife Education,Youth Event
ATTACH;FMTTYPE=image/jpeg:https://beoutdoorsarizona.org/wp-content/uploads/2025/07/camping-in-the-woods.jpeg
END:VEVENT
BEGIN:VEVENT
DTSTART;TZID=America/Phoenix:20260131T100000
DTEND;TZID=America/Phoenix:20260131T130000
DTSTAMP:20260424T174810
CREATED:20260130T125651Z
LAST-MODIFIED:20260130T125651Z
UID:10015104-1769853600-1769864400@beoutdoorsarizona.org
SUMMARY:Restoration at the PVCC Arizona Restoration Center
DESCRIPTION:Help out with community nature restoration and gardening at the ARC at Paradise Valley Community College! We will be removing invasive plants\, planting native plants and seeds\, improving paths\, creating habitat\, and more! Our tasks and their difficulty are highly flexible\, and we will teach you how to do everything! We will provide water refills\, snacks\, shade\, tools\, bags for disposal\, and a few chairs. Our supplies are limited of these\, so you are encouraged to bring your own\, especially tools and gloves\, if you’d like to ensure you have them. You are also encouraged to wear sunscreen and closed-toed shoes. Let’s make a difference in our community and get connected with nature! \nSign up or just show up! \nFor more information about the ARC\, visit paradisevalley.edu/arc
URL:https://beoutdoorsarizona.org/event/restoration-at-the-pvcc-arizona-restoration-center/
LOCATION:Paradise Valley Community College\, 18401 N 32nd St\, Phoenix\, AZ\, 85024\, United States
CATEGORIES:Clean up,Conservation,Ecology,Invasive Species,Mentored event,Trails,Volunteering
ATTACH;FMTTYPE=image/png:https://beoutdoorsarizona.org/wp-content/uploads/2025/04/Desert-Plants.png
END:VEVENT
END:VCALENDAR