BEGIN:VCALENDAR
VERSION:2.0
PRODID:-//Be Outdoors Arizona - ECPv6.15.20//NONSGML v1.0//EN
CALSCALE:GREGORIAN
METHOD:PUBLISH
X-ORIGINAL-URL:https://beoutdoorsarizona.org
X-WR-CALDESC:Events for Be Outdoors Arizona
REFRESH-INTERVAL;VALUE=DURATION:PT1H
X-Robots-Tag:noindex
X-PUBLISHED-TTL:PT1H
BEGIN:VTIMEZONE
TZID:America/Phoenix
BEGIN:STANDARD
TZOFFSETFROM:-0700
TZOFFSETTO:-0700
TZNAME:MST
DTSTART:20240101T000000
END:STANDARD
END:VTIMEZONE
BEGIN:VEVENT
DTSTART;TZID=America/Phoenix:20250823T070000
DTEND;TZID=America/Phoenix:20250823T090000
DTSTAMP:20260422T191900
CREATED:20250809T033158Z
LAST-MODIFIED:20250809T033215Z
UID:10014880-1755932400-1755939600@beoutdoorsarizona.org
SUMMARY:Nature\, Discovery & Fun with Camp Cooper
DESCRIPTION:Bring the whole family and join Camp Cooper for a morning of hands-on fun and discovery at the mid-point of Tumamoc Hill on Saturday\, August 23rd\, from 7:00 a.m. to 9:00 a.m. This engaging outdoor event is packed with activities that spark curiosity and celebrate nature. \nEvent Highlights: \n\n\n🌱 Seed Ball Making – Create your own seed balls to help native plants thrive. \n\n\n👃 Sensory Activities – Explore the sights\, sounds\, and textures of the desert. \n\n\n🦴 Animal Skulls & Bones – Get up close with fascinating wildlife artifacts. \n\n\n🚶 Interactive Walk – Learn about the hill’s unique history and ecology as you stroll. \n\n\n🎁 Fun Prizes – Take home a little something to remember your adventure. \n\n\n📍 Note: There is no event parking on Tumamoc Hill. Please use street parking along Anklam or the lot at the corner of Anklam and Silverbell. \n📞 Questions? Call us at (520) 621-6945 or email tumamoc-hill@arizona.edu.👉 Click here to learn more about Camp Cooper.
URL:https://beoutdoorsarizona.org/event/nature-discovery-fun-with-camp-cooper/
LOCATION:Tumamoc Hill\, 1675 W. Anklam Rd.\, Tucson\, AZ\, 85745
CATEGORIES:Ecology,Evening Event,Family Event,Hiking,Reptiles,Wildlife Education
ATTACH;FMTTYPE=image/png:https://beoutdoorsarizona.org/wp-content/uploads/2025/04/Guided-hike-tour-1.png
END:VEVENT
END:VCALENDAR