BEGIN:VCALENDAR
VERSION:2.0
PRODID:-//Be Outdoors Arizona - ECPv6.15.20//NONSGML v1.0//EN
CALSCALE:GREGORIAN
METHOD:PUBLISH
X-WR-CALNAME:Be Outdoors Arizona
X-ORIGINAL-URL:https://beoutdoorsarizona.org
X-WR-CALDESC:Events for Be Outdoors Arizona
REFRESH-INTERVAL;VALUE=DURATION:PT1H
X-Robots-Tag:noindex
X-PUBLISHED-TTL:PT1H
BEGIN:VTIMEZONE
TZID:America/Phoenix
BEGIN:STANDARD
TZOFFSETFROM:-0700
TZOFFSETTO:-0700
TZNAME:MST
DTSTART:20240101T000000
END:STANDARD
END:VTIMEZONE
BEGIN:VEVENT
DTSTART;TZID=America/Phoenix:20250801T050000
DTEND;TZID=America/Phoenix:20250803T130000
DTSTAMP:20260424T082733
CREATED:20250724T180015Z
LAST-MODIFIED:20250724T180015Z
UID:10014841-1754024400-1754226000@beoutdoorsarizona.org
SUMMARY:Habitat Project | Apache Maid Fence Project - AES
DESCRIPTION:Fence Project August 1-3 \nApache Maid which is near Stoneman Lake in unit 6A we’ll be building a logworm fence. \nCome join us for the weekend! \nArizona Elk Society does amazing work in the forest whether it be building a fence\, fixing a water catchment\, clearing trees or reworking the land. \nOur goal is to benefit elk and with that many others benefit as well. Our projects normally run Friday thru Sunday.\nWe set up a group campsite where everyone can set up their tent or trailer and we’ll set up our kitchen. We’ll feed all volunteers for the duration of the project. \nWe have lots of different volunteers opportunities on these projects. All ages and abilities are welcome. Yes there will be manual labor work but we also need help cooking\, making sure paperwork is filled out\, driving the ranger with materials and more. \nThese are great opportunities to spend the weekend in the woods and give back. Grab your friends or family and come on out! \nPlease email Russ with questions russj@arizonaelksociety.org
URL:https://beoutdoorsarizona.org/event/habitat-project-apache-maid-fence-project-aes/
LOCATION:Apache Maid\, PFHC+87 happy jack\, Apache Maid\, AZ 86024
CATEGORIES:Camping,Volunteering
ATTACH;FMTTYPE=image/png:https://beoutdoorsarizona.org/wp-content/uploads/2025/02/volunteering.png
END:VEVENT
END:VCALENDAR