BEGIN:VCALENDAR
VERSION:2.0
PRODID:-//Be Outdoors Arizona - ECPv6.15.20//NONSGML v1.0//EN
CALSCALE:GREGORIAN
METHOD:PUBLISH
X-ORIGINAL-URL:https://beoutdoorsarizona.org
X-WR-CALDESC:Events for Be Outdoors Arizona
REFRESH-INTERVAL;VALUE=DURATION:PT1H
X-Robots-Tag:noindex
X-PUBLISHED-TTL:PT1H
BEGIN:VTIMEZONE
TZID:America/Phoenix
BEGIN:STANDARD
TZOFFSETFROM:-0700
TZOFFSETTO:-0700
TZNAME:MST
DTSTART:20240101T000000
END:STANDARD
END:VTIMEZONE
BEGIN:VEVENT
DTSTART;TZID=America/Phoenix:20250920T090000
DTEND;TZID=America/Phoenix:20250920T103000
DTSTAMP:20260424T130213
CREATED:20250912T181638Z
LAST-MODIFIED:20250912T181638Z
UID:10014977-1758358800-1758364200@beoutdoorsarizona.org
SUMMARY:Tumamoc Hill Youth Program
DESCRIPTION:Join us for the first iteration of the Tumamoc Hill Youth Program!\nEach month will have a new theme\, speaker\, and art activity. \nJoin us the morning of September 20th at 9am to hear a kid-friendly talk about water from Michael Spaeth with Arizona Project WET\, then jam with Mr. Nature to songs about the environment! This free program is open to all\, but targeted towards children 3-7 years old. \nLocated at the Tumamoc Historic Boathouse (base of Hill) \n\nPlease note: There is no visitor parking on Tumamoc Hill itself; street parking is available on Anklam Rd\, and at the dirt lot at the corner of Anklam and Silverbell rd. This event is free and open to all. Questions? Email us at tumamoc-hill@arizona.edu 
URL:https://beoutdoorsarizona.org/event/tumamoc-hill-youth-program/
LOCATION:Tumamoc Hill Boathouse\, Tucson\, 85745\, United States
CATEGORIES:Wildlife Education,Youth Event
ATTACH;FMTTYPE=image/png:https://beoutdoorsarizona.org/wp-content/uploads/2025/02/social-family-festival.png
END:VEVENT
BEGIN:VEVENT
DTSTART;TZID=America/Phoenix:20251107T170000
DTEND;TZID=America/Phoenix:20251107T230000
DTSTAMP:20260424T130213
CREATED:20250831T000526Z
LAST-MODIFIED:20250831T000610Z
UID:10014894-1762534800-1762556400@beoutdoorsarizona.org
SUMMARY:🦊🌲 Arizona Trappers Association Fall Family Camp
DESCRIPTION:Are you curious about the outdoors\, wildlife\, and the heritage of trapping? Whether you’re brand new or already experienced\, the Arizona Trappers Association Fall Family Camp is the perfect chance for youth\, families\, and individuals to: \n\n\n🌎 Learn about the legal & ethical management of predatory wildlife \n\n\n🛠️ Gain hands-on trapping and outdoor skills \n\n\n🎯 Join sessions designed for all experience levels — from curious beginners to seasoned families honing their craft \n\n\n✨ And it’s not just trapping! Other activities include: \n\n\n🐾 Wildlife viewing \n\n\n🎨 Arts & crafts \n\n\n🎲 Games and fun for the whole family \n\n\n\n🍽️ Food & Meals Provided\n\n\nFriday & Saturday: Dinner \n\n\nFriday–Sunday: Lunch \n\n\nSaturday & Sunday: Breakfast(Please contact us with special dietary needs.) \n\n\n\n📍 Location & Camp Info\n\n\nWhere: Chauncey Ranch near Mayer\, AZ \n\n\nWhen: Registration opens October 1\, 2025 at 5:00 PM CDT \n\n\nCapacity: 80 camp slots available \n\n\nAmenities: Semi-primitive site with water & restrooms (no electricity) \n\n\nWhat to Bring: Personal camping items\, sturdy shoes\, and clothes for short hikes \n\n\nWeather: Expect temps from the mid-30s to mid-60s \n\n\n\n✅ Quick Notes\n\n\n🍴 Food provided (small fee may apply) \n\n\n🎒 All trapping supplies & equipment provided \n\n\n🌿 Please contact us in advance if you need special accommodations \n\n\n\n📞 For Information & RegistrationJim: 928-642-2614📧 arizonatrappers@gmail.com
URL:https://beoutdoorsarizona.org/event/%f0%9f%a6%8a%f0%9f%8c%b2-arizona-trappers-association-fall-family-camp/
LOCATION:Chauncey Ranch\, Arizona 69 and Old Sycamore Road Mayer\,\, AZ 86333
CATEGORIES:Hiking,Trapping,Wildlife Education,Wildlife Watching,Youth Event
ATTACH;FMTTYPE=image/png:https://beoutdoorsarizona.org/wp-content/uploads/2025/02/social-family-festival.png
END:VEVENT
BEGIN:VEVENT
DTSTART;TZID=America/Phoenix:20260124T090000
DTEND;TZID=America/Phoenix:20260124T103000
DTSTAMP:20260424T130213
CREATED:20260120T024841Z
LAST-MODIFIED:20260120T024841Z
UID:10015096-1769245200-1769250600@beoutdoorsarizona.org
SUMMARY:Tumamoc Hill Youth Program: Explore\, Learn & Create!
DESCRIPTION:Join us for the Tumamoc Hill Youth Program\, a free monthly series designed to spark curiosity\, creativity\, and a love of nature in young learners. Each month features a new theme\, guest speaker\, and hands-on art activity\, making every session a fresh adventure. \n\nThis Month’s Theme: Sonoran Desert Native Plants\nDiscover the amazing plants that call the Sonoran Desert home! Kids will enjoy a short\, engaging science presentation by Maddie Wallace from the University of Arizona’s School of Natural Resources and the Environment\, followed by a watercolor botanical art activity led by local artist Ruth Holladay. \n\nEvent Details\n📍 Location: Tumamoc Hill Boathouse (base of the Hill)1675 W. Anklam Rd.\, Tucson\, AZ \n🚗 Parking:  \n\n\nStreet parking available along Anklam Rd. \n\n\nParking lot at the corner of Anklam Rd. and Silverbell Rd. \n\n\nPlease note: There is no event parking available on Tumamoc Hill. \n\n\n🎟 Cost: All events are FREE! \n\nCome learn about desert plants\, meet local experts\, and create art inspired by nature—perfect for curious kids and families alike! 🌵🎨
URL:https://beoutdoorsarizona.org/event/tumamoc-hill-youth-program-explore-learn-create/
LOCATION:Tumamoc Hill Boathouse\, Tucson\, 85745\, United States
CATEGORIES:Botany,Ecology,Family Event,Youth Event
ATTACH;FMTTYPE=image/png:https://beoutdoorsarizona.org/wp-content/uploads/2024/07/outdoor-activities-kids.png
END:VEVENT
BEGIN:VEVENT
DTSTART;TZID=America/Phoenix:20260221T090000
DTEND;TZID=America/Phoenix:20260221T103000
DTSTAMP:20260424T130213
CREATED:20260203T144636Z
LAST-MODIFIED:20260203T144636Z
UID:10015103-1771664400-1771669800@beoutdoorsarizona.org
SUMMARY:Tumamoc Hill Youth Program
DESCRIPTION:Join us for the Tumamoc Hill Youth Program! \nThis free monthly program invites youth and families to explore the natural and cultural history of the Sonoran Desert through hands-on learning\, creativity\, and fun. Each month features a new theme\, guest speaker\, and art activity\, making every session a fresh experience. \n🌵 Theme: Ethnobotany of the Southwest \nLearn how plants have been used for food\, medicine\, and daily life by Indigenous and local cultures for generations. Youth will enjoy a short\, engaging science presentation by Alex La Pierre (Borderlandia)\, followed by a creative art activity—play clay printmaking with local artist Aubrey Behrens. This interactive program blends science and art to spark curiosity and appreciation for desert plants. \n🧒👧 This program is designed to be kid-friendly and family-welcoming\, making it a great opportunity for young learners to connect with nature and culture in an accessible way. \n📍 Location: Tumamoc Hill Boathouse (base of the Hill)1675 W. Anklam Rd.\, Tucson\, AZ \n🚗 Parking:Street parking is available along Anklam Road or in the lot at the corner of Anklam and Silverbell.Note: There is no event parking available on Tumamoc Hill.
URL:https://beoutdoorsarizona.org/event/tumamoc-hill-youth-program-2/
LOCATION:Tumamoc Hill Boathouse\, Tucson\, 85745\, United States
CATEGORIES:Botany,Ecology,Family Event,Medicinal/Edible Plants,Youth Event
ATTACH;FMTTYPE=image/png:https://beoutdoorsarizona.org/wp-content/uploads/2024/07/outdoor-activities-kids.png
END:VEVENT
BEGIN:VEVENT
DTSTART;TZID=America/Phoenix:20260321T090000
DTEND;TZID=America/Phoenix:20260321T103000
DTSTAMP:20260424T130213
CREATED:20260304T221955Z
LAST-MODIFIED:20260304T221955Z
UID:10015119-1774083600-1774089000@beoutdoorsarizona.org
SUMMARY:Tumamoc Hill Youth Program
DESCRIPTION:Join us for the Tumamoc Hill Youth Program! \nEvery month brings a brand-new adventure with a fresh theme\, a special guest speaker\, and a hands-on art activity—all completely free! \n🌞 Sonoran Desert Animal Painting\nKids will enjoy a fun\, bite-sized science talk with Robert Villa (Desert Laboratory & Tucson Herpetological Society)\, then dive into a creative painting session with local artist Kayla Faulkner.🎨 All art supplies are provided—just bring your imagination! \n📍 Location: Tumamoc Hill Historic Boathouse (base of the Hill)1675 W. Anklam Rd.\, Tucson\, AZ \n🚗 Parking:Street parking is available on Anklam Rd. or in the lot at the corner of Anklam & Silverbell.⚠️ Please note: There is no event parking available on Tumamoc Hill. \nCome explore Sonoran Desert wildlife through science and art in a fun\, welcoming environment. We can’t wait to see you there!
URL:https://beoutdoorsarizona.org/event/tumamoc-hill-youth-program-3/
LOCATION:Tumamoc Hill Boathouse\, Tucson\, 85745\, United States
CATEGORIES:Family Event,Wildlife Education,Youth Event
ATTACH;FMTTYPE=image/png:https://beoutdoorsarizona.org/wp-content/uploads/2024/07/outdoor-activities-kids.png
END:VEVENT
BEGIN:VEVENT
DTSTART;TZID=America/Phoenix:20260408T180000
DTEND;TZID=America/Phoenix:20260408T193000
DTSTAMP:20260424T130213
CREATED:20260326T192109Z
LAST-MODIFIED:20260326T192109Z
UID:10015502-1775671200-1775676600@beoutdoorsarizona.org
SUMMARY:Tumamoc Hill Author Series
DESCRIPTION:You are cordially invited to the final event of our 2025-26 series. Documentary photographer David Burckhalter will share stunning images of Seri (Comcaac) baskets and the women who make them. His book\, Baskets from the Seri Coast: Comcaac Weavers and Their Craft\, traces the evolution of Seri basketry from a utilitarian craft to a celebrated art form. Burckhalter has spent five decades cultivating friendships and documenting Seri traditions\, landscapes\, and basketry in Sonora\, Mexico. With detailed insights into the artistry\, labor\, and legends surrounding Seri baskets\, Burckhalter’s images pay tribute to the resilience and creativity of Seri women\, whose weaving continues to be passed on to future generations.
URL:https://beoutdoorsarizona.org/event/tumamoc-hill-author-series/
LOCATION:Tumamoc Hill Boathouse\, Tucson\, 85745\, United States
CATEGORIES:Evening Event,Photography
END:VEVENT
END:VCALENDAR