BEGIN:VCALENDAR
VERSION:2.0
PRODID:-//Be Outdoors Arizona - ECPv6.15.20//NONSGML v1.0//EN
CALSCALE:GREGORIAN
METHOD:PUBLISH
X-WR-CALNAME:Be Outdoors Arizona
X-ORIGINAL-URL:https://beoutdoorsarizona.org
X-WR-CALDESC:Events for Be Outdoors Arizona
REFRESH-INTERVAL;VALUE=DURATION:PT1H
X-Robots-Tag:noindex
X-PUBLISHED-TTL:PT1H
BEGIN:VTIMEZONE
TZID:America/Phoenix
BEGIN:STANDARD
TZOFFSETFROM:-0700
TZOFFSETTO:-0700
TZNAME:MST
DTSTART:20250101T000000
END:STANDARD
END:VTIMEZONE
BEGIN:VEVENT
DTSTART;TZID=America/Phoenix:20260422T080000
DTEND;TZID=America/Phoenix:20260422T103000
DTSTAMP:20260420T084108
CREATED:20240313T172914Z
LAST-MODIFIED:20250724T181742Z
UID:10004082-1776844800-1776853800@beoutdoorsarizona.org
SUMMARY:2nd  Wednesday bird walk at San Pedro House
DESCRIPTION:Bird walk at the San Pedro House led by docents from the Friends of the San Pedro River and other local organizations.
URL:https://beoutdoorsarizona.org/event/2nd-wednesday-bird-walk-at-san-pedro-house/2026-04-22/
LOCATION:San Pedro House\, Sierra Vista\, AZ\, United States
CATEGORIES:Bird Watching
ATTACH;FMTTYPE=image/jpeg:https://beoutdoorsarizona.org/wp-content/uploads/2025/07/Young-Coopers-Hawk-Rory-Aikens.jpeg
GEO:31.571011;-110.170235
END:VEVENT
BEGIN:VEVENT
DTSTART;TZID=America/Phoenix:20260506T080000
DTEND;TZID=America/Phoenix:20260506T103000
DTSTAMP:20260420T084108
CREATED:20240313T172914Z
LAST-MODIFIED:20250724T181742Z
UID:10004083-1778054400-1778063400@beoutdoorsarizona.org
SUMMARY:2nd  Wednesday bird walk at San Pedro House
DESCRIPTION:Bird walk at the San Pedro House led by docents from the Friends of the San Pedro River and other local organizations.
URL:https://beoutdoorsarizona.org/event/2nd-wednesday-bird-walk-at-san-pedro-house/2026-05-06/
LOCATION:San Pedro House\, Sierra Vista\, AZ\, United States
CATEGORIES:Bird Watching
ATTACH;FMTTYPE=image/jpeg:https://beoutdoorsarizona.org/wp-content/uploads/2025/07/Young-Coopers-Hawk-Rory-Aikens.jpeg
GEO:31.571011;-110.170235
END:VEVENT
BEGIN:VEVENT
DTSTART;TZID=America/Phoenix:20260520T080000
DTEND;TZID=America/Phoenix:20260520T103000
DTSTAMP:20260420T084108
CREATED:20240313T172914Z
LAST-MODIFIED:20250724T181742Z
UID:10004084-1779264000-1779273000@beoutdoorsarizona.org
SUMMARY:2nd  Wednesday bird walk at San Pedro House
DESCRIPTION:Bird walk at the San Pedro House led by docents from the Friends of the San Pedro River and other local organizations.
URL:https://beoutdoorsarizona.org/event/2nd-wednesday-bird-walk-at-san-pedro-house/2026-05-20/
LOCATION:San Pedro House\, Sierra Vista\, AZ\, United States
CATEGORIES:Bird Watching
ATTACH;FMTTYPE=image/jpeg:https://beoutdoorsarizona.org/wp-content/uploads/2025/07/Young-Coopers-Hawk-Rory-Aikens.jpeg
GEO:31.571011;-110.170235
END:VEVENT
BEGIN:VEVENT
DTSTART;TZID=America/Phoenix:20260603T080000
DTEND;TZID=America/Phoenix:20260603T103000
DTSTAMP:20260420T084108
CREATED:20240313T172914Z
LAST-MODIFIED:20250724T181742Z
UID:10004085-1780473600-1780482600@beoutdoorsarizona.org
SUMMARY:2nd  Wednesday bird walk at San Pedro House
DESCRIPTION:Bird walk at the San Pedro House led by docents from the Friends of the San Pedro River and other local organizations.
URL:https://beoutdoorsarizona.org/event/2nd-wednesday-bird-walk-at-san-pedro-house/2026-06-03/
LOCATION:San Pedro House\, Sierra Vista\, AZ\, United States
CATEGORIES:Bird Watching
ATTACH;FMTTYPE=image/jpeg:https://beoutdoorsarizona.org/wp-content/uploads/2025/07/Young-Coopers-Hawk-Rory-Aikens.jpeg
GEO:31.571011;-110.170235
END:VEVENT
BEGIN:VEVENT
DTSTART;TZID=America/Phoenix:20260617T080000
DTEND;TZID=America/Phoenix:20260617T103000
DTSTAMP:20260420T084108
CREATED:20240313T172914Z
LAST-MODIFIED:20250724T181742Z
UID:10004086-1781683200-1781692200@beoutdoorsarizona.org
SUMMARY:2nd  Wednesday bird walk at San Pedro House
DESCRIPTION:Bird walk at the San Pedro House led by docents from the Friends of the San Pedro River and other local organizations.
URL:https://beoutdoorsarizona.org/event/2nd-wednesday-bird-walk-at-san-pedro-house/2026-06-17/
LOCATION:San Pedro House\, Sierra Vista\, AZ\, United States
CATEGORIES:Bird Watching
ATTACH;FMTTYPE=image/jpeg:https://beoutdoorsarizona.org/wp-content/uploads/2025/07/Young-Coopers-Hawk-Rory-Aikens.jpeg
GEO:31.571011;-110.170235
END:VEVENT
BEGIN:VEVENT
DTSTART;TZID=America/Phoenix:20260701T080000
DTEND;TZID=America/Phoenix:20260701T103000
DTSTAMP:20260420T084108
CREATED:20240313T172914Z
LAST-MODIFIED:20250724T181742Z
UID:10004087-1782892800-1782901800@beoutdoorsarizona.org
SUMMARY:2nd  Wednesday bird walk at San Pedro House
DESCRIPTION:Bird walk at the San Pedro House led by docents from the Friends of the San Pedro River and other local organizations.
URL:https://beoutdoorsarizona.org/event/2nd-wednesday-bird-walk-at-san-pedro-house/2026-07-01/
LOCATION:San Pedro House\, Sierra Vista\, AZ\, United States
CATEGORIES:Bird Watching
ATTACH;FMTTYPE=image/jpeg:https://beoutdoorsarizona.org/wp-content/uploads/2025/07/Young-Coopers-Hawk-Rory-Aikens.jpeg
GEO:31.571011;-110.170235
END:VEVENT
BEGIN:VEVENT
DTSTART;TZID=America/Phoenix:20260715T080000
DTEND;TZID=America/Phoenix:20260715T103000
DTSTAMP:20260420T084108
CREATED:20240313T172914Z
LAST-MODIFIED:20250724T181742Z
UID:10004088-1784102400-1784111400@beoutdoorsarizona.org
SUMMARY:2nd  Wednesday bird walk at San Pedro House
DESCRIPTION:Bird walk at the San Pedro House led by docents from the Friends of the San Pedro River and other local organizations.
URL:https://beoutdoorsarizona.org/event/2nd-wednesday-bird-walk-at-san-pedro-house/2026-07-15/
LOCATION:San Pedro House\, Sierra Vista\, AZ\, United States
CATEGORIES:Bird Watching
ATTACH;FMTTYPE=image/jpeg:https://beoutdoorsarizona.org/wp-content/uploads/2025/07/Young-Coopers-Hawk-Rory-Aikens.jpeg
GEO:31.571011;-110.170235
END:VEVENT
BEGIN:VEVENT
DTSTART;TZID=America/Phoenix:20260729T080000
DTEND;TZID=America/Phoenix:20260729T103000
DTSTAMP:20260420T084108
CREATED:20240313T172914Z
LAST-MODIFIED:20250724T181742Z
UID:10004089-1785312000-1785321000@beoutdoorsarizona.org
SUMMARY:2nd  Wednesday bird walk at San Pedro House
DESCRIPTION:Bird walk at the San Pedro House led by docents from the Friends of the San Pedro River and other local organizations.
URL:https://beoutdoorsarizona.org/event/2nd-wednesday-bird-walk-at-san-pedro-house/2026-07-29/
LOCATION:San Pedro House\, Sierra Vista\, AZ\, United States
CATEGORIES:Bird Watching
ATTACH;FMTTYPE=image/jpeg:https://beoutdoorsarizona.org/wp-content/uploads/2025/07/Young-Coopers-Hawk-Rory-Aikens.jpeg
GEO:31.571011;-110.170235
END:VEVENT
BEGIN:VEVENT
DTSTART;TZID=America/Phoenix:20260812T080000
DTEND;TZID=America/Phoenix:20260812T103000
DTSTAMP:20260420T084108
CREATED:20240313T172914Z
LAST-MODIFIED:20250724T181742Z
UID:10004090-1786521600-1786530600@beoutdoorsarizona.org
SUMMARY:2nd  Wednesday bird walk at San Pedro House
DESCRIPTION:Bird walk at the San Pedro House led by docents from the Friends of the San Pedro River and other local organizations.
URL:https://beoutdoorsarizona.org/event/2nd-wednesday-bird-walk-at-san-pedro-house/2026-08-12/
LOCATION:San Pedro House\, Sierra Vista\, AZ\, United States
CATEGORIES:Bird Watching
ATTACH;FMTTYPE=image/jpeg:https://beoutdoorsarizona.org/wp-content/uploads/2025/07/Young-Coopers-Hawk-Rory-Aikens.jpeg
GEO:31.571011;-110.170235
END:VEVENT
BEGIN:VEVENT
DTSTART;TZID=America/Phoenix:20260826T080000
DTEND;TZID=America/Phoenix:20260826T103000
DTSTAMP:20260420T084108
CREATED:20240313T172914Z
LAST-MODIFIED:20250724T181742Z
UID:10004091-1787731200-1787740200@beoutdoorsarizona.org
SUMMARY:2nd  Wednesday bird walk at San Pedro House
DESCRIPTION:Bird walk at the San Pedro House led by docents from the Friends of the San Pedro River and other local organizations.
URL:https://beoutdoorsarizona.org/event/2nd-wednesday-bird-walk-at-san-pedro-house/2026-08-26/
LOCATION:San Pedro House\, Sierra Vista\, AZ\, United States
CATEGORIES:Bird Watching
ATTACH;FMTTYPE=image/jpeg:https://beoutdoorsarizona.org/wp-content/uploads/2025/07/Young-Coopers-Hawk-Rory-Aikens.jpeg
GEO:31.571011;-110.170235
END:VEVENT
BEGIN:VEVENT
DTSTART;TZID=America/Phoenix:20260909T080000
DTEND;TZID=America/Phoenix:20260909T103000
DTSTAMP:20260420T084108
CREATED:20240313T172914Z
LAST-MODIFIED:20250724T181742Z
UID:10004092-1788940800-1788949800@beoutdoorsarizona.org
SUMMARY:2nd  Wednesday bird walk at San Pedro House
DESCRIPTION:Bird walk at the San Pedro House led by docents from the Friends of the San Pedro River and other local organizations.
URL:https://beoutdoorsarizona.org/event/2nd-wednesday-bird-walk-at-san-pedro-house/2026-09-09/
LOCATION:San Pedro House\, Sierra Vista\, AZ\, United States
CATEGORIES:Bird Watching
ATTACH;FMTTYPE=image/jpeg:https://beoutdoorsarizona.org/wp-content/uploads/2025/07/Young-Coopers-Hawk-Rory-Aikens.jpeg
GEO:31.571011;-110.170235
END:VEVENT
BEGIN:VEVENT
DTSTART;TZID=America/Phoenix:20260923T080000
DTEND;TZID=America/Phoenix:20260923T103000
DTSTAMP:20260420T084108
CREATED:20240313T172914Z
LAST-MODIFIED:20250724T181742Z
UID:10004093-1790150400-1790159400@beoutdoorsarizona.org
SUMMARY:2nd  Wednesday bird walk at San Pedro House
DESCRIPTION:Bird walk at the San Pedro House led by docents from the Friends of the San Pedro River and other local organizations.
URL:https://beoutdoorsarizona.org/event/2nd-wednesday-bird-walk-at-san-pedro-house/2026-09-23/
LOCATION:San Pedro House\, Sierra Vista\, AZ\, United States
CATEGORIES:Bird Watching
ATTACH;FMTTYPE=image/jpeg:https://beoutdoorsarizona.org/wp-content/uploads/2025/07/Young-Coopers-Hawk-Rory-Aikens.jpeg
GEO:31.571011;-110.170235
END:VEVENT
BEGIN:VEVENT
DTSTART;TZID=America/Phoenix:20261007T080000
DTEND;TZID=America/Phoenix:20261007T103000
DTSTAMP:20260420T084108
CREATED:20240313T172914Z
LAST-MODIFIED:20250724T181742Z
UID:10004094-1791360000-1791369000@beoutdoorsarizona.org
SUMMARY:2nd  Wednesday bird walk at San Pedro House
DESCRIPTION:Bird walk at the San Pedro House led by docents from the Friends of the San Pedro River and other local organizations.
URL:https://beoutdoorsarizona.org/event/2nd-wednesday-bird-walk-at-san-pedro-house/2026-10-07/
LOCATION:San Pedro House\, Sierra Vista\, AZ\, United States
CATEGORIES:Bird Watching
ATTACH;FMTTYPE=image/jpeg:https://beoutdoorsarizona.org/wp-content/uploads/2025/07/Young-Coopers-Hawk-Rory-Aikens.jpeg
GEO:31.571011;-110.170235
END:VEVENT
BEGIN:VEVENT
DTSTART;TZID=America/Phoenix:20261021T080000
DTEND;TZID=America/Phoenix:20261021T103000
DTSTAMP:20260420T084108
CREATED:20240313T172914Z
LAST-MODIFIED:20250724T181742Z
UID:10004095-1792569600-1792578600@beoutdoorsarizona.org
SUMMARY:2nd  Wednesday bird walk at San Pedro House
DESCRIPTION:Bird walk at the San Pedro House led by docents from the Friends of the San Pedro River and other local organizations.
URL:https://beoutdoorsarizona.org/event/2nd-wednesday-bird-walk-at-san-pedro-house/2026-10-21/
LOCATION:San Pedro House\, Sierra Vista\, AZ\, United States
CATEGORIES:Bird Watching
ATTACH;FMTTYPE=image/jpeg:https://beoutdoorsarizona.org/wp-content/uploads/2025/07/Young-Coopers-Hawk-Rory-Aikens.jpeg
GEO:31.571011;-110.170235
END:VEVENT
BEGIN:VEVENT
DTSTART;TZID=America/Phoenix:20261104T080000
DTEND;TZID=America/Phoenix:20261104T103000
DTSTAMP:20260420T084108
CREATED:20240313T172914Z
LAST-MODIFIED:20250724T181742Z
UID:10004096-1793779200-1793788200@beoutdoorsarizona.org
SUMMARY:2nd  Wednesday bird walk at San Pedro House
DESCRIPTION:Bird walk at the San Pedro House led by docents from the Friends of the San Pedro River and other local organizations.
URL:https://beoutdoorsarizona.org/event/2nd-wednesday-bird-walk-at-san-pedro-house/2026-11-04/
LOCATION:San Pedro House\, Sierra Vista\, AZ\, United States
CATEGORIES:Bird Watching
ATTACH;FMTTYPE=image/jpeg:https://beoutdoorsarizona.org/wp-content/uploads/2025/07/Young-Coopers-Hawk-Rory-Aikens.jpeg
GEO:31.571011;-110.170235
END:VEVENT
BEGIN:VEVENT
DTSTART;TZID=America/Phoenix:20261118T080000
DTEND;TZID=America/Phoenix:20261118T103000
DTSTAMP:20260420T084108
CREATED:20240313T172914Z
LAST-MODIFIED:20250724T181742Z
UID:10004097-1794988800-1794997800@beoutdoorsarizona.org
SUMMARY:2nd  Wednesday bird walk at San Pedro House
DESCRIPTION:Bird walk at the San Pedro House led by docents from the Friends of the San Pedro River and other local organizations.
URL:https://beoutdoorsarizona.org/event/2nd-wednesday-bird-walk-at-san-pedro-house/2026-11-18/
LOCATION:San Pedro House\, Sierra Vista\, AZ\, United States
CATEGORIES:Bird Watching
ATTACH;FMTTYPE=image/jpeg:https://beoutdoorsarizona.org/wp-content/uploads/2025/07/Young-Coopers-Hawk-Rory-Aikens.jpeg
GEO:31.571011;-110.170235
END:VEVENT
BEGIN:VEVENT
DTSTART;TZID=America/Phoenix:20261202T080000
DTEND;TZID=America/Phoenix:20261202T103000
DTSTAMP:20260420T084108
CREATED:20240313T172914Z
LAST-MODIFIED:20250724T181742Z
UID:10004098-1796198400-1796207400@beoutdoorsarizona.org
SUMMARY:2nd  Wednesday bird walk at San Pedro House
DESCRIPTION:Bird walk at the San Pedro House led by docents from the Friends of the San Pedro River and other local organizations.
URL:https://beoutdoorsarizona.org/event/2nd-wednesday-bird-walk-at-san-pedro-house/2026-12-02/
LOCATION:San Pedro House\, Sierra Vista\, AZ\, United States
CATEGORIES:Bird Watching
ATTACH;FMTTYPE=image/jpeg:https://beoutdoorsarizona.org/wp-content/uploads/2025/07/Young-Coopers-Hawk-Rory-Aikens.jpeg
GEO:31.571011;-110.170235
END:VEVENT
BEGIN:VEVENT
DTSTART;TZID=America/Phoenix:20261216T080000
DTEND;TZID=America/Phoenix:20261216T103000
DTSTAMP:20260420T084108
CREATED:20240313T172914Z
LAST-MODIFIED:20250724T181742Z
UID:10004099-1797408000-1797417000@beoutdoorsarizona.org
SUMMARY:2nd  Wednesday bird walk at San Pedro House
DESCRIPTION:Bird walk at the San Pedro House led by docents from the Friends of the San Pedro River and other local organizations.
URL:https://beoutdoorsarizona.org/event/2nd-wednesday-bird-walk-at-san-pedro-house/2026-12-16/
LOCATION:San Pedro House\, Sierra Vista\, AZ\, United States
CATEGORIES:Bird Watching
ATTACH;FMTTYPE=image/jpeg:https://beoutdoorsarizona.org/wp-content/uploads/2025/07/Young-Coopers-Hawk-Rory-Aikens.jpeg
GEO:31.571011;-110.170235
END:VEVENT
BEGIN:VEVENT
DTSTART;TZID=America/Phoenix:20261230T080000
DTEND;TZID=America/Phoenix:20261230T103000
DTSTAMP:20260420T084108
CREATED:20240313T172914Z
LAST-MODIFIED:20250724T181742Z
UID:10004100-1798617600-1798626600@beoutdoorsarizona.org
SUMMARY:2nd  Wednesday bird walk at San Pedro House
DESCRIPTION:Bird walk at the San Pedro House led by docents from the Friends of the San Pedro River and other local organizations.
URL:https://beoutdoorsarizona.org/event/2nd-wednesday-bird-walk-at-san-pedro-house/2026-12-30/
LOCATION:San Pedro House\, Sierra Vista\, AZ\, United States
CATEGORIES:Bird Watching
ATTACH;FMTTYPE=image/jpeg:https://beoutdoorsarizona.org/wp-content/uploads/2025/07/Young-Coopers-Hawk-Rory-Aikens.jpeg
GEO:31.571011;-110.170235
END:VEVENT
BEGIN:VEVENT
DTSTART;TZID=America/Phoenix:20270113T080000
DTEND;TZID=America/Phoenix:20270113T103000
DTSTAMP:20260420T084108
CREATED:20240313T172914Z
LAST-MODIFIED:20250724T181742Z
UID:10004101-1799827200-1799836200@beoutdoorsarizona.org
SUMMARY:2nd  Wednesday bird walk at San Pedro House
DESCRIPTION:Bird walk at the San Pedro House led by docents from the Friends of the San Pedro River and other local organizations.
URL:https://beoutdoorsarizona.org/event/2nd-wednesday-bird-walk-at-san-pedro-house/2027-01-13/
LOCATION:San Pedro House\, Sierra Vista\, AZ\, United States
CATEGORIES:Bird Watching
ATTACH;FMTTYPE=image/jpeg:https://beoutdoorsarizona.org/wp-content/uploads/2025/07/Young-Coopers-Hawk-Rory-Aikens.jpeg
GEO:31.571011;-110.170235
END:VEVENT
BEGIN:VEVENT
DTSTART;TZID=America/Phoenix:20270127T080000
DTEND;TZID=America/Phoenix:20270127T103000
DTSTAMP:20260420T084108
CREATED:20240313T172914Z
LAST-MODIFIED:20250724T181742Z
UID:10004102-1801036800-1801045800@beoutdoorsarizona.org
SUMMARY:2nd  Wednesday bird walk at San Pedro House
DESCRIPTION:Bird walk at the San Pedro House led by docents from the Friends of the San Pedro River and other local organizations.
URL:https://beoutdoorsarizona.org/event/2nd-wednesday-bird-walk-at-san-pedro-house/2027-01-27/
LOCATION:San Pedro House\, Sierra Vista\, AZ\, United States
CATEGORIES:Bird Watching
ATTACH;FMTTYPE=image/jpeg:https://beoutdoorsarizona.org/wp-content/uploads/2025/07/Young-Coopers-Hawk-Rory-Aikens.jpeg
GEO:31.571011;-110.170235
END:VEVENT
BEGIN:VEVENT
DTSTART;TZID=America/Phoenix:20270210T080000
DTEND;TZID=America/Phoenix:20270210T103000
DTSTAMP:20260420T084108
CREATED:20240313T172914Z
LAST-MODIFIED:20250724T181742Z
UID:10004103-1802246400-1802255400@beoutdoorsarizona.org
SUMMARY:2nd  Wednesday bird walk at San Pedro House
DESCRIPTION:Bird walk at the San Pedro House led by docents from the Friends of the San Pedro River and other local organizations.
URL:https://beoutdoorsarizona.org/event/2nd-wednesday-bird-walk-at-san-pedro-house/2027-02-10/
LOCATION:San Pedro House\, Sierra Vista\, AZ\, United States
CATEGORIES:Bird Watching
ATTACH;FMTTYPE=image/jpeg:https://beoutdoorsarizona.org/wp-content/uploads/2025/07/Young-Coopers-Hawk-Rory-Aikens.jpeg
GEO:31.571011;-110.170235
END:VEVENT
BEGIN:VEVENT
DTSTART;TZID=America/Phoenix:20270224T080000
DTEND;TZID=America/Phoenix:20270224T103000
DTSTAMP:20260420T084108
CREATED:20240313T172914Z
LAST-MODIFIED:20250724T181742Z
UID:10004104-1803456000-1803465000@beoutdoorsarizona.org
SUMMARY:2nd  Wednesday bird walk at San Pedro House
DESCRIPTION:Bird walk at the San Pedro House led by docents from the Friends of the San Pedro River and other local organizations.
URL:https://beoutdoorsarizona.org/event/2nd-wednesday-bird-walk-at-san-pedro-house/2027-02-24/
LOCATION:San Pedro House\, Sierra Vista\, AZ\, United States
CATEGORIES:Bird Watching
ATTACH;FMTTYPE=image/jpeg:https://beoutdoorsarizona.org/wp-content/uploads/2025/07/Young-Coopers-Hawk-Rory-Aikens.jpeg
GEO:31.571011;-110.170235
END:VEVENT
BEGIN:VEVENT
DTSTART;TZID=America/Phoenix:20270310T080000
DTEND;TZID=America/Phoenix:20270310T103000
DTSTAMP:20260420T084108
CREATED:20240313T172914Z
LAST-MODIFIED:20250724T181742Z
UID:10004105-1804665600-1804674600@beoutdoorsarizona.org
SUMMARY:2nd  Wednesday bird walk at San Pedro House
DESCRIPTION:Bird walk at the San Pedro House led by docents from the Friends of the San Pedro River and other local organizations.
URL:https://beoutdoorsarizona.org/event/2nd-wednesday-bird-walk-at-san-pedro-house/2027-03-10/
LOCATION:San Pedro House\, Sierra Vista\, AZ\, United States
CATEGORIES:Bird Watching
ATTACH;FMTTYPE=image/jpeg:https://beoutdoorsarizona.org/wp-content/uploads/2025/07/Young-Coopers-Hawk-Rory-Aikens.jpeg
GEO:31.571011;-110.170235
END:VEVENT
BEGIN:VEVENT
DTSTART;TZID=America/Phoenix:20270324T080000
DTEND;TZID=America/Phoenix:20270324T103000
DTSTAMP:20260420T084108
CREATED:20240313T172914Z
LAST-MODIFIED:20250724T181742Z
UID:10004106-1805875200-1805884200@beoutdoorsarizona.org
SUMMARY:2nd  Wednesday bird walk at San Pedro House
DESCRIPTION:Bird walk at the San Pedro House led by docents from the Friends of the San Pedro River and other local organizations.
URL:https://beoutdoorsarizona.org/event/2nd-wednesday-bird-walk-at-san-pedro-house/2027-03-24/
LOCATION:San Pedro House\, Sierra Vista\, AZ\, United States
CATEGORIES:Bird Watching
ATTACH;FMTTYPE=image/jpeg:https://beoutdoorsarizona.org/wp-content/uploads/2025/07/Young-Coopers-Hawk-Rory-Aikens.jpeg
GEO:31.571011;-110.170235
END:VEVENT
BEGIN:VEVENT
DTSTART;TZID=America/Phoenix:20270407T080000
DTEND;TZID=America/Phoenix:20270407T103000
DTSTAMP:20260420T084108
CREATED:20240313T172914Z
LAST-MODIFIED:20250724T181742Z
UID:10004107-1807084800-1807093800@beoutdoorsarizona.org
SUMMARY:2nd  Wednesday bird walk at San Pedro House
DESCRIPTION:Bird walk at the San Pedro House led by docents from the Friends of the San Pedro River and other local organizations.
URL:https://beoutdoorsarizona.org/event/2nd-wednesday-bird-walk-at-san-pedro-house/2027-04-07/
LOCATION:San Pedro House\, Sierra Vista\, AZ\, United States
CATEGORIES:Bird Watching
ATTACH;FMTTYPE=image/jpeg:https://beoutdoorsarizona.org/wp-content/uploads/2025/07/Young-Coopers-Hawk-Rory-Aikens.jpeg
GEO:31.571011;-110.170235
END:VEVENT
BEGIN:VEVENT
DTSTART;TZID=America/Phoenix:20270421T080000
DTEND;TZID=America/Phoenix:20270421T103000
DTSTAMP:20260420T084108
CREATED:20240313T172914Z
LAST-MODIFIED:20250724T181742Z
UID:10004108-1808294400-1808303400@beoutdoorsarizona.org
SUMMARY:2nd  Wednesday bird walk at San Pedro House
DESCRIPTION:Bird walk at the San Pedro House led by docents from the Friends of the San Pedro River and other local organizations.
URL:https://beoutdoorsarizona.org/event/2nd-wednesday-bird-walk-at-san-pedro-house/2027-04-21/
LOCATION:San Pedro House\, Sierra Vista\, AZ\, United States
CATEGORIES:Bird Watching
ATTACH;FMTTYPE=image/jpeg:https://beoutdoorsarizona.org/wp-content/uploads/2025/07/Young-Coopers-Hawk-Rory-Aikens.jpeg
GEO:31.571011;-110.170235
END:VEVENT
BEGIN:VEVENT
DTSTART;TZID=America/Phoenix:20270505T080000
DTEND;TZID=America/Phoenix:20270505T103000
DTSTAMP:20260420T084108
CREATED:20240313T172914Z
LAST-MODIFIED:20250724T181742Z
UID:10004109-1809504000-1809513000@beoutdoorsarizona.org
SUMMARY:2nd  Wednesday bird walk at San Pedro House
DESCRIPTION:Bird walk at the San Pedro House led by docents from the Friends of the San Pedro River and other local organizations.
URL:https://beoutdoorsarizona.org/event/2nd-wednesday-bird-walk-at-san-pedro-house/2027-05-05/
LOCATION:San Pedro House\, Sierra Vista\, AZ\, United States
CATEGORIES:Bird Watching
ATTACH;FMTTYPE=image/jpeg:https://beoutdoorsarizona.org/wp-content/uploads/2025/07/Young-Coopers-Hawk-Rory-Aikens.jpeg
GEO:31.571011;-110.170235
END:VEVENT
BEGIN:VEVENT
DTSTART;TZID=America/Phoenix:20270519T080000
DTEND;TZID=America/Phoenix:20270519T103000
DTSTAMP:20260420T084108
CREATED:20240313T172914Z
LAST-MODIFIED:20250724T181742Z
UID:10004110-1810713600-1810722600@beoutdoorsarizona.org
SUMMARY:2nd  Wednesday bird walk at San Pedro House
DESCRIPTION:Bird walk at the San Pedro House led by docents from the Friends of the San Pedro River and other local organizations.
URL:https://beoutdoorsarizona.org/event/2nd-wednesday-bird-walk-at-san-pedro-house/2027-05-19/
LOCATION:San Pedro House\, Sierra Vista\, AZ\, United States
CATEGORIES:Bird Watching
ATTACH;FMTTYPE=image/jpeg:https://beoutdoorsarizona.org/wp-content/uploads/2025/07/Young-Coopers-Hawk-Rory-Aikens.jpeg
GEO:31.571011;-110.170235
END:VEVENT
BEGIN:VEVENT
DTSTART;TZID=America/Phoenix:20270602T080000
DTEND;TZID=America/Phoenix:20270602T103000
DTSTAMP:20260420T084108
CREATED:20240313T172914Z
LAST-MODIFIED:20250724T181742Z
UID:10004111-1811923200-1811932200@beoutdoorsarizona.org
SUMMARY:2nd  Wednesday bird walk at San Pedro House
DESCRIPTION:Bird walk at the San Pedro House led by docents from the Friends of the San Pedro River and other local organizations.
URL:https://beoutdoorsarizona.org/event/2nd-wednesday-bird-walk-at-san-pedro-house/2027-06-02/
LOCATION:San Pedro House\, Sierra Vista\, AZ\, United States
CATEGORIES:Bird Watching
ATTACH;FMTTYPE=image/jpeg:https://beoutdoorsarizona.org/wp-content/uploads/2025/07/Young-Coopers-Hawk-Rory-Aikens.jpeg
GEO:31.571011;-110.170235
END:VEVENT
END:VCALENDAR