BEGIN:VCALENDAR
VERSION:2.0
PRODID:-//Be Outdoors Arizona - ECPv6.15.20//NONSGML v1.0//EN
CALSCALE:GREGORIAN
METHOD:PUBLISH
X-ORIGINAL-URL:https://beoutdoorsarizona.org
X-WR-CALDESC:Events for Be Outdoors Arizona
REFRESH-INTERVAL;VALUE=DURATION:PT1H
X-Robots-Tag:noindex
X-PUBLISHED-TTL:PT1H
BEGIN:VTIMEZONE
TZID:America/Phoenix
BEGIN:STANDARD
TZOFFSETFROM:-0700
TZOFFSETTO:-0700
TZNAME:MST
DTSTART:20250101T000000
END:STANDARD
END:VTIMEZONE
BEGIN:VEVENT
DTSTART;TZID=America/Phoenix:20260502T090000
DTEND;TZID=America/Phoenix:20260502T120000
DTSTAMP:20260425T060513
CREATED:20260420T150952Z
LAST-MODIFIED:20260420T151002Z
UID:10015864-1777712400-1777723200@beoutdoorsarizona.org
SUMMARY:Volunteer to Help Displaced Burrowing Owls
DESCRIPTION:This event involves trapping and relocating burrowing owls to safer\, less crowded areas where they will live in peace. Tools and guided instructions are provided to volunteers.
URL:https://beoutdoorsarizona.org/event/volunteer-to-help-displaced-burrowing-owls/
LOCATION:Wild At Heart Raptor Center\, 31840 N 45th St\, Cave Creek\, 85331
CATEGORIES:Bird Watching,Conservation,Trapping,Volunteering,Wildlife Watching
ATTACH;FMTTYPE=image/jpeg:https://beoutdoorsarizona.org/wp-content/uploads/2025/07/Burrowing-owls.jpeg
ORGANIZER;CN="Rio Salado Audubon":MAILTO:riosalado@audubon.org
END:VEVENT
BEGIN:VEVENT
DTSTART;TZID=America/Phoenix:20260627T100000
DTEND;TZID=America/Phoenix:20260627T120000
DTSTAMP:20260425T060513
CREATED:20260422T140713Z
LAST-MODIFIED:20260422T140713Z
UID:10015935-1782554400-1782561600@beoutdoorsarizona.org
SUMMARY:Help Kids Learn About Bugs
DESCRIPTION:Children and families will learn about insects and view them up close at different stations. We will head down to the pond and try to catch insects\, and plant seeds for a butterfly plant and do more family-friendly activities.
URL:https://beoutdoorsarizona.org/event/help-kids-learn-about-bugs/
LOCATION:Frances Short Pond\, 755 N Bonito St.\, Flagstaff\, 86001
CATEGORIES:Bugs/Insects/Butterflies,Educational/Training/Workshop,Family Event,Youth Event
ATTACH;FMTTYPE=image/png:https://beoutdoorsarizona.org/wp-content/uploads/2025/04/bugs-butterflies.png
END:VEVENT
BEGIN:VEVENT
DTSTART;TZID=America/Phoenix:20260718T110000
DTEND;TZID=America/Phoenix:20260718T120000
DTSTAMP:20260425T060513
CREATED:20260422T140429Z
LAST-MODIFIED:20260422T140429Z
UID:10015936-1784372400-1784376000@beoutdoorsarizona.org
SUMMARY:Look for Prairie Dogs in the Four Corners
DESCRIPTION:Look for Gunnison’s prairie dogs\, a species native to Flagstaff that are seen in the grasslands. Visitors should be cautious of these animals and keep pets on leashes.
URL:https://beoutdoorsarizona.org/event/look-for-prairie-dogs-in-the-four-corners/
LOCATION:Campbell Mesa Trailhead\, Forest Service Rd 790\, Flagstaff\, 86004
CATEGORIES:Conservation,Ecology,Wildlife Watching
ATTACH;FMTTYPE=image/png:https://beoutdoorsarizona.org/wp-content/uploads/2026/04/Prairie-dog.png
END:VEVENT
END:VCALENDAR