BEGIN:VCALENDAR
VERSION:2.0
PRODID:-//Be Outdoors Arizona - ECPv6.15.20//NONSGML v1.0//EN
CALSCALE:GREGORIAN
METHOD:PUBLISH
X-WR-CALNAME:Be Outdoors Arizona
X-ORIGINAL-URL:https://beoutdoorsarizona.org
X-WR-CALDESC:Events for Be Outdoors Arizona
REFRESH-INTERVAL;VALUE=DURATION:PT1H
X-Robots-Tag:noindex
X-PUBLISHED-TTL:PT1H
BEGIN:VTIMEZONE
TZID:America/Phoenix
BEGIN:STANDARD
TZOFFSETFROM:-0700
TZOFFSETTO:-0700
TZNAME:MST
DTSTART:20240101T000000
END:STANDARD
END:VTIMEZONE
BEGIN:VEVENT
DTSTART;TZID=America/Phoenix:20251224T070000
DTEND;TZID=America/Phoenix:20251224T100000
DTSTAMP:20260423T102826
CREATED:20260101T152655Z
LAST-MODIFIED:20260101T152655Z
UID:10015074-1766559600-1766570400@beoutdoorsarizona.org
SUMMARY:🕊️ December Bird Walk: Discover the Wildlife of the San Pedro River!
DESCRIPTION:This December\, step into one of the region’s most vibrant birding destinations with a guided monthly bird walk through the lush riparian forest of the San Pedro River. Follow the sounds of fluttering wings and melodic calls as you search for over 100 bird species\, from brilliant year-round residents to exciting seasonal visitors passing through. \nSpend two to three peaceful hours immersed in this life-rich landscape alongside fellow nature enthusiasts. Learn tips for spotting and identifying birds in their natural habitats while deepening your appreciation for one of Arizona’s most important wildlife corridors. \nWhether you’re a seasoned birder with binoculars in hand or brand new and simply curious\, this guided walk offers a welcoming experience for all levels. \n📞 Questions or planning your visit?Call (520) 508-4445 or email fspr@sanpedroriver.org \n✨ Slow down\, listen closely\, and experience the San Pedro River through the eyes—and songs—of its birds.
URL:https://beoutdoorsarizona.org/event/%f0%9f%95%8a%ef%b8%8f-december-bird-walk-discover-the-wildlife-of-the-san-pedro-river-2/
LOCATION:San Pedro House\, Sierra Vista\, AZ\, United States
CATEGORIES:Arizona History,Bird Watching,Streams and Rivers,Trails,Wildlife Watching
ATTACH;FMTTYPE=image/png:https://beoutdoorsarizona.org/wp-content/uploads/2025/01/bird-watching.png
GEO:31.571011;-110.170235
END:VEVENT
BEGIN:VEVENT
DTSTART;TZID=America/Phoenix:20251224T070000
DTEND;TZID=America/Phoenix:20251224T100000
DTSTAMP:20260423T102826
CREATED:20260101T153452Z
LAST-MODIFIED:20260101T153505Z
UID:10015083-1766559600-1766570400@beoutdoorsarizona.org
SUMMARY:🕊️ December Bird Walk: Discover the Wildlife of the San Pedro River!
DESCRIPTION:This December\, step into one of the region’s most vibrant birding destinations with a guided monthly bird walk through the lush riparian forest of the San Pedro River. Follow the sounds of fluttering wings and melodic calls as you search for over 100 bird species\, from brilliant year-round residents to exciting seasonal visitors passing through. \nSpend two to three peaceful hours immersed in this life-rich landscape alongside fellow nature enthusiasts. Learn tips for spotting and identifying birds in their natural habitats while deepening your appreciation for one of Arizona’s most important wildlife corridors. \nWhether you’re a seasoned birder with binoculars in hand or brand new and simply curious\, this guided walk offers a welcoming experience for all levels. \n📞 Questions or planning your visit?Call (520) 508-4445 or email fspr@sanpedroriver.org \n✨ Slow down\, listen closely\, and experience the San Pedro River through the eyes—and songs—of its birds.
URL:https://beoutdoorsarizona.org/event/%f0%9f%95%8a%ef%b8%8f-december-bird-walk-discover-the-wildlife-of-the-san-pedro-river-3/
LOCATION:San Pedro House\, Sierra Vista\, AZ\, United States
CATEGORIES:Arizona History,Bird Watching,Streams and Rivers,Trails,Wildlife Watching
ATTACH;FMTTYPE=image/png:https://beoutdoorsarizona.org/wp-content/uploads/2025/01/bird-watching.png
GEO:31.571011;-110.170235
END:VEVENT
END:VCALENDAR