BEGIN:VCALENDAR
VERSION:2.0
PRODID:-//Be Outdoors Arizona - ECPv6.15.20//NONSGML v1.0//EN
CALSCALE:GREGORIAN
METHOD:PUBLISH
X-ORIGINAL-URL:https://beoutdoorsarizona.org
X-WR-CALDESC:Events for Be Outdoors Arizona
REFRESH-INTERVAL;VALUE=DURATION:PT1H
X-Robots-Tag:noindex
X-PUBLISHED-TTL:PT1H
BEGIN:VTIMEZONE
TZID:America/Phoenix
BEGIN:STANDARD
TZOFFSETFROM:-0700
TZOFFSETTO:-0700
TZNAME:MST
DTSTART:20240101T000000
END:STANDARD
END:VTIMEZONE
BEGIN:VEVENT
DTSTART;TZID=America/Phoenix:20251117T060000
DTEND;TZID=America/Phoenix:20251117T073000
DTSTAMP:20260423T004655
CREATED:20250710T144806Z
LAST-MODIFIED:20250710T204303Z
UID:10014274-1763359200-1763364600@beoutdoorsarizona.org
SUMMARY:Join Bird Walk at Higley Ponds
DESCRIPTION:This June\, join the bird walk along Higley Ponds. These four ponds along Higley Road are renowned for bird watching.
URL:https://beoutdoorsarizona.org/event/join-bird-walk-at-higley-ponds-2/2025-11-17/
LOCATION:Higley Pond
CATEGORIES:Bird Watching,Evening Event,Meeting,Morning Event,Wildlife Education,Wildlife Watching
END:VEVENT
BEGIN:VEVENT
DTSTART;TZID=America/Phoenix:20251119T070000
DTEND;TZID=America/Phoenix:20251119T093000
DTSTAMP:20260423T004655
CREATED:20251103T021848Z
LAST-MODIFIED:20251103T021927Z
UID:10015048-1763535600-1763544600@beoutdoorsarizona.org
SUMMARY:🐦 Explore Nature on a Riparian Bird Walk at Sycamore Creek!
DESCRIPTION:Join us for a peaceful morning along the Upper Beeline Highway’s Sycamore Creek\, where the gentle sounds of flowing water and rustling leaves set the stage for a memorable bird-watching adventure. \nLed by expert birder Anne Leight\, this guided walk will take you through scenic stretches of sycamore and willow trees\, prime habitat for a variety of native and migratory birds. Participants will walk and drive along the route\, taking time to observe and appreciate the diverse birdlife that calls this riparian area home. \n📧 Questions? Contact fieldtrips@DesertRiversAudubon.org \n🌿 Bring your binoculars\, your curiosity\, and your love for the outdoors — and discover the beauty of Arizona’s riparian habitats!
URL:https://beoutdoorsarizona.org/event/%f0%9f%90%a6-explore-nature-on-a-riparian-bird-walk-at-sycamore-creek/
LOCATION:Fountain Hills\, AZ\, USA
CATEGORIES:Bird Watching,Event for Ability Challenged,Morning Event,Streams and Rivers,Wildlife Watching
ATTACH;FMTTYPE=image/png:https://beoutdoorsarizona.org/wp-content/uploads/2025/01/bird-watching.png
GEO:33.6042079;-111.7256936
END:VEVENT
BEGIN:VEVENT
DTSTART;TZID=America/Phoenix:20251122T090000
DTEND;TZID=America/Phoenix:20251122T120000
DTSTAMP:20260423T004655
CREATED:20251022T185858Z
LAST-MODIFIED:20251022T185858Z
UID:10015033-1763802000-1763812800@beoutdoorsarizona.org
SUMMARY:Join Walk to Grand Central Mill
DESCRIPTION:Tour the Grand Central Mill\, the site of the Tombstone silver mining boom. This is a three-mile walk and exploration of the townsite. To learn more\, call (520) 508-4445 or email mailto:fspr@sanpedroriver.org.
URL:https://beoutdoorsarizona.org/event/join-walk-to-grand-central-mill/
LOCATION:Fairbank Historic Townsite\, 2293 N Old Fairbank Rd\, Huachuca City\, AZ\, United States
CATEGORIES:Arizona History,Bird Watching,Streams and Rivers,Tour,Trails,Wildlife Watching
ATTACH;FMTTYPE=image/jpeg:https://beoutdoorsarizona.org/wp-content/uploads/2025/07/quail-rory-aikens.jpeg
GEO:31.721228;-110.188215
X-APPLE-STRUCTURED-LOCATION;VALUE=URI;X-ADDRESS=Fairbank Historic Townsite 2293 N Old Fairbank Rd Huachuca City AZ United States;X-APPLE-RADIUS=500;X-TITLE=2293 N Old Fairbank Rd:geo:-110.188215,31.721228
END:VEVENT
END:VCALENDAR