BEGIN:VCALENDAR
VERSION:2.0
PRODID:-//Be Outdoors Arizona - ECPv6.15.20//NONSGML v1.0//EN
CALSCALE:GREGORIAN
METHOD:PUBLISH
X-ORIGINAL-URL:https://beoutdoorsarizona.org
X-WR-CALDESC:Events for Be Outdoors Arizona
REFRESH-INTERVAL;VALUE=DURATION:PT1H
X-Robots-Tag:noindex
X-PUBLISHED-TTL:PT1H
BEGIN:VTIMEZONE
TZID:America/Phoenix
BEGIN:STANDARD
TZOFFSETFROM:-0700
TZOFFSETTO:-0700
TZNAME:MST
DTSTART:20240101T000000
END:STANDARD
END:VTIMEZONE
BEGIN:VEVENT
DTSTART;TZID=America/Phoenix:20250812T190000
DTEND;TZID=America/Phoenix:20250812T200000
DTSTAMP:20260422T195523
CREATED:20250807T162213Z
LAST-MODIFIED:20250807T162213Z
UID:10014884-1755025200-1755028800@beoutdoorsarizona.org
SUMMARY:Monthly Lecture About Appleton-Whittell Research Ranch
DESCRIPTION:Director Steve Prager will discuss the efforts of The Appleton-Whittell Research Ranch\, the 8\,000 acres that are managed by the National Audubon Society. The one-hour lecture discusses the research and conservation efforts in saving the region’s birds and other wildlife. Last grazed in 1968\, and since dedicated to research\, conservation\, and public engagement\, the AWRR plays a critical role in protecting and enhancing the grasslands of Southeastern Arizona for the birds\, other wildlife\, and communities that depend on them.
URL:https://beoutdoorsarizona.org/event/monthly-lecture-about-appleton-whittell-research-ranch/
LOCATION:Online Virtual Format
CATEGORIES:Bird Watching,Conservation,Educational/Training/Workshop,Evening Event,Meeting,Wildlife Education,Wildlife Watching
ATTACH;FMTTYPE=image/png:https://beoutdoorsarizona.org/wp-content/uploads/2025/04/meeting-virtual.png
END:VEVENT
BEGIN:VEVENT
DTSTART;TZID=America/Phoenix:20250816T063000
DTEND;TZID=America/Phoenix:20250816T093000
DTSTAMP:20260422T195523
CREATED:20250809T024013Z
LAST-MODIFIED:20250809T024013Z
UID:10014883-1755325800-1755336600@beoutdoorsarizona.org
SUMMARY:Explore Natural Sites at Hereford Bridge Trailhead
DESCRIPTION:Kick off your day with an energizing walk beginning at the Hereford Bridge trailhead\, where winding trails lead you through vibrant forests and along the sparkling San Pedro River. Journey about three miles on the main path as the sun rises\, filling the landscape with golden light. Lace up your shoes—the fun starts promptly at 6:45 a.m.!
URL:https://beoutdoorsarizona.org/event/explore-natural-sites-at-hereford-bridge-trailhead/
LOCATION:Hereford Bridge\, Hereford
CATEGORIES:Arizona History,Bird Watching,Hiking,Meeting,Morning Event,Streams and Rivers,Trails,Wildlife Watching
ATTACH;FMTTYPE=image/png:https://beoutdoorsarizona.org/wp-content/uploads/2025/04/nature-hike-red-rock.png
END:VEVENT
END:VCALENDAR