BEGIN:VCALENDAR
VERSION:2.0
PRODID:-//Be Outdoors Arizona - ECPv6.15.20//NONSGML v1.0//EN
CALSCALE:GREGORIAN
METHOD:PUBLISH
X-WR-CALNAME:Be Outdoors Arizona
X-ORIGINAL-URL:https://beoutdoorsarizona.org
X-WR-CALDESC:Events for Be Outdoors Arizona
REFRESH-INTERVAL;VALUE=DURATION:PT1H
X-Robots-Tag:noindex
X-PUBLISHED-TTL:PT1H
BEGIN:VTIMEZONE
TZID:America/Phoenix
BEGIN:STANDARD
TZOFFSETFROM:-0700
TZOFFSETTO:-0700
TZNAME:MST
DTSTART:20240101T000000
END:STANDARD
END:VTIMEZONE
BEGIN:VEVENT
DTSTART;TZID=America/Phoenix:20250718T193000
DTEND;TZID=America/Phoenix:20250718T210000
DTSTAMP:20260422T195143
CREATED:20250710T204216Z
LAST-MODIFIED:20250710T204216Z
UID:10014270-1752867000-1752872400@beoutdoorsarizona.org
SUMMARY:Critter Crawl - Night Tour!
DESCRIPTION:Join us after dark on a night-time adventure with our Education Staff! Discover the amazing world of nocturnal life in the Sonoran Desert on this family friendly ‘crawl’. Learn about Sonoran Desert ecology while taking a closer look at the local critters. Plus\, get the knowledge you need to be prepared for your own night-time treks. Preregistration is required and limited to 25 guests. For your safety\, children 4 and under are not permitted. \nDistance: Each experience is unique and follows the critters. However\, you will walk no more than 1 mile. \nDuration: 1.5 hours \nContent Notice: This tour contains content regarding snakes\, spiders\, scorpions\, bugs\, owls\, and other nighttime animals. The arboretum is primarily dark at night and has limited artificial lighting. \nWhat to bring/wear: Close-toed shoes\, plenty of water (at least 32oz/person)\, flashlights/headlamps for each member of your party\, and snacks (if needed). Our gift shop will NOT be open to purchase water bottles or snacks. \nTrail conditions: Trails are mostly flat\, hard-packed dirt with small portions of sand and cobblestone. Trails are not leveled and contain uneven terrain\, humps\, and dips. Trail width is at minimum 2 ft across. \nRestrooms: Wheelchair accessible restrooms are located in the Visitor’s Center. \n  \nMembers $7-$12 \nNon-members $10-&15
URL:https://beoutdoorsarizona.org/event/critter-crawl-night-tour/
LOCATION:Boyce Thompson Arboretum\, 37615 E US Highway #60\, Superior\, AZ 85173\, USA\, 38400 US Hwy 60\, United States
CATEGORIES:Bugs/Insects/Butterflies,Educational/Training/Workshop,Tour,Wildlife Watching
ATTACH;FMTTYPE=image/png:https://beoutdoorsarizona.org/wp-content/uploads/2025/07/Scorpion.png
GEO:33.280743;-111.156707
X-APPLE-STRUCTURED-LOCATION;VALUE=URI;X-ADDRESS=Boyce Thompson Arboretum 37615 E US Highway #60 Superior AZ 85173 USA 38400 US Hwy 60 United States;X-APPLE-RADIUS=500;X-TITLE=38400 US Hwy 60:geo:-111.156707,33.280743
END:VEVENT
BEGIN:VEVENT
DTSTART;TZID=America/Phoenix:20250719T070000
DTEND;TZID=America/Phoenix:20250719T093000
DTSTAMP:20260422T195143
CREATED:20250718T152946Z
LAST-MODIFIED:20250718T152946Z
UID:10014809-1752908400-1752917400@beoutdoorsarizona.org
SUMMARY:See Summer Birds at Kachina Wetlands
DESCRIPTION:The Kachina Wetlands is hosting a bird walk for July. Learn about different species of birds’ behaviors and ecosystems. Bring binoculars and water for a two-mile walk. For questions\, email Harry Jones at hjones@birdpop.org.
URL:https://beoutdoorsarizona.org/event/see-summer-birds-at-kachina-wetlands/
LOCATION:Kachina Wetlands Preserve\, 2263 Utility Rd\, Flagstaff\, 86005\, United States
CATEGORIES:Bird Watching,Ecology,Medicinal/Edible Plants,Morning Event,Wildlife Education,Wildlife Watching
ATTACH;FMTTYPE=image/png:https://beoutdoorsarizona.org/wp-content/uploads/2025/04/wildlife-watching.png
END:VEVENT
END:VCALENDAR