BEGIN:VCALENDAR
VERSION:2.0
PRODID:-//Be Outdoors Arizona - ECPv6.15.20//NONSGML v1.0//EN
CALSCALE:GREGORIAN
METHOD:PUBLISH
X-WR-CALNAME:Be Outdoors Arizona
X-ORIGINAL-URL:https://beoutdoorsarizona.org
X-WR-CALDESC:Events for Be Outdoors Arizona
REFRESH-INTERVAL;VALUE=DURATION:PT1H
X-Robots-Tag:noindex
X-PUBLISHED-TTL:PT1H
BEGIN:VTIMEZONE
TZID:America/Phoenix
BEGIN:STANDARD
TZOFFSETFROM:-0700
TZOFFSETTO:-0700
TZNAME:MST
DTSTART:20240101T000000
END:STANDARD
END:VTIMEZONE
BEGIN:VEVENT
DTSTART;TZID=America/Phoenix:20251210T070000
DTEND;TZID=America/Phoenix:20251210T100000
DTSTAMP:20260423T010246
CREATED:20251126T015418Z
LAST-MODIFIED:20251126T015418Z
UID:10015073-1765350000-1765360800@beoutdoorsarizona.org
SUMMARY:🕊️ December Bird Walk: Discover the Wildlife of the San Pedro River!
DESCRIPTION:This December\, step into one of the most vibrant birding hotspots in the region with a guided monthly bird walk along the San Pedro River and its lush riparian forest. Keep your eyes—and ears—open as you search for more than 100 different bird species\, from colorful residents to exciting seasonal visitors. \nSpend two to three peaceful hours exploring this rich habitat with fellow nature lovers\, learning to spot and identify birds in their natural surroundings. Whether you’re a seasoned birder or brand new to the hobby\, this walk offers something for everyone. \nHave questions or want to plan your outing? Call (520) 508-4445 or email fspr@sanpedroriver.org.
URL:https://beoutdoorsarizona.org/event/%f0%9f%95%8a%ef%b8%8f-december-bird-walk-discover-the-wildlife-of-the-san-pedro-river/
LOCATION:San Pedro House\, Sierra Vista\, AZ\, United States
CATEGORIES:Arizona History,Bird Watching,Streams and Rivers,Trails,Wildlife Watching
ATTACH;FMTTYPE=image/png:https://beoutdoorsarizona.org/wp-content/uploads/2025/01/bird-watching.png
GEO:31.571011;-110.170235
END:VEVENT
BEGIN:VEVENT
DTSTART;TZID=America/Phoenix:20251213T090000
DTEND;TZID=America/Phoenix:20251213T230000
DTSTAMP:20260423T010246
CREATED:20251103T020533Z
LAST-MODIFIED:20251103T020713Z
UID:10015056-1765616400-1765666800@beoutdoorsarizona.org
SUMMARY:🎣 Relax & Reel In: A Day of Fishing at the Salt River
DESCRIPTION:Spend a refreshing long weekend enjoying the beauty of the Salt River! Bring your fishing gear and join fellow outdoor enthusiasts for a peaceful day by the water. Whether you’re an experienced angler or just trying it out for fun\, it’s the perfect way to unwind and connect with nature. \nAfter casting your line\, stop by the recreation center to warm up with a fresh cup of coffee and enjoy light snacks while sharing stories from the water. \n☀️ Enjoy good company\, great views\, and a relaxing day in Arizona’s scenic outdoors!
URL:https://beoutdoorsarizona.org/event/%f0%9f%8e%a3-relax-reel-in-a-day-of-fishing-at-the-salt-river/2025-12-13/
LOCATION:Blue Point Recreation Area\, Unnamed Road\, Fort McDowell\, AZ 85264\, USA
CATEGORIES:Educator Workshop,Evening Event,Fishing,Flyfishing,Meeting,Streams and Rivers,Wildlife Education,Wildlife Watching
ATTACH;FMTTYPE=image/png:https://beoutdoorsarizona.org/wp-content/uploads/2025/04/fishing-1.png
END:VEVENT
BEGIN:VEVENT
DTSTART;TZID=America/Phoenix:20251215T060000
DTEND;TZID=America/Phoenix:20251215T073000
DTSTAMP:20260423T010246
CREATED:20250710T144806Z
LAST-MODIFIED:20250710T204303Z
UID:10014275-1765778400-1765783800@beoutdoorsarizona.org
SUMMARY:Join Bird Walk at Higley Ponds
DESCRIPTION:This June\, join the bird walk along Higley Ponds. These four ponds along Higley Road are renowned for bird watching.
URL:https://beoutdoorsarizona.org/event/join-bird-walk-at-higley-ponds-2/2025-12-15/
LOCATION:Higley Pond
CATEGORIES:Bird Watching,Evening Event,Meeting,Morning Event,Wildlife Education,Wildlife Watching
END:VEVENT
BEGIN:VEVENT
DTSTART;TZID=America/Phoenix:20251224T070000
DTEND;TZID=America/Phoenix:20251224T100000
DTSTAMP:20260423T010246
CREATED:20260101T152655Z
LAST-MODIFIED:20260101T152655Z
UID:10015074-1766559600-1766570400@beoutdoorsarizona.org
SUMMARY:🕊️ December Bird Walk: Discover the Wildlife of the San Pedro River!
DESCRIPTION:This December\, step into one of the region’s most vibrant birding destinations with a guided monthly bird walk through the lush riparian forest of the San Pedro River. Follow the sounds of fluttering wings and melodic calls as you search for over 100 bird species\, from brilliant year-round residents to exciting seasonal visitors passing through. \nSpend two to three peaceful hours immersed in this life-rich landscape alongside fellow nature enthusiasts. Learn tips for spotting and identifying birds in their natural habitats while deepening your appreciation for one of Arizona’s most important wildlife corridors. \nWhether you’re a seasoned birder with binoculars in hand or brand new and simply curious\, this guided walk offers a welcoming experience for all levels. \n📞 Questions or planning your visit?Call (520) 508-4445 or email fspr@sanpedroriver.org \n✨ Slow down\, listen closely\, and experience the San Pedro River through the eyes—and songs—of its birds.
URL:https://beoutdoorsarizona.org/event/%f0%9f%95%8a%ef%b8%8f-december-bird-walk-discover-the-wildlife-of-the-san-pedro-river-2/
LOCATION:San Pedro House\, Sierra Vista\, AZ\, United States
CATEGORIES:Arizona History,Bird Watching,Streams and Rivers,Trails,Wildlife Watching
ATTACH;FMTTYPE=image/png:https://beoutdoorsarizona.org/wp-content/uploads/2025/01/bird-watching.png
GEO:31.571011;-110.170235
END:VEVENT
BEGIN:VEVENT
DTSTART;TZID=America/Phoenix:20251224T070000
DTEND;TZID=America/Phoenix:20251224T100000
DTSTAMP:20260423T010246
CREATED:20260101T153452Z
LAST-MODIFIED:20260101T153505Z
UID:10015083-1766559600-1766570400@beoutdoorsarizona.org
SUMMARY:🕊️ December Bird Walk: Discover the Wildlife of the San Pedro River!
DESCRIPTION:This December\, step into one of the region’s most vibrant birding destinations with a guided monthly bird walk through the lush riparian forest of the San Pedro River. Follow the sounds of fluttering wings and melodic calls as you search for over 100 bird species\, from brilliant year-round residents to exciting seasonal visitors passing through. \nSpend two to three peaceful hours immersed in this life-rich landscape alongside fellow nature enthusiasts. Learn tips for spotting and identifying birds in their natural habitats while deepening your appreciation for one of Arizona’s most important wildlife corridors. \nWhether you’re a seasoned birder with binoculars in hand or brand new and simply curious\, this guided walk offers a welcoming experience for all levels. \n📞 Questions or planning your visit?Call (520) 508-4445 or email fspr@sanpedroriver.org \n✨ Slow down\, listen closely\, and experience the San Pedro River through the eyes—and songs—of its birds.
URL:https://beoutdoorsarizona.org/event/%f0%9f%95%8a%ef%b8%8f-december-bird-walk-discover-the-wildlife-of-the-san-pedro-river-3/
LOCATION:San Pedro House\, Sierra Vista\, AZ\, United States
CATEGORIES:Arizona History,Bird Watching,Streams and Rivers,Trails,Wildlife Watching
ATTACH;FMTTYPE=image/png:https://beoutdoorsarizona.org/wp-content/uploads/2025/01/bird-watching.png
GEO:31.571011;-110.170235
END:VEVENT
END:VCALENDAR