BEGIN:VCALENDAR
VERSION:2.0
PRODID:-//Be Outdoors Arizona - ECPv6.15.20//NONSGML v1.0//EN
CALSCALE:GREGORIAN
METHOD:PUBLISH
X-WR-CALNAME:Be Outdoors Arizona
X-ORIGINAL-URL:https://beoutdoorsarizona.org
X-WR-CALDESC:Events for Be Outdoors Arizona
REFRESH-INTERVAL;VALUE=DURATION:PT1H
X-Robots-Tag:noindex
X-PUBLISHED-TTL:PT1H
BEGIN:VTIMEZONE
TZID:America/Phoenix
BEGIN:STANDARD
TZOFFSETFROM:-0700
TZOFFSETTO:-0700
TZNAME:MST
DTSTART:20240101T000000
END:STANDARD
END:VTIMEZONE
BEGIN:VEVENT
DTSTART;TZID=America/Phoenix:20250315T080000
DTEND;TZID=America/Phoenix:20250315T110000
DTSTAMP:20260422T151536
CREATED:20250304T214832Z
LAST-MODIFIED:20250314T192338Z
UID:10011793-1742025600-1742036400@beoutdoorsarizona.org
SUMMARY:Take the Family for a Bird Walk at Gilbert Riparian Preserve
DESCRIPTION:In mid-March\, celebrate Spring by taking a family-friendly bird walk. This is a morning bird walk with a guided tour.
URL:https://beoutdoorsarizona.org/event/take-the-family-for-a-bird-walk-at-gilbert-riparian-preserve/
LOCATION:Gilbert Riparian Reserve\, 2757 E Guadalupe Rd\,\, Gilbert\, AZ\, 85234\, United States
CATEGORIES:Bird Watching,Conservation,Evening Event,Streams and Rivers,Trails,Wildlife Education,Wildlife Watching
ATTACH;FMTTYPE=image/png:https://beoutdoorsarizona.org/wp-content/uploads/2025/01/bird-watching.png
GEO:33.3639123;-111.7342994
X-APPLE-STRUCTURED-LOCATION;VALUE=URI;X-ADDRESS=Gilbert Riparian Reserve 2757 E Guadalupe Rd Gilbert AZ 85234 United States;X-APPLE-RADIUS=500;X-TITLE=2757 E Guadalupe Rd\,:geo:-111.7342994,33.3639123
END:VEVENT
BEGIN:VEVENT
DTSTART;TZID=America/Phoenix:20250320T183000
DTEND;TZID=America/Phoenix:20250320T200000
DTSTAMP:20260422T151536
CREATED:20241104T201633Z
LAST-MODIFIED:20241104T201633Z
UID:10010905-1742495400-1742500800@beoutdoorsarizona.org
SUMMARY:Rattlesnakes in Arizona: Not As Bad As You May Think
DESCRIPTION:Most people fear rattlesnakes when they think of the Arizona wilderness. But all snakes\, no matter how dangerous or fearsome they are\, are an essential part of the ecosystem. Jeff Meyers from the Arizona Game and Fish Department discusses the need to save rattlesnakes to preserve future generations of wildlife.
URL:https://beoutdoorsarizona.org/event/rattlesnakes-in-arizona-not-as-bad-as-you-may-think/
LOCATION:Online\, AZ\, United States
CATEGORIES:Conservation,Ecology,Educational/Training/Workshop,Evening Event,Reptiles,Wildlife Education,Wildlife Watching
GEO:34.0489281;-111.0937311
END:VEVENT
BEGIN:VEVENT
DTSTART;TZID=America/Phoenix:20250329T090000
DTEND;TZID=America/Phoenix:20250329T150000
DTSTAMP:20260422T151536
CREATED:20250305T174614Z
LAST-MODIFIED:20250305T174614Z
UID:10011809-1743238800-1743260400@beoutdoorsarizona.org
SUMMARY:Visit the Arizona Game and Fish Outdoor Expo
DESCRIPTION:Tour the Arizona Game and Fish Outdoor Expo to see wildlife exhibits\, animals\, fishing tanks and shooting ranges. This family-friendly event is hosted by local and statewide conservation organizations and recreation groups.
URL:https://beoutdoorsarizona.org/event/visit-the-arizona-game-and-fish-outdoor-expo/2025-03-29/
LOCATION:Ben Avery Shooting Facility\, 4044 W Black Canyon Blvd\, Phoenix\, AZ 85086\, USA\, 40701 N Boone Ln\, United States
CATEGORIES:Conservation,Family Event,Fishing,Hiking,Hunting,Shooting Sports,Social Gathering-Festivals-Fundraisers,Wildlife Education,Wildlife Watching
ATTACH;FMTTYPE=image/png:https://beoutdoorsarizona.org/wp-content/uploads/2025/02/social-family-festival.png
GEO:33.854569;-112.134307
X-APPLE-STRUCTURED-LOCATION;VALUE=URI;X-ADDRESS=Ben Avery Shooting Facility 4044 W Black Canyon Blvd Phoenix AZ 85086 USA 40701 N Boone Ln United States;X-APPLE-RADIUS=500;X-TITLE=40701 N Boone Ln:geo:-112.134307,33.854569
END:VEVENT
BEGIN:VEVENT
DTSTART;TZID=America/Phoenix:20250330T090000
DTEND;TZID=America/Phoenix:20250330T150000
DTSTAMP:20260422T151536
CREATED:20250305T174614Z
LAST-MODIFIED:20250305T174614Z
UID:10011810-1743325200-1743346800@beoutdoorsarizona.org
SUMMARY:Visit the Arizona Game and Fish Outdoor Expo
DESCRIPTION:Tour the Arizona Game and Fish Outdoor Expo to see wildlife exhibits\, animals\, fishing tanks and shooting ranges. This family-friendly event is hosted by local and statewide conservation organizations and recreation groups.
URL:https://beoutdoorsarizona.org/event/visit-the-arizona-game-and-fish-outdoor-expo/2025-03-30/
LOCATION:Ben Avery Shooting Facility\, 4044 W Black Canyon Blvd\, Phoenix\, AZ 85086\, USA\, 40701 N Boone Ln\, United States
CATEGORIES:Conservation,Family Event,Fishing,Hiking,Hunting,Shooting Sports,Social Gathering-Festivals-Fundraisers,Wildlife Education,Wildlife Watching
ATTACH;FMTTYPE=image/png:https://beoutdoorsarizona.org/wp-content/uploads/2025/02/social-family-festival.png
GEO:33.854569;-112.134307
X-APPLE-STRUCTURED-LOCATION;VALUE=URI;X-ADDRESS=Ben Avery Shooting Facility 4044 W Black Canyon Blvd Phoenix AZ 85086 USA 40701 N Boone Ln United States;X-APPLE-RADIUS=500;X-TITLE=40701 N Boone Ln:geo:-112.134307,33.854569
END:VEVENT
END:VCALENDAR