BEGIN:VCALENDAR
VERSION:2.0
PRODID:-//Be Outdoors Arizona - ECPv6.15.20//NONSGML v1.0//EN
CALSCALE:GREGORIAN
METHOD:PUBLISH
X-ORIGINAL-URL:https://beoutdoorsarizona.org
X-WR-CALDESC:Events for Be Outdoors Arizona
REFRESH-INTERVAL;VALUE=DURATION:PT1H
X-Robots-Tag:noindex
X-PUBLISHED-TTL:PT1H
BEGIN:VTIMEZONE
TZID:America/Phoenix
BEGIN:STANDARD
TZOFFSETFROM:-0700
TZOFFSETTO:-0700
TZNAME:MST
DTSTART:20250101T000000
END:STANDARD
END:VTIMEZONE
BEGIN:VEVENT
DTSTART;TZID=America/Phoenix:20260504T090000
DTEND;TZID=America/Phoenix:20260504T100000
DTSTAMP:20260422T153825
CREATED:20240320T144911Z
LAST-MODIFIED:20250314T194356Z
UID:10004450-1777885200-1777888800@beoutdoorsarizona.org
SUMMARY:Guided Bird Walks at Tonto Natural Bridge
DESCRIPTION:Join a ranger on a ~1 mile\, mostly paved\, walk through some of the most biodiverse terrain in central Arizona. A combination of plant communities and habitats surrounding the world’s largest travertine bridge supports a wide variety of bird species that call the park home and we will be searching for. Meets between the Waterfall Parking and Waterfall Trailhead. Bringing your own optics is encouraged! \nEvent is free\, day-use fee still applies. \nThe day-use fee at Tonto Natural Bridge State Park is: \nAdult (14+): $7.00\nYouth (7–13): $4.00\nChild (0–6): FREE
URL:https://beoutdoorsarizona.org/event/guided-bird-walks-at-tonto-natural-bridge/2026-05-04/
LOCATION:Tonto Natural Bridge State Park\, Arizona 260\, Pine\, AZ\, 85544\, United States
CATEGORIES:Bird Watching,Morning Event
ATTACH;FMTTYPE=image/png:https://beoutdoorsarizona.org/wp-content/uploads/2025/01/bird-watching.png
GEO:34.3846108;-111.4546941
X-APPLE-STRUCTURED-LOCATION;VALUE=URI;X-ADDRESS=Tonto Natural Bridge State Park Arizona 260 Pine AZ 85544 United States;X-APPLE-RADIUS=500;X-TITLE=Arizona 260:geo:-111.4546941,34.3846108
END:VEVENT
BEGIN:VEVENT
DTSTART;TZID=America/Phoenix:20260504T090000
DTEND;TZID=America/Phoenix:20260504T103000
DTSTAMP:20260422T153825
CREATED:20240320T150054Z
LAST-MODIFIED:20250407T153655Z
UID:10005064-1777885200-1777890600@beoutdoorsarizona.org
SUMMARY:Romero Site Interpretive Hike
DESCRIPTION:Join local guides for a tour of the Romero site and walk through 1000-years of indigenous Hohokam history in 90-minutes! Learn about the area’s ranching history and how the Hohokam made a living in the desert. Note:  This trail has stairs and crosses a seasonal stream; be prepared to walk in ankle-deep water. No restrooms on-site. Meet at the Romero Ruins Ramada.\nLimited to 20 people:  First Come\, First Served \nThere is no cost to this program\, but park entrance fees apply or bring your Arizona State Parks annual pass.
URL:https://beoutdoorsarizona.org/event/romero-site-interpretive-hike/2026-05-04/
LOCATION:Catalina State Park\, 11570 N Oracle Rd\, Tucson\, 85737\, United States
CATEGORIES:Arizona History,Hiking,Morning Event
ATTACH;FMTTYPE=image/png:https://beoutdoorsarizona.org/wp-content/uploads/2025/03/walk-tour.png
END:VEVENT
BEGIN:VEVENT
DTSTART;TZID=America/Phoenix:20260511T090000
DTEND;TZID=America/Phoenix:20260511T100000
DTSTAMP:20260422T153825
CREATED:20240320T144911Z
LAST-MODIFIED:20250314T194356Z
UID:10004451-1778490000-1778493600@beoutdoorsarizona.org
SUMMARY:Guided Bird Walks at Tonto Natural Bridge
DESCRIPTION:Join a ranger on a ~1 mile\, mostly paved\, walk through some of the most biodiverse terrain in central Arizona. A combination of plant communities and habitats surrounding the world’s largest travertine bridge supports a wide variety of bird species that call the park home and we will be searching for. Meets between the Waterfall Parking and Waterfall Trailhead. Bringing your own optics is encouraged! \nEvent is free\, day-use fee still applies. \nThe day-use fee at Tonto Natural Bridge State Park is: \nAdult (14+): $7.00\nYouth (7–13): $4.00\nChild (0–6): FREE
URL:https://beoutdoorsarizona.org/event/guided-bird-walks-at-tonto-natural-bridge/2026-05-11/
LOCATION:Tonto Natural Bridge State Park\, Arizona 260\, Pine\, AZ\, 85544\, United States
CATEGORIES:Bird Watching,Morning Event
ATTACH;FMTTYPE=image/png:https://beoutdoorsarizona.org/wp-content/uploads/2025/01/bird-watching.png
GEO:34.3846108;-111.4546941
X-APPLE-STRUCTURED-LOCATION;VALUE=URI;X-ADDRESS=Tonto Natural Bridge State Park Arizona 260 Pine AZ 85544 United States;X-APPLE-RADIUS=500;X-TITLE=Arizona 260:geo:-111.4546941,34.3846108
END:VEVENT
BEGIN:VEVENT
DTSTART;TZID=America/Phoenix:20260518T060000
DTEND;TZID=America/Phoenix:20260518T073000
DTSTAMP:20260422T153825
CREATED:20250710T144806Z
LAST-MODIFIED:20250710T204303Z
UID:10014280-1779084000-1779089400@beoutdoorsarizona.org
SUMMARY:Join Bird Walk at Higley Ponds
DESCRIPTION:This June\, join the bird walk along Higley Ponds. These four ponds along Higley Road are renowned for bird watching.
URL:https://beoutdoorsarizona.org/event/join-bird-walk-at-higley-ponds-2/2026-05-18/
LOCATION:Higley Pond
CATEGORIES:Bird Watching,Evening Event,Meeting,Morning Event,Wildlife Education,Wildlife Watching
END:VEVENT
BEGIN:VEVENT
DTSTART;TZID=America/Phoenix:20260518T090000
DTEND;TZID=America/Phoenix:20260518T100000
DTSTAMP:20260422T153825
CREATED:20240320T144911Z
LAST-MODIFIED:20250314T194356Z
UID:10004452-1779094800-1779098400@beoutdoorsarizona.org
SUMMARY:Guided Bird Walks at Tonto Natural Bridge
DESCRIPTION:Join a ranger on a ~1 mile\, mostly paved\, walk through some of the most biodiverse terrain in central Arizona. A combination of plant communities and habitats surrounding the world’s largest travertine bridge supports a wide variety of bird species that call the park home and we will be searching for. Meets between the Waterfall Parking and Waterfall Trailhead. Bringing your own optics is encouraged! \nEvent is free\, day-use fee still applies. \nThe day-use fee at Tonto Natural Bridge State Park is: \nAdult (14+): $7.00\nYouth (7–13): $4.00\nChild (0–6): FREE
URL:https://beoutdoorsarizona.org/event/guided-bird-walks-at-tonto-natural-bridge/2026-05-18/
LOCATION:Tonto Natural Bridge State Park\, Arizona 260\, Pine\, AZ\, 85544\, United States
CATEGORIES:Bird Watching,Morning Event
ATTACH;FMTTYPE=image/png:https://beoutdoorsarizona.org/wp-content/uploads/2025/01/bird-watching.png
GEO:34.3846108;-111.4546941
X-APPLE-STRUCTURED-LOCATION;VALUE=URI;X-ADDRESS=Tonto Natural Bridge State Park Arizona 260 Pine AZ 85544 United States;X-APPLE-RADIUS=500;X-TITLE=Arizona 260:geo:-111.4546941,34.3846108
END:VEVENT
BEGIN:VEVENT
DTSTART;TZID=America/Phoenix:20260525T090000
DTEND;TZID=America/Phoenix:20260525T100000
DTSTAMP:20260422T153825
CREATED:20240320T144911Z
LAST-MODIFIED:20250314T194356Z
UID:10004453-1779699600-1779703200@beoutdoorsarizona.org
SUMMARY:Guided Bird Walks at Tonto Natural Bridge
DESCRIPTION:Join a ranger on a ~1 mile\, mostly paved\, walk through some of the most biodiverse terrain in central Arizona. A combination of plant communities and habitats surrounding the world’s largest travertine bridge supports a wide variety of bird species that call the park home and we will be searching for. Meets between the Waterfall Parking and Waterfall Trailhead. Bringing your own optics is encouraged! \nEvent is free\, day-use fee still applies. \nThe day-use fee at Tonto Natural Bridge State Park is: \nAdult (14+): $7.00\nYouth (7–13): $4.00\nChild (0–6): FREE
URL:https://beoutdoorsarizona.org/event/guided-bird-walks-at-tonto-natural-bridge/2026-05-25/
LOCATION:Tonto Natural Bridge State Park\, Arizona 260\, Pine\, AZ\, 85544\, United States
CATEGORIES:Bird Watching,Morning Event
ATTACH;FMTTYPE=image/png:https://beoutdoorsarizona.org/wp-content/uploads/2025/01/bird-watching.png
GEO:34.3846108;-111.4546941
X-APPLE-STRUCTURED-LOCATION;VALUE=URI;X-ADDRESS=Tonto Natural Bridge State Park Arizona 260 Pine AZ 85544 United States;X-APPLE-RADIUS=500;X-TITLE=Arizona 260:geo:-111.4546941,34.3846108
END:VEVENT
END:VCALENDAR