BEGIN:VCALENDAR
VERSION:2.0
PRODID:-//Be Outdoors Arizona - ECPv6.15.20//NONSGML v1.0//EN
CALSCALE:GREGORIAN
METHOD:PUBLISH
X-ORIGINAL-URL:https://beoutdoorsarizona.org
X-WR-CALDESC:Events for Be Outdoors Arizona
REFRESH-INTERVAL;VALUE=DURATION:PT1H
X-Robots-Tag:noindex
X-PUBLISHED-TTL:PT1H
BEGIN:VTIMEZONE
TZID:America/Phoenix
BEGIN:STANDARD
TZOFFSETFROM:-0700
TZOFFSETTO:-0700
TZNAME:MST
DTSTART:20250101T000000
END:STANDARD
END:VTIMEZONE
BEGIN:VEVENT
DTSTART;TZID=America/Phoenix:20260302T090000
DTEND;TZID=America/Phoenix:20260302T100000
DTSTAMP:20260422T153902
CREATED:20240320T144911Z
LAST-MODIFIED:20250314T194356Z
UID:10004441-1772442000-1772445600@beoutdoorsarizona.org
SUMMARY:Guided Bird Walks at Tonto Natural Bridge
DESCRIPTION:Join a ranger on a ~1 mile\, mostly paved\, walk through some of the most biodiverse terrain in central Arizona. A combination of plant communities and habitats surrounding the world’s largest travertine bridge supports a wide variety of bird species that call the park home and we will be searching for. Meets between the Waterfall Parking and Waterfall Trailhead. Bringing your own optics is encouraged! \nEvent is free\, day-use fee still applies. \nThe day-use fee at Tonto Natural Bridge State Park is: \nAdult (14+): $7.00\nYouth (7–13): $4.00\nChild (0–6): FREE
URL:https://beoutdoorsarizona.org/event/guided-bird-walks-at-tonto-natural-bridge/2026-03-02/
LOCATION:Tonto Natural Bridge State Park\, Arizona 260\, Pine\, AZ\, 85544\, United States
CATEGORIES:Bird Watching,Morning Event
ATTACH;FMTTYPE=image/png:https://beoutdoorsarizona.org/wp-content/uploads/2025/01/bird-watching.png
GEO:34.3846108;-111.4546941
X-APPLE-STRUCTURED-LOCATION;VALUE=URI;X-ADDRESS=Tonto Natural Bridge State Park Arizona 260 Pine AZ 85544 United States;X-APPLE-RADIUS=500;X-TITLE=Arizona 260:geo:-111.4546941,34.3846108
END:VEVENT
BEGIN:VEVENT
DTSTART;TZID=America/Phoenix:20260302T090000
DTEND;TZID=America/Phoenix:20260302T103000
DTSTAMP:20260422T153902
CREATED:20240320T150054Z
LAST-MODIFIED:20250407T153655Z
UID:10005062-1772442000-1772447400@beoutdoorsarizona.org
SUMMARY:Romero Site Interpretive Hike
DESCRIPTION:Join local guides for a tour of the Romero site and walk through 1000-years of indigenous Hohokam history in 90-minutes! Learn about the area’s ranching history and how the Hohokam made a living in the desert. Note:  This trail has stairs and crosses a seasonal stream; be prepared to walk in ankle-deep water. No restrooms on-site. Meet at the Romero Ruins Ramada.\nLimited to 20 people:  First Come\, First Served \nThere is no cost to this program\, but park entrance fees apply or bring your Arizona State Parks annual pass.
URL:https://beoutdoorsarizona.org/event/romero-site-interpretive-hike/2026-03-02/
LOCATION:Catalina State Park\, 11570 N Oracle Rd\, Tucson\, 85737\, United States
CATEGORIES:Arizona History,Hiking,Morning Event
ATTACH;FMTTYPE=image/png:https://beoutdoorsarizona.org/wp-content/uploads/2025/03/walk-tour.png
END:VEVENT
BEGIN:VEVENT
DTSTART;TZID=America/Phoenix:20260309T090000
DTEND;TZID=America/Phoenix:20260309T100000
DTSTAMP:20260422T153902
CREATED:20240320T144911Z
LAST-MODIFIED:20250314T194356Z
UID:10004442-1773046800-1773050400@beoutdoorsarizona.org
SUMMARY:Guided Bird Walks at Tonto Natural Bridge
DESCRIPTION:Join a ranger on a ~1 mile\, mostly paved\, walk through some of the most biodiverse terrain in central Arizona. A combination of plant communities and habitats surrounding the world’s largest travertine bridge supports a wide variety of bird species that call the park home and we will be searching for. Meets between the Waterfall Parking and Waterfall Trailhead. Bringing your own optics is encouraged! \nEvent is free\, day-use fee still applies. \nThe day-use fee at Tonto Natural Bridge State Park is: \nAdult (14+): $7.00\nYouth (7–13): $4.00\nChild (0–6): FREE
URL:https://beoutdoorsarizona.org/event/guided-bird-walks-at-tonto-natural-bridge/2026-03-09/
LOCATION:Tonto Natural Bridge State Park\, Arizona 260\, Pine\, AZ\, 85544\, United States
CATEGORIES:Bird Watching,Morning Event
ATTACH;FMTTYPE=image/png:https://beoutdoorsarizona.org/wp-content/uploads/2025/01/bird-watching.png
GEO:34.3846108;-111.4546941
X-APPLE-STRUCTURED-LOCATION;VALUE=URI;X-ADDRESS=Tonto Natural Bridge State Park Arizona 260 Pine AZ 85544 United States;X-APPLE-RADIUS=500;X-TITLE=Arizona 260:geo:-111.4546941,34.3846108
END:VEVENT
BEGIN:VEVENT
DTSTART;TZID=America/Phoenix:20260316T060000
DTEND;TZID=America/Phoenix:20260316T073000
DTSTAMP:20260422T153902
CREATED:20250710T144806Z
LAST-MODIFIED:20250710T204303Z
UID:10014278-1773640800-1773646200@beoutdoorsarizona.org
SUMMARY:Join Bird Walk at Higley Ponds
DESCRIPTION:This June\, join the bird walk along Higley Ponds. These four ponds along Higley Road are renowned for bird watching.
URL:https://beoutdoorsarizona.org/event/join-bird-walk-at-higley-ponds-2/2026-03-16/
LOCATION:Higley Pond
CATEGORIES:Bird Watching,Evening Event,Meeting,Morning Event,Wildlife Education,Wildlife Watching
END:VEVENT
BEGIN:VEVENT
DTSTART;TZID=America/Phoenix:20260316T090000
DTEND;TZID=America/Phoenix:20260316T100000
DTSTAMP:20260422T153902
CREATED:20240320T144911Z
LAST-MODIFIED:20250314T194356Z
UID:10004443-1773651600-1773655200@beoutdoorsarizona.org
SUMMARY:Guided Bird Walks at Tonto Natural Bridge
DESCRIPTION:Join a ranger on a ~1 mile\, mostly paved\, walk through some of the most biodiverse terrain in central Arizona. A combination of plant communities and habitats surrounding the world’s largest travertine bridge supports a wide variety of bird species that call the park home and we will be searching for. Meets between the Waterfall Parking and Waterfall Trailhead. Bringing your own optics is encouraged! \nEvent is free\, day-use fee still applies. \nThe day-use fee at Tonto Natural Bridge State Park is: \nAdult (14+): $7.00\nYouth (7–13): $4.00\nChild (0–6): FREE
URL:https://beoutdoorsarizona.org/event/guided-bird-walks-at-tonto-natural-bridge/2026-03-16/
LOCATION:Tonto Natural Bridge State Park\, Arizona 260\, Pine\, AZ\, 85544\, United States
CATEGORIES:Bird Watching,Morning Event
ATTACH;FMTTYPE=image/png:https://beoutdoorsarizona.org/wp-content/uploads/2025/01/bird-watching.png
GEO:34.3846108;-111.4546941
X-APPLE-STRUCTURED-LOCATION;VALUE=URI;X-ADDRESS=Tonto Natural Bridge State Park Arizona 260 Pine AZ 85544 United States;X-APPLE-RADIUS=500;X-TITLE=Arizona 260:geo:-111.4546941,34.3846108
END:VEVENT
BEGIN:VEVENT
DTSTART;TZID=America/Phoenix:20260323T090000
DTEND;TZID=America/Phoenix:20260323T100000
DTSTAMP:20260422T153902
CREATED:20240320T144911Z
LAST-MODIFIED:20250314T194356Z
UID:10004444-1774256400-1774260000@beoutdoorsarizona.org
SUMMARY:Guided Bird Walks at Tonto Natural Bridge
DESCRIPTION:Join a ranger on a ~1 mile\, mostly paved\, walk through some of the most biodiverse terrain in central Arizona. A combination of plant communities and habitats surrounding the world’s largest travertine bridge supports a wide variety of bird species that call the park home and we will be searching for. Meets between the Waterfall Parking and Waterfall Trailhead. Bringing your own optics is encouraged! \nEvent is free\, day-use fee still applies. \nThe day-use fee at Tonto Natural Bridge State Park is: \nAdult (14+): $7.00\nYouth (7–13): $4.00\nChild (0–6): FREE
URL:https://beoutdoorsarizona.org/event/guided-bird-walks-at-tonto-natural-bridge/2026-03-23/
LOCATION:Tonto Natural Bridge State Park\, Arizona 260\, Pine\, AZ\, 85544\, United States
CATEGORIES:Bird Watching,Morning Event
ATTACH;FMTTYPE=image/png:https://beoutdoorsarizona.org/wp-content/uploads/2025/01/bird-watching.png
GEO:34.3846108;-111.4546941
X-APPLE-STRUCTURED-LOCATION;VALUE=URI;X-ADDRESS=Tonto Natural Bridge State Park Arizona 260 Pine AZ 85544 United States;X-APPLE-RADIUS=500;X-TITLE=Arizona 260:geo:-111.4546941,34.3846108
END:VEVENT
BEGIN:VEVENT
DTSTART;TZID=America/Phoenix:20260328T080000
DTEND;TZID=America/Phoenix:20260328T120000
DTSTAMP:20260422T153902
CREATED:20260304T222533Z
LAST-MODIFIED:20260304T222533Z
UID:10015118-1774684800-1774699200@beoutdoorsarizona.org
SUMMARY:28th Annual Hike for Hope
DESCRIPTION:We are thrilled to host the 28th Annual Hike for Hope! Your support helps us continue to provide pathways to self-sufficiency through quality employment and housing. \nThe Worker helps guide and empower individuals to save for stable\, market-rate housing while attending our critical life skills classes. Your support ensures participants receive the tools they need to achieve financial independence and long-term workplace success. \nEvery step taken at Hike for Hope represents a step toward stability\, dignity\, and opportunity for those we serve. Our work is only possible because of the generosity and commitment of people like you! \nBring your friends\, lace up your walking shoes\, and be part of a morning that makes a real difference in our community. \n\nEvent Schedule\n8:00 – 9:00 am  Check-In & T-Shirt Distribution8:30 – 9:30 am  Enjoy Coffee\, Donuts\, Bagels\, & Fruit9:15 – 9:30 am  Announcements & Prizes9:30 – 11:30 am Pick a Trail (1.5m or 4.5m) & Hike11:30 – Noon  Celebrate with Breakfast Burritos
URL:https://beoutdoorsarizona.org/event/28th-annual-hike-for-hope/
LOCATION:McDowell Mountain Regional Park (Pemberton Trailhead)\, 16300 McDowell Mountain Park Dr. Fountain Hills\, AZ\, 85268\, United States
CATEGORIES:Family Event,Hiking,Morning Event,Social Gathering-Festivals-Fundraisers
ATTACH;FMTTYPE=image/png:https://beoutdoorsarizona.org/wp-content/uploads/2025/04/hiking.png
GEO:33.6660479;-111.695733
X-APPLE-STRUCTURED-LOCATION;VALUE=URI;X-ADDRESS=McDowell Mountain Regional Park (Pemberton Trailhead) 16300 McDowell Mountain Park Dr. Fountain Hills AZ 85268 United States;X-APPLE-RADIUS=500;X-TITLE=16300 McDowell Mountain Park Dr. Fountain Hills:geo:-111.695733,33.6660479
END:VEVENT
BEGIN:VEVENT
DTSTART;TZID=America/Phoenix:20260330T090000
DTEND;TZID=America/Phoenix:20260330T100000
DTSTAMP:20260422T153902
CREATED:20240320T144911Z
LAST-MODIFIED:20250314T194356Z
UID:10004445-1774861200-1774864800@beoutdoorsarizona.org
SUMMARY:Guided Bird Walks at Tonto Natural Bridge
DESCRIPTION:Join a ranger on a ~1 mile\, mostly paved\, walk through some of the most biodiverse terrain in central Arizona. A combination of plant communities and habitats surrounding the world’s largest travertine bridge supports a wide variety of bird species that call the park home and we will be searching for. Meets between the Waterfall Parking and Waterfall Trailhead. Bringing your own optics is encouraged! \nEvent is free\, day-use fee still applies. \nThe day-use fee at Tonto Natural Bridge State Park is: \nAdult (14+): $7.00\nYouth (7–13): $4.00\nChild (0–6): FREE
URL:https://beoutdoorsarizona.org/event/guided-bird-walks-at-tonto-natural-bridge/2026-03-30/
LOCATION:Tonto Natural Bridge State Park\, Arizona 260\, Pine\, AZ\, 85544\, United States
CATEGORIES:Bird Watching,Morning Event
ATTACH;FMTTYPE=image/png:https://beoutdoorsarizona.org/wp-content/uploads/2025/01/bird-watching.png
GEO:34.3846108;-111.4546941
X-APPLE-STRUCTURED-LOCATION;VALUE=URI;X-ADDRESS=Tonto Natural Bridge State Park Arizona 260 Pine AZ 85544 United States;X-APPLE-RADIUS=500;X-TITLE=Arizona 260:geo:-111.4546941,34.3846108
END:VEVENT
END:VCALENDAR