BEGIN:VCALENDAR
VERSION:2.0
PRODID:-//Be Outdoors Arizona - ECPv6.15.20//NONSGML v1.0//EN
CALSCALE:GREGORIAN
METHOD:PUBLISH
X-WR-CALNAME:Be Outdoors Arizona
X-ORIGINAL-URL:https://beoutdoorsarizona.org
X-WR-CALDESC:Events for Be Outdoors Arizona
REFRESH-INTERVAL;VALUE=DURATION:PT1H
X-Robots-Tag:noindex
X-PUBLISHED-TTL:PT1H
BEGIN:VTIMEZONE
TZID:America/Phoenix
BEGIN:STANDARD
TZOFFSETFROM:-0700
TZOFFSETTO:-0700
TZNAME:MST
DTSTART:20250101T000000
END:STANDARD
END:VTIMEZONE
BEGIN:VEVENT
DTSTART;TZID=America/Phoenix:20260103T100000
DTEND;TZID=America/Phoenix:20260103T120000
DTSTAMP:20260422T184220
CREATED:20260101T150616Z
LAST-MODIFIED:20260101T150929Z
UID:10015079-1767434400-1767441600@beoutdoorsarizona.org
SUMMARY:🌿✨ Unplug\, Explore\, and Reconnect with Nature! ✨🌿
DESCRIPTION:Step away from the screens and into the sunshine at Nature Play in the Children’s Garden! Families are invited to slow down\, get curious\, and immerse themselves in the simple joys of the great outdoors. From hands-on exploration to imaginative play\, this experience encourages kids (and grown-ups!) to connect with nature\, spark creativity\, and make lasting memories together. \nCome breathe fresh air\, discover the beauty of the natural world\, and rediscover how fun unplugged play can be. 🌱
URL:https://beoutdoorsarizona.org/event/%f0%9f%8c%bf%e2%9c%a8-unplug-explore-and-reconnect-with-nature-%e2%9c%a8%f0%9f%8c%bf/
LOCATION:Boyce Thompson Arboretum 37615 E Arboretum Way Superior\, AZ 85173 United States
CATEGORIES:Family Event,Morning Event,Youth Event
ATTACH;FMTTYPE=image/jpeg:https://beoutdoorsarizona.org/wp-content/uploads/2025/07/Campfire-Kids.jpeg
END:VEVENT
BEGIN:VEVENT
DTSTART;TZID=America/Phoenix:20260105T090000
DTEND;TZID=America/Phoenix:20260105T100000
DTSTAMP:20260422T184220
CREATED:20240320T144911Z
LAST-MODIFIED:20250314T194356Z
UID:10004433-1767603600-1767607200@beoutdoorsarizona.org
SUMMARY:Guided Bird Walks at Tonto Natural Bridge
DESCRIPTION:Join a ranger on a ~1 mile\, mostly paved\, walk through some of the most biodiverse terrain in central Arizona. A combination of plant communities and habitats surrounding the world’s largest travertine bridge supports a wide variety of bird species that call the park home and we will be searching for. Meets between the Waterfall Parking and Waterfall Trailhead. Bringing your own optics is encouraged! \nEvent is free\, day-use fee still applies. \nThe day-use fee at Tonto Natural Bridge State Park is: \nAdult (14+): $7.00\nYouth (7–13): $4.00\nChild (0–6): FREE
URL:https://beoutdoorsarizona.org/event/guided-bird-walks-at-tonto-natural-bridge/2026-01-05/
LOCATION:Tonto Natural Bridge State Park\, Arizona 260\, Pine\, AZ\, 85544\, United States
CATEGORIES:Bird Watching,Morning Event
ATTACH;FMTTYPE=image/png:https://beoutdoorsarizona.org/wp-content/uploads/2025/01/bird-watching.png
GEO:34.3846108;-111.4546941
X-APPLE-STRUCTURED-LOCATION;VALUE=URI;X-ADDRESS=Tonto Natural Bridge State Park Arizona 260 Pine AZ 85544 United States;X-APPLE-RADIUS=500;X-TITLE=Arizona 260:geo:-111.4546941,34.3846108
END:VEVENT
BEGIN:VEVENT
DTSTART;TZID=America/Phoenix:20260105T090000
DTEND;TZID=America/Phoenix:20260105T103000
DTSTAMP:20260422T184220
CREATED:20240320T150054Z
LAST-MODIFIED:20250407T153655Z
UID:10005060-1767603600-1767609000@beoutdoorsarizona.org
SUMMARY:Romero Site Interpretive Hike
DESCRIPTION:Join local guides for a tour of the Romero site and walk through 1000-years of indigenous Hohokam history in 90-minutes! Learn about the area’s ranching history and how the Hohokam made a living in the desert. Note:  This trail has stairs and crosses a seasonal stream; be prepared to walk in ankle-deep water. No restrooms on-site. Meet at the Romero Ruins Ramada.\nLimited to 20 people:  First Come\, First Served \nThere is no cost to this program\, but park entrance fees apply or bring your Arizona State Parks annual pass.
URL:https://beoutdoorsarizona.org/event/romero-site-interpretive-hike/2026-01-05/
LOCATION:Catalina State Park\, 11570 N Oracle Rd\, Tucson\, 85737\, United States
CATEGORIES:Arizona History,Hiking,Morning Event
ATTACH;FMTTYPE=image/png:https://beoutdoorsarizona.org/wp-content/uploads/2025/03/walk-tour.png
END:VEVENT
BEGIN:VEVENT
DTSTART;TZID=America/Phoenix:20260112T090000
DTEND;TZID=America/Phoenix:20260112T100000
DTSTAMP:20260422T184220
CREATED:20240320T144911Z
LAST-MODIFIED:20250314T194356Z
UID:10004434-1768208400-1768212000@beoutdoorsarizona.org
SUMMARY:Guided Bird Walks at Tonto Natural Bridge
DESCRIPTION:Join a ranger on a ~1 mile\, mostly paved\, walk through some of the most biodiverse terrain in central Arizona. A combination of plant communities and habitats surrounding the world’s largest travertine bridge supports a wide variety of bird species that call the park home and we will be searching for. Meets between the Waterfall Parking and Waterfall Trailhead. Bringing your own optics is encouraged! \nEvent is free\, day-use fee still applies. \nThe day-use fee at Tonto Natural Bridge State Park is: \nAdult (14+): $7.00\nYouth (7–13): $4.00\nChild (0–6): FREE
URL:https://beoutdoorsarizona.org/event/guided-bird-walks-at-tonto-natural-bridge/2026-01-12/
LOCATION:Tonto Natural Bridge State Park\, Arizona 260\, Pine\, AZ\, 85544\, United States
CATEGORIES:Bird Watching,Morning Event
ATTACH;FMTTYPE=image/png:https://beoutdoorsarizona.org/wp-content/uploads/2025/01/bird-watching.png
GEO:34.3846108;-111.4546941
X-APPLE-STRUCTURED-LOCATION;VALUE=URI;X-ADDRESS=Tonto Natural Bridge State Park Arizona 260 Pine AZ 85544 United States;X-APPLE-RADIUS=500;X-TITLE=Arizona 260:geo:-111.4546941,34.3846108
END:VEVENT
BEGIN:VEVENT
DTSTART;TZID=America/Phoenix:20260119T060000
DTEND;TZID=America/Phoenix:20260119T073000
DTSTAMP:20260422T184220
CREATED:20250710T144806Z
LAST-MODIFIED:20250710T204303Z
UID:10014276-1768802400-1768807800@beoutdoorsarizona.org
SUMMARY:Join Bird Walk at Higley Ponds
DESCRIPTION:This June\, join the bird walk along Higley Ponds. These four ponds along Higley Road are renowned for bird watching.
URL:https://beoutdoorsarizona.org/event/join-bird-walk-at-higley-ponds-2/2026-01-19/
LOCATION:Higley Pond
CATEGORIES:Bird Watching,Evening Event,Meeting,Morning Event,Wildlife Education,Wildlife Watching
END:VEVENT
BEGIN:VEVENT
DTSTART;TZID=America/Phoenix:20260119T090000
DTEND;TZID=America/Phoenix:20260119T100000
DTSTAMP:20260422T184220
CREATED:20240320T144911Z
LAST-MODIFIED:20250314T194356Z
UID:10004435-1768813200-1768816800@beoutdoorsarizona.org
SUMMARY:Guided Bird Walks at Tonto Natural Bridge
DESCRIPTION:Join a ranger on a ~1 mile\, mostly paved\, walk through some of the most biodiverse terrain in central Arizona. A combination of plant communities and habitats surrounding the world’s largest travertine bridge supports a wide variety of bird species that call the park home and we will be searching for. Meets between the Waterfall Parking and Waterfall Trailhead. Bringing your own optics is encouraged! \nEvent is free\, day-use fee still applies. \nThe day-use fee at Tonto Natural Bridge State Park is: \nAdult (14+): $7.00\nYouth (7–13): $4.00\nChild (0–6): FREE
URL:https://beoutdoorsarizona.org/event/guided-bird-walks-at-tonto-natural-bridge/2026-01-19/
LOCATION:Tonto Natural Bridge State Park\, Arizona 260\, Pine\, AZ\, 85544\, United States
CATEGORIES:Bird Watching,Morning Event
ATTACH;FMTTYPE=image/png:https://beoutdoorsarizona.org/wp-content/uploads/2025/01/bird-watching.png
GEO:34.3846108;-111.4546941
X-APPLE-STRUCTURED-LOCATION;VALUE=URI;X-ADDRESS=Tonto Natural Bridge State Park Arizona 260 Pine AZ 85544 United States;X-APPLE-RADIUS=500;X-TITLE=Arizona 260:geo:-111.4546941,34.3846108
END:VEVENT
BEGIN:VEVENT
DTSTART;TZID=America/Phoenix:20260124T090000
DTEND;TZID=America/Phoenix:20260124T103000
DTSTAMP:20260422T184220
CREATED:20250910T005827Z
LAST-MODIFIED:20250910T005849Z
UID:10014973-1769245200-1769250600@beoutdoorsarizona.org
SUMMARY:🌵 Discover Native Plants of the Sonoran Desert 🌼
DESCRIPTION:Did you know the Sonoran Desert is home to some of the most unique and resilient plants in the world? From towering saguaros to colorful desert wildflowers\, each plant has special adaptations that help it survive and thrive in our arid environment. \nJoin us for a quick\, kid-friendly science presentation where we’ll explore these fascinating desert plants\, their role in the ecosystem\, and why they’re so important to the wildlife (and people!) who live here. \nAfter the presentation\, stick around for a fun hands-on art activity designed for kids and families. Together\, we’ll celebrate the beauty of the desert by creating our own plant-inspired artwork to take home! \n✨ Perfect for curious kids and nature-loving families \nCome learn\, create\, and connect with the amazing plants that make the Sonoran Desert so special!
URL:https://beoutdoorsarizona.org/event/%f0%9f%8c%b5-discover-native-plants-of-the-sonoran-desert-%f0%9f%8c%bc/
LOCATION:Tumamoc Hill Boathouse\, Tucson\, 85745\, United States
CATEGORIES:Botany,Ecology,Educational/Training/Workshop,Mentored event,Morning Event,Youth Event
ATTACH;FMTTYPE=image/png:https://beoutdoorsarizona.org/wp-content/uploads/2025/04/Desert-Plants.png
END:VEVENT
BEGIN:VEVENT
DTSTART;TZID=America/Phoenix:20260126T090000
DTEND;TZID=America/Phoenix:20260126T100000
DTSTAMP:20260422T184220
CREATED:20240320T144911Z
LAST-MODIFIED:20250314T194356Z
UID:10004436-1769418000-1769421600@beoutdoorsarizona.org
SUMMARY:Guided Bird Walks at Tonto Natural Bridge
DESCRIPTION:Join a ranger on a ~1 mile\, mostly paved\, walk through some of the most biodiverse terrain in central Arizona. A combination of plant communities and habitats surrounding the world’s largest travertine bridge supports a wide variety of bird species that call the park home and we will be searching for. Meets between the Waterfall Parking and Waterfall Trailhead. Bringing your own optics is encouraged! \nEvent is free\, day-use fee still applies. \nThe day-use fee at Tonto Natural Bridge State Park is: \nAdult (14+): $7.00\nYouth (7–13): $4.00\nChild (0–6): FREE
URL:https://beoutdoorsarizona.org/event/guided-bird-walks-at-tonto-natural-bridge/2026-01-26/
LOCATION:Tonto Natural Bridge State Park\, Arizona 260\, Pine\, AZ\, 85544\, United States
CATEGORIES:Bird Watching,Morning Event
ATTACH;FMTTYPE=image/png:https://beoutdoorsarizona.org/wp-content/uploads/2025/01/bird-watching.png
GEO:34.3846108;-111.4546941
X-APPLE-STRUCTURED-LOCATION;VALUE=URI;X-ADDRESS=Tonto Natural Bridge State Park Arizona 260 Pine AZ 85544 United States;X-APPLE-RADIUS=500;X-TITLE=Arizona 260:geo:-111.4546941,34.3846108
END:VEVENT
END:VCALENDAR