BEGIN:VCALENDAR
VERSION:2.0
PRODID:-//Be Outdoors Arizona - ECPv6.15.20//NONSGML v1.0//EN
CALSCALE:GREGORIAN
METHOD:PUBLISH
X-WR-CALNAME:Be Outdoors Arizona
X-ORIGINAL-URL:https://beoutdoorsarizona.org
X-WR-CALDESC:Events for Be Outdoors Arizona
REFRESH-INTERVAL;VALUE=DURATION:PT1H
X-Robots-Tag:noindex
X-PUBLISHED-TTL:PT1H
BEGIN:VTIMEZONE
TZID:America/Phoenix
BEGIN:STANDARD
TZOFFSETFROM:-0700
TZOFFSETTO:-0700
TZNAME:MST
DTSTART:20240101T000000
END:STANDARD
END:VTIMEZONE
BEGIN:VEVENT
DTSTART;TZID=America/Phoenix:20251103T090000
DTEND;TZID=America/Phoenix:20251103T100000
DTSTAMP:20260422T214710
CREATED:20240320T144911Z
LAST-MODIFIED:20250314T194356Z
UID:10004424-1762160400-1762164000@beoutdoorsarizona.org
SUMMARY:Guided Bird Walks at Tonto Natural Bridge
DESCRIPTION:Join a ranger on a ~1 mile\, mostly paved\, walk through some of the most biodiverse terrain in central Arizona. A combination of plant communities and habitats surrounding the world’s largest travertine bridge supports a wide variety of bird species that call the park home and we will be searching for. Meets between the Waterfall Parking and Waterfall Trailhead. Bringing your own optics is encouraged! \nEvent is free\, day-use fee still applies. \nThe day-use fee at Tonto Natural Bridge State Park is: \nAdult (14+): $7.00\nYouth (7–13): $4.00\nChild (0–6): FREE
URL:https://beoutdoorsarizona.org/event/guided-bird-walks-at-tonto-natural-bridge/2025-11-03/
LOCATION:Tonto Natural Bridge State Park\, Arizona 260\, Pine\, AZ\, 85544\, United States
CATEGORIES:Bird Watching,Morning Event
ATTACH;FMTTYPE=image/png:https://beoutdoorsarizona.org/wp-content/uploads/2025/01/bird-watching.png
GEO:34.3846108;-111.4546941
X-APPLE-STRUCTURED-LOCATION;VALUE=URI;X-ADDRESS=Tonto Natural Bridge State Park Arizona 260 Pine AZ 85544 United States;X-APPLE-RADIUS=500;X-TITLE=Arizona 260:geo:-111.4546941,34.3846108
END:VEVENT
BEGIN:VEVENT
DTSTART;TZID=America/Phoenix:20251103T090000
DTEND;TZID=America/Phoenix:20251103T103000
DTSTAMP:20260422T214710
CREATED:20240320T150054Z
LAST-MODIFIED:20250407T153655Z
UID:10005058-1762160400-1762165800@beoutdoorsarizona.org
SUMMARY:Romero Site Interpretive Hike
DESCRIPTION:Join local guides for a tour of the Romero site and walk through 1000-years of indigenous Hohokam history in 90-minutes! Learn about the area’s ranching history and how the Hohokam made a living in the desert. Note:  This trail has stairs and crosses a seasonal stream; be prepared to walk in ankle-deep water. No restrooms on-site. Meet at the Romero Ruins Ramada.\nLimited to 20 people:  First Come\, First Served \nThere is no cost to this program\, but park entrance fees apply or bring your Arizona State Parks annual pass.
URL:https://beoutdoorsarizona.org/event/romero-site-interpretive-hike/2025-11-03/
LOCATION:Catalina State Park\, 11570 N Oracle Rd\, Tucson\, 85737\, United States
CATEGORIES:Arizona History,Hiking,Morning Event
ATTACH;FMTTYPE=image/png:https://beoutdoorsarizona.org/wp-content/uploads/2025/03/walk-tour.png
END:VEVENT
BEGIN:VEVENT
DTSTART;VALUE=DATE:20251108
DTEND;VALUE=DATE:20251110
DTSTAMP:20260422T214710
CREATED:20251103T021531Z
LAST-MODIFIED:20251103T021619Z
UID:10015049-1762588800-1762727400@beoutdoorsarizona.org
SUMMARY:🏜️ Test Your Limits at the Phoenix Metro Navigation Games!
DESCRIPTION:Get ready for an epic day of adventure\, endurance\, and navigation in the rugged beauty of the Lower Salt River drainage! The Phoenix Metro Navigation Games bring together athletes and outdoor enthusiasts for a full day of running\, biking\, paddling\, and more across the challenging desert terrain. \nChoose your challenge:🚵 Adventure Races: 6-hour and 12-hour options — push your limits across multiple disciplines.🥾 Rogaine Foot Races: 3-hour\, 5-hour\, and 12-hour events — strategy\, stamina\, and map-reading mastery collide. \nThis isn’t just a race — it’s a true test of skill\, endurance\, and grit under the Arizona sun. Come prepared with your recommended gear\, plenty of water\, and your adventurous spirit! \n🔥 Are you ready to conquer the desert?
URL:https://beoutdoorsarizona.org/event/%f0%9f%8f%9c%ef%b8%8f-test-your-limits-at-the-phoenix-metro-navigation-games/
LOCATION:Salt River Arizona\, United States
CATEGORIES:Biking,Bird Watching,Educator Workshop,Evening Event,Family Event,Hiking,Meeting,Mentored event,Morning Event,Orienteering,Streams and Rivers,Wildlife Education,Wildlife Watching
ATTACH;FMTTYPE=image/png:https://beoutdoorsarizona.org/wp-content/uploads/2025/04/mtn-biking.png
GEO:37.09024;-95.712891
END:VEVENT
BEGIN:VEVENT
DTSTART;TZID=America/Phoenix:20251110T090000
DTEND;TZID=America/Phoenix:20251110T100000
DTSTAMP:20260422T214710
CREATED:20240320T144911Z
LAST-MODIFIED:20250314T194356Z
UID:10004425-1762765200-1762768800@beoutdoorsarizona.org
SUMMARY:Guided Bird Walks at Tonto Natural Bridge
DESCRIPTION:Join a ranger on a ~1 mile\, mostly paved\, walk through some of the most biodiverse terrain in central Arizona. A combination of plant communities and habitats surrounding the world’s largest travertine bridge supports a wide variety of bird species that call the park home and we will be searching for. Meets between the Waterfall Parking and Waterfall Trailhead. Bringing your own optics is encouraged! \nEvent is free\, day-use fee still applies. \nThe day-use fee at Tonto Natural Bridge State Park is: \nAdult (14+): $7.00\nYouth (7–13): $4.00\nChild (0–6): FREE
URL:https://beoutdoorsarizona.org/event/guided-bird-walks-at-tonto-natural-bridge/2025-11-10/
LOCATION:Tonto Natural Bridge State Park\, Arizona 260\, Pine\, AZ\, 85544\, United States
CATEGORIES:Bird Watching,Morning Event
ATTACH;FMTTYPE=image/png:https://beoutdoorsarizona.org/wp-content/uploads/2025/01/bird-watching.png
GEO:34.3846108;-111.4546941
X-APPLE-STRUCTURED-LOCATION;VALUE=URI;X-ADDRESS=Tonto Natural Bridge State Park Arizona 260 Pine AZ 85544 United States;X-APPLE-RADIUS=500;X-TITLE=Arizona 260:geo:-111.4546941,34.3846108
END:VEVENT
BEGIN:VEVENT
DTSTART;TZID=America/Phoenix:20251111T160000
DTEND;TZID=America/Phoenix:20251111T180000
DTSTAMP:20260422T214710
CREATED:20250930T185213Z
LAST-MODIFIED:20250930T185213Z
UID:10014991-1762876800-1762884000@beoutdoorsarizona.org
SUMMARY:November Sunset Birding Experience
DESCRIPTION:🌅 Experience the beauty of nature this November with a scenic sunset bird walk at the Gilbert Riparian Preserve! \nJoin us as we explore the preserve\, spotting waterfowl and other local birds as they settle in for the night. This relaxing and educational outing is perfect for bird enthusiasts of all levels. \n📍 Meeting Location: Library🕓 Time: 4:00 – 5:45 p.m.🗣️ The walk is followed by the Monthly Speakers Meeting. \nFor questions or more information\, contact fieldtrips@DesertRiversAudubon.org. \nCome enjoy a peaceful evening of birdwatching\, nature\, and community!
URL:https://beoutdoorsarizona.org/event/november-sunset-birding-experience/
LOCATION:Gilbert Riparian Preserve
CATEGORIES:Bird Watching,Evening Event,Meeting,Morning Event,Streams and Rivers,Trails,Wildlife Education,Wildlife Watching
ATTACH;FMTTYPE=image/png:https://beoutdoorsarizona.org/wp-content/uploads/2025/01/bird-watching.png
END:VEVENT
BEGIN:VEVENT
DTSTART;TZID=America/Phoenix:20251116T080000
DTEND;TZID=America/Phoenix:20251116T100000
DTSTAMP:20260422T214710
CREATED:20251103T021011Z
LAST-MODIFIED:20251103T021045Z
UID:10015050-1763280000-1763287200@beoutdoorsarizona.org
SUMMARY:🧭 Discover the Adventure of Orienteering!
DESCRIPTION:Ready to put your navigation skills to the test? Join us for a hands-on introduction to the sport of orienteering — a fun and challenging way to explore the outdoors! \nLearn how to read maps\, use a compass\, and navigate your way through nature’s terrain. Whether you’re brand new to orienteering or looking to refresh your skills\, this event offers the perfect opportunity to sharpen your sense of direction and enjoy an active day outside. \n🌲 Adventure\, strategy\, and discovery — all in one exciting experience!
URL:https://beoutdoorsarizona.org/event/%f0%9f%a7%ad-discover-the-adventure-of-orienteering/
LOCATION:Greasewood Park\, 1075 N Greasewood Rd\, Tucson\, AZ\, 85745\, United States
CATEGORIES:Educator Workshop,Morning Event,Orienteering,Trails,Youth Event
ATTACH;FMTTYPE=image/png:https://beoutdoorsarizona.org/wp-content/uploads/2024/12/orienteering.png
GEO:32.2314261;-111.0250858
X-APPLE-STRUCTURED-LOCATION;VALUE=URI;X-ADDRESS=Greasewood Park 1075 N Greasewood Rd Tucson AZ 85745 United States;X-APPLE-RADIUS=500;X-TITLE=1075 N Greasewood Rd:geo:-111.0250858,32.2314261
END:VEVENT
BEGIN:VEVENT
DTSTART;TZID=America/Phoenix:20251117T060000
DTEND;TZID=America/Phoenix:20251117T073000
DTSTAMP:20260422T214710
CREATED:20250710T144806Z
LAST-MODIFIED:20250710T204303Z
UID:10014274-1763359200-1763364600@beoutdoorsarizona.org
SUMMARY:Join Bird Walk at Higley Ponds
DESCRIPTION:This June\, join the bird walk along Higley Ponds. These four ponds along Higley Road are renowned for bird watching.
URL:https://beoutdoorsarizona.org/event/join-bird-walk-at-higley-ponds-2/2025-11-17/
LOCATION:Higley Pond
CATEGORIES:Bird Watching,Evening Event,Meeting,Morning Event,Wildlife Education,Wildlife Watching
END:VEVENT
BEGIN:VEVENT
DTSTART;TZID=America/Phoenix:20251117T090000
DTEND;TZID=America/Phoenix:20251117T100000
DTSTAMP:20260422T214710
CREATED:20240320T144911Z
LAST-MODIFIED:20250314T194356Z
UID:10004426-1763370000-1763373600@beoutdoorsarizona.org
SUMMARY:Guided Bird Walks at Tonto Natural Bridge
DESCRIPTION:Join a ranger on a ~1 mile\, mostly paved\, walk through some of the most biodiverse terrain in central Arizona. A combination of plant communities and habitats surrounding the world’s largest travertine bridge supports a wide variety of bird species that call the park home and we will be searching for. Meets between the Waterfall Parking and Waterfall Trailhead. Bringing your own optics is encouraged! \nEvent is free\, day-use fee still applies. \nThe day-use fee at Tonto Natural Bridge State Park is: \nAdult (14+): $7.00\nYouth (7–13): $4.00\nChild (0–6): FREE
URL:https://beoutdoorsarizona.org/event/guided-bird-walks-at-tonto-natural-bridge/2025-11-17/
LOCATION:Tonto Natural Bridge State Park\, Arizona 260\, Pine\, AZ\, 85544\, United States
CATEGORIES:Bird Watching,Morning Event
ATTACH;FMTTYPE=image/png:https://beoutdoorsarizona.org/wp-content/uploads/2025/01/bird-watching.png
GEO:34.3846108;-111.4546941
X-APPLE-STRUCTURED-LOCATION;VALUE=URI;X-ADDRESS=Tonto Natural Bridge State Park Arizona 260 Pine AZ 85544 United States;X-APPLE-RADIUS=500;X-TITLE=Arizona 260:geo:-111.4546941,34.3846108
END:VEVENT
BEGIN:VEVENT
DTSTART;TZID=America/Phoenix:20251119T070000
DTEND;TZID=America/Phoenix:20251119T093000
DTSTAMP:20260422T214710
CREATED:20251103T021848Z
LAST-MODIFIED:20251103T021927Z
UID:10015048-1763535600-1763544600@beoutdoorsarizona.org
SUMMARY:🐦 Explore Nature on a Riparian Bird Walk at Sycamore Creek!
DESCRIPTION:Join us for a peaceful morning along the Upper Beeline Highway’s Sycamore Creek\, where the gentle sounds of flowing water and rustling leaves set the stage for a memorable bird-watching adventure. \nLed by expert birder Anne Leight\, this guided walk will take you through scenic stretches of sycamore and willow trees\, prime habitat for a variety of native and migratory birds. Participants will walk and drive along the route\, taking time to observe and appreciate the diverse birdlife that calls this riparian area home. \n📧 Questions? Contact fieldtrips@DesertRiversAudubon.org \n🌿 Bring your binoculars\, your curiosity\, and your love for the outdoors — and discover the beauty of Arizona’s riparian habitats!
URL:https://beoutdoorsarizona.org/event/%f0%9f%90%a6-explore-nature-on-a-riparian-bird-walk-at-sycamore-creek/
LOCATION:Fountain Hills\, AZ\, USA
CATEGORIES:Bird Watching,Event for Ability Challenged,Morning Event,Streams and Rivers,Wildlife Watching
ATTACH;FMTTYPE=image/png:https://beoutdoorsarizona.org/wp-content/uploads/2025/01/bird-watching.png
GEO:33.6042079;-111.7256936
END:VEVENT
BEGIN:VEVENT
DTSTART;TZID=America/Phoenix:20251124T090000
DTEND;TZID=America/Phoenix:20251124T100000
DTSTAMP:20260422T214710
CREATED:20240320T144911Z
LAST-MODIFIED:20250314T194356Z
UID:10004427-1763974800-1763978400@beoutdoorsarizona.org
SUMMARY:Guided Bird Walks at Tonto Natural Bridge
DESCRIPTION:Join a ranger on a ~1 mile\, mostly paved\, walk through some of the most biodiverse terrain in central Arizona. A combination of plant communities and habitats surrounding the world’s largest travertine bridge supports a wide variety of bird species that call the park home and we will be searching for. Meets between the Waterfall Parking and Waterfall Trailhead. Bringing your own optics is encouraged! \nEvent is free\, day-use fee still applies. \nThe day-use fee at Tonto Natural Bridge State Park is: \nAdult (14+): $7.00\nYouth (7–13): $4.00\nChild (0–6): FREE
URL:https://beoutdoorsarizona.org/event/guided-bird-walks-at-tonto-natural-bridge/2025-11-24/
LOCATION:Tonto Natural Bridge State Park\, Arizona 260\, Pine\, AZ\, 85544\, United States
CATEGORIES:Bird Watching,Morning Event
ATTACH;FMTTYPE=image/png:https://beoutdoorsarizona.org/wp-content/uploads/2025/01/bird-watching.png
GEO:34.3846108;-111.4546941
X-APPLE-STRUCTURED-LOCATION;VALUE=URI;X-ADDRESS=Tonto Natural Bridge State Park Arizona 260 Pine AZ 85544 United States;X-APPLE-RADIUS=500;X-TITLE=Arizona 260:geo:-111.4546941,34.3846108
END:VEVENT
END:VCALENDAR