BEGIN:VCALENDAR
VERSION:2.0
PRODID:-//Be Outdoors Arizona - ECPv6.15.20//NONSGML v1.0//EN
CALSCALE:GREGORIAN
METHOD:PUBLISH
X-WR-CALNAME:Be Outdoors Arizona
X-ORIGINAL-URL:https://beoutdoorsarizona.org
X-WR-CALDESC:Events for Be Outdoors Arizona
REFRESH-INTERVAL;VALUE=DURATION:PT1H
X-Robots-Tag:noindex
X-PUBLISHED-TTL:PT1H
BEGIN:VTIMEZONE
TZID:America/Phoenix
BEGIN:STANDARD
TZOFFSETFROM:-0700
TZOFFSETTO:-0700
TZNAME:MST
DTSTART:20240101T000000
END:STANDARD
END:VTIMEZONE
BEGIN:VEVENT
DTSTART;TZID=America/Phoenix:20250901T090000
DTEND;TZID=America/Phoenix:20250901T100000
DTSTAMP:20260423T050652
CREATED:20240320T144911Z
LAST-MODIFIED:20250314T194356Z
UID:10004415-1756717200-1756720800@beoutdoorsarizona.org
SUMMARY:Guided Bird Walks at Tonto Natural Bridge
DESCRIPTION:Join a ranger on a ~1 mile\, mostly paved\, walk through some of the most biodiverse terrain in central Arizona. A combination of plant communities and habitats surrounding the world’s largest travertine bridge supports a wide variety of bird species that call the park home and we will be searching for. Meets between the Waterfall Parking and Waterfall Trailhead. Bringing your own optics is encouraged! \nEvent is free\, day-use fee still applies. \nThe day-use fee at Tonto Natural Bridge State Park is: \nAdult (14+): $7.00\nYouth (7–13): $4.00\nChild (0–6): FREE
URL:https://beoutdoorsarizona.org/event/guided-bird-walks-at-tonto-natural-bridge/2025-09-01/
LOCATION:Tonto Natural Bridge State Park\, Arizona 260\, Pine\, AZ\, 85544\, United States
CATEGORIES:Bird Watching,Morning Event
ATTACH;FMTTYPE=image/png:https://beoutdoorsarizona.org/wp-content/uploads/2025/01/bird-watching.png
GEO:34.3846108;-111.4546941
X-APPLE-STRUCTURED-LOCATION;VALUE=URI;X-ADDRESS=Tonto Natural Bridge State Park Arizona 260 Pine AZ 85544 United States;X-APPLE-RADIUS=500;X-TITLE=Arizona 260:geo:-111.4546941,34.3846108
END:VEVENT
BEGIN:VEVENT
DTSTART;TZID=America/Phoenix:20250901T090000
DTEND;TZID=America/Phoenix:20250901T103000
DTSTAMP:20260423T050652
CREATED:20240320T150054Z
LAST-MODIFIED:20250407T153655Z
UID:10005056-1756717200-1756722600@beoutdoorsarizona.org
SUMMARY:Romero Site Interpretive Hike
DESCRIPTION:Join local guides for a tour of the Romero site and walk through 1000-years of indigenous Hohokam history in 90-minutes! Learn about the area’s ranching history and how the Hohokam made a living in the desert. Note:  This trail has stairs and crosses a seasonal stream; be prepared to walk in ankle-deep water. No restrooms on-site. Meet at the Romero Ruins Ramada.\nLimited to 20 people:  First Come\, First Served \nThere is no cost to this program\, but park entrance fees apply or bring your Arizona State Parks annual pass.
URL:https://beoutdoorsarizona.org/event/romero-site-interpretive-hike/2025-09-01/
LOCATION:Catalina State Park\, 11570 N Oracle Rd\, Tucson\, 85737\, United States
CATEGORIES:Arizona History,Hiking,Morning Event
ATTACH;FMTTYPE=image/png:https://beoutdoorsarizona.org/wp-content/uploads/2025/03/walk-tour.png
END:VEVENT
BEGIN:VEVENT
DTSTART;TZID=America/Phoenix:20250903T070000
DTEND;TZID=America/Phoenix:20250903T100000
DTSTAMP:20260423T050652
CREATED:20250830T200424Z
LAST-MODIFIED:20250830T200520Z
UID:10014953-1756882800-1756893600@beoutdoorsarizona.org
SUMMARY:🌿 Sunday Bird Walks at the Environmental Operations Park 🌿
DESCRIPTION:Discover the beauty of our local wildlife on guided bird walks every Sunday this September at the Environmental Operations Park (EOP). 🐦✨ \nEach walk lasts 2–3 hours and offers the chance to spot a variety of bird species while learning from experienced guides. \n✅ Pre-registration is required\, so be sure to save your spot in advance!📅 Sundays in September | ⏰ 2–3 hours | 📍 EOP \nCome connect with nature\, meet fellow bird enthusiasts\, and enjoy a peaceful Sunday outdoors. 🌎💚
URL:https://beoutdoorsarizona.org/event/%f0%9f%8c%bf-sunday-bird-walks-at-the-environmental-operations-park-%f0%9f%8c%bf/
LOCATION:Elias Orion Project (EOP) Birding Platform
CATEGORIES:Bird Watching,Morning Event,Streams and Rivers,Trails,Wildlife Watching
ATTACH;FMTTYPE=image/jpeg:https://beoutdoorsarizona.org/wp-content/uploads/2025/07/Bird-Watching-osprey.jpg
END:VEVENT
BEGIN:VEVENT
DTSTART;TZID=America/Phoenix:20250908T090000
DTEND;TZID=America/Phoenix:20250908T100000
DTSTAMP:20260423T050652
CREATED:20240320T144911Z
LAST-MODIFIED:20250314T194356Z
UID:10004416-1757322000-1757325600@beoutdoorsarizona.org
SUMMARY:Guided Bird Walks at Tonto Natural Bridge
DESCRIPTION:Join a ranger on a ~1 mile\, mostly paved\, walk through some of the most biodiverse terrain in central Arizona. A combination of plant communities and habitats surrounding the world’s largest travertine bridge supports a wide variety of bird species that call the park home and we will be searching for. Meets between the Waterfall Parking and Waterfall Trailhead. Bringing your own optics is encouraged! \nEvent is free\, day-use fee still applies. \nThe day-use fee at Tonto Natural Bridge State Park is: \nAdult (14+): $7.00\nYouth (7–13): $4.00\nChild (0–6): FREE
URL:https://beoutdoorsarizona.org/event/guided-bird-walks-at-tonto-natural-bridge/2025-09-08/
LOCATION:Tonto Natural Bridge State Park\, Arizona 260\, Pine\, AZ\, 85544\, United States
CATEGORIES:Bird Watching,Morning Event
ATTACH;FMTTYPE=image/png:https://beoutdoorsarizona.org/wp-content/uploads/2025/01/bird-watching.png
GEO:34.3846108;-111.4546941
X-APPLE-STRUCTURED-LOCATION;VALUE=URI;X-ADDRESS=Tonto Natural Bridge State Park Arizona 260 Pine AZ 85544 United States;X-APPLE-RADIUS=500;X-TITLE=Arizona 260:geo:-111.4546941,34.3846108
END:VEVENT
BEGIN:VEVENT
DTSTART;TZID=America/Phoenix:20250909T180000
DTEND;TZID=America/Phoenix:20250909T200000
DTSTAMP:20260423T050652
CREATED:20250830T202922Z
LAST-MODIFIED:20250830T202922Z
UID:10014962-1757440800-1757448000@beoutdoorsarizona.org
SUMMARY:🌵✨ An Evening with Desert Rivers Audubon Society ✨🌵
DESCRIPTION:Join us for an inspiring series of talks hosted by the Desert Rivers Audubon Society—where passionate speakers share stories\, insights\, and discoveries about the natural world. 🐦🌎 \nThe first talk will be focused on roadrunners! Beep beep!  Jim Burns\, wildlife photographer will be the speaker for the night. \n📅 Doors open at 6:00 p.m.🎤 Talks begin at 7:00 p.m.💻 Prefer to join from home? Attend online—just be sure to register first on the Desert Rivers Audubon website. \nDon’t miss this chance to learn\, connect\, and be inspired by voices dedicated to protecting our desert rivers and wildlife!
URL:https://beoutdoorsarizona.org/event/%f0%9f%8c%b5%e2%9c%a8-an-evening-with-desert-rivers-audubon-society-%e2%9c%a8%f0%9f%8c%b5/
LOCATION:Southeast Regional Library\, 775 N Greenfield Rd\, Gilbert\, AZ 85234\, USA
CATEGORIES:Bugs/Insects/Butterflies,Evening Event,Meeting,Morning Event,Photography,Streams and Rivers,Trails,Wildlife Education,Wildlife Watching
ATTACH;FMTTYPE=image/png:https://beoutdoorsarizona.org/wp-content/uploads/2025/04/Desert-Plants.png
END:VEVENT
BEGIN:VEVENT
DTSTART;TZID=America/Phoenix:20250910T070000
DTEND;TZID=America/Phoenix:20250910T100000
DTSTAMP:20260423T050652
CREATED:20250830T203741Z
LAST-MODIFIED:20250830T203741Z
UID:10014954-1757487600-1757498400@beoutdoorsarizona.org
SUMMARY:🐦🌿 Explore Nature on Sunday Bird Walks at EOP! 🌿🐦
DESCRIPTION:Step into the great outdoors this September with guided Sunday Bird Walks at the Environmental Operations Park (EOP)! Discover a variety of bird species\, learn from experienced guides\, and enjoy the beauty of the wetlands in a fun and relaxing group setting. ✨ \n📅 Every Sunday in September⏰ 2–3 hours of adventure✅ Pre-registration required \nBring your binoculars\, curiosity\, and love for nature—these walks are the perfect way to spend a Sunday morning! 🌎💚
URL:https://beoutdoorsarizona.org/event/%f0%9f%90%a6%f0%9f%8c%bf-explore-nature-on-sunday-bird-walks-at-eop-%f0%9f%8c%bf%f0%9f%90%a6/
LOCATION:Elias Orion Project (EOP) Birding Platform
CATEGORIES:Bird Watching,Morning Event,Streams and Rivers,Trails,Wildlife Education,Wildlife Watching
ATTACH;FMTTYPE=image/png:https://beoutdoorsarizona.org/wp-content/uploads/2025/04/wildlife-watching.png
END:VEVENT
BEGIN:VEVENT
DTSTART;TZID=America/Phoenix:20250913T070000
DTEND;TZID=America/Phoenix:20250913T100000
DTSTAMP:20260423T050652
CREATED:20250830T205035Z
LAST-MODIFIED:20250830T205052Z
UID:10014951-1757746800-1757757600@beoutdoorsarizona.org
SUMMARY:🌿🐦 Monthly Bird Walks at the San Pedro River 🐦🌿
DESCRIPTION:Join us for a monthly guided bird walk along the San Pedro River and its lush riparian forest\, one of the most celebrated birding hotspots in the Southwest! 🌎✨ \nHosted by the San Pedro Riparian National Conservation Area (SPRNCA)\, these walks highlight the incredible biodiversity of the region and the vital role the river plays in safeguarding the lives of dozens of resident and migratory bird species. From colorful warblers to majestic raptors\, you never know what feathered friends you’ll encounter! 🦅🕊️ \n📅 Monthly\, along the San Pedro River⏰ Walks last 2–3 hours and cover several scenic miles✅ Bring water\, sturdy shoes\, and binoculars for the best experience \nCome connect with nature\, learn from expert guides\, and enjoy the beauty of one of Arizona’s most treasured landscapes. 🌵💚
URL:https://beoutdoorsarizona.org/event/%f0%9f%8c%bf%f0%9f%90%a6-monthly-bird-walks-at-the-san-pedro-river-%f0%9f%90%a6%f0%9f%8c%bf/
LOCATION:San Pedro House\, Sierra Vista\, AZ\, United States
CATEGORIES:Bird Watching,Conservation,Morning Event,Reptiles,Streams and Rivers,Trails,Wildlife Watching
ATTACH;FMTTYPE=image/jpeg:https://beoutdoorsarizona.org/wp-content/uploads/2025/07/San-Pedro-River.jpeg
GEO:31.571011;-110.170235
END:VEVENT
BEGIN:VEVENT
DTSTART;TZID=America/Phoenix:20250915T060000
DTEND;TZID=America/Phoenix:20250915T073000
DTSTAMP:20260423T050652
CREATED:20250710T144806Z
LAST-MODIFIED:20250710T204303Z
UID:10014272-1757916000-1757921400@beoutdoorsarizona.org
SUMMARY:Join Bird Walk at Higley Ponds
DESCRIPTION:This June\, join the bird walk along Higley Ponds. These four ponds along Higley Road are renowned for bird watching.
URL:https://beoutdoorsarizona.org/event/join-bird-walk-at-higley-ponds-2/2025-09-15/
LOCATION:Higley Pond
CATEGORIES:Bird Watching,Evening Event,Meeting,Morning Event,Wildlife Education,Wildlife Watching
END:VEVENT
BEGIN:VEVENT
DTSTART;TZID=America/Phoenix:20250915T090000
DTEND;TZID=America/Phoenix:20250915T100000
DTSTAMP:20260423T050652
CREATED:20240320T144911Z
LAST-MODIFIED:20250314T194356Z
UID:10004417-1757926800-1757930400@beoutdoorsarizona.org
SUMMARY:Guided Bird Walks at Tonto Natural Bridge
DESCRIPTION:Join a ranger on a ~1 mile\, mostly paved\, walk through some of the most biodiverse terrain in central Arizona. A combination of plant communities and habitats surrounding the world’s largest travertine bridge supports a wide variety of bird species that call the park home and we will be searching for. Meets between the Waterfall Parking and Waterfall Trailhead. Bringing your own optics is encouraged! \nEvent is free\, day-use fee still applies. \nThe day-use fee at Tonto Natural Bridge State Park is: \nAdult (14+): $7.00\nYouth (7–13): $4.00\nChild (0–6): FREE
URL:https://beoutdoorsarizona.org/event/guided-bird-walks-at-tonto-natural-bridge/2025-09-15/
LOCATION:Tonto Natural Bridge State Park\, Arizona 260\, Pine\, AZ\, 85544\, United States
CATEGORIES:Bird Watching,Morning Event
ATTACH;FMTTYPE=image/png:https://beoutdoorsarizona.org/wp-content/uploads/2025/01/bird-watching.png
GEO:34.3846108;-111.4546941
X-APPLE-STRUCTURED-LOCATION;VALUE=URI;X-ADDRESS=Tonto Natural Bridge State Park Arizona 260 Pine AZ 85544 United States;X-APPLE-RADIUS=500;X-TITLE=Arizona 260:geo:-111.4546941,34.3846108
END:VEVENT
BEGIN:VEVENT
DTSTART;TZID=America/Phoenix:20250917T070000
DTEND;TZID=America/Phoenix:20250917T100000
DTSTAMP:20260423T050652
CREATED:20250830T210622Z
LAST-MODIFIED:20250830T210635Z
UID:10014955-1758092400-1758103200@beoutdoorsarizona.org
SUMMARY:🌿🐦 Join Sunday Bird Walks at the Environmental Operations Park! 🐦🌿
DESCRIPTION:Spend your Sundays this September exploring the beauty of EOP’s trails and habitats on guided bird walks. Whether you’re a beginner or a seasoned birder\, you’ll enjoy spotting a variety of local species while learning from knowledgeable guides. ✨ \n⏰ Walks last 2–3 hours and cover scenic trails✅ Pre-registration required to secure your spot \nGrab your binoculars\, lace up your walking shoes\, and connect with nature and fellow bird enthusiasts on a peaceful Sunday adventure! 🌎💚
URL:https://beoutdoorsarizona.org/event/%f0%9f%8c%bf%f0%9f%90%a6-join-sunday-bird-walks-at-the-environmental-operations-park-%f0%9f%90%a6%f0%9f%8c%bf/
LOCATION:Elias Orion Project (EOP) Birding Platform
CATEGORIES:Bird Watching,Morning Event,Streams and Rivers,Trails,Wildlife Education,Wildlife Watching
ATTACH;FMTTYPE=image/jpeg:https://beoutdoorsarizona.org/wp-content/uploads/2025/07/San-Pedro-River.jpeg
END:VEVENT
BEGIN:VEVENT
DTSTART;TZID=America/Phoenix:20250922T090000
DTEND;TZID=America/Phoenix:20250922T100000
DTSTAMP:20260423T050652
CREATED:20240320T144911Z
LAST-MODIFIED:20250314T194356Z
UID:10004418-1758531600-1758535200@beoutdoorsarizona.org
SUMMARY:Guided Bird Walks at Tonto Natural Bridge
DESCRIPTION:Join a ranger on a ~1 mile\, mostly paved\, walk through some of the most biodiverse terrain in central Arizona. A combination of plant communities and habitats surrounding the world’s largest travertine bridge supports a wide variety of bird species that call the park home and we will be searching for. Meets between the Waterfall Parking and Waterfall Trailhead. Bringing your own optics is encouraged! \nEvent is free\, day-use fee still applies. \nThe day-use fee at Tonto Natural Bridge State Park is: \nAdult (14+): $7.00\nYouth (7–13): $4.00\nChild (0–6): FREE
URL:https://beoutdoorsarizona.org/event/guided-bird-walks-at-tonto-natural-bridge/2025-09-22/
LOCATION:Tonto Natural Bridge State Park\, Arizona 260\, Pine\, AZ\, 85544\, United States
CATEGORIES:Bird Watching,Morning Event
ATTACH;FMTTYPE=image/png:https://beoutdoorsarizona.org/wp-content/uploads/2025/01/bird-watching.png
GEO:34.3846108;-111.4546941
X-APPLE-STRUCTURED-LOCATION;VALUE=URI;X-ADDRESS=Tonto Natural Bridge State Park Arizona 260 Pine AZ 85544 United States;X-APPLE-RADIUS=500;X-TITLE=Arizona 260:geo:-111.4546941,34.3846108
END:VEVENT
BEGIN:VEVENT
DTSTART;TZID=America/Phoenix:20250924T070000
DTEND;TZID=America/Phoenix:20250924T100000
DTSTAMP:20260423T050652
CREATED:20250830T212556Z
LAST-MODIFIED:20250830T212556Z
UID:10014956-1758697200-1758708000@beoutdoorsarizona.org
SUMMARY:🌿🐦 Join Sunday Bird Walks at the Environmental Operations Park! 🐦🌿
DESCRIPTION:This September\, take a break from the hustle and immerse yourself in the sights and sounds of nature with guided bird walks at EOP. From colorful songbirds to majestic raptors\, every walk is a chance to spot wildlife\, learn from expert guides\, and enjoy the serenity of the trails. ✨ \n⏰ Walks run 2–3 hours along scenic paths✅ Pre-registration required to reserve your spot \nBring your binoculars\, your curiosity\, and your love for the outdoors—connect with fellow bird lovers and make your Sundays an adventure in nature! 🌎💚
URL:https://beoutdoorsarizona.org/event/%f0%9f%8c%bf%f0%9f%90%a6-join-sunday-bird-walks-at-the-environmental-operations-park-%f0%9f%90%a6%f0%9f%8c%bf-2/
LOCATION:Elias Orion Project (EOP) Birding Platform
CATEGORIES:Bird Watching,Morning Event,Streams and Rivers,Trails,Wildlife Education,Wildlife Watching
ATTACH;FMTTYPE=image/jpeg:https://beoutdoorsarizona.org/wp-content/uploads/2025/07/San-Pedro-River.jpeg
END:VEVENT
BEGIN:VEVENT
DTSTART;TZID=America/Phoenix:20250924T070000
DTEND;TZID=America/Phoenix:20250924T100000
DTSTAMP:20260423T050652
CREATED:20250830T214140Z
LAST-MODIFIED:20250830T214327Z
UID:10014968-1758697200-1758708000@beoutdoorsarizona.org
SUMMARY:🌿🐦 Join Sunday Bird Walks at the Environmental Operations Park! 🐦🌿
DESCRIPTION:This September\, take a break from the hustle and immerse yourself in the sights and sounds of nature with guided bird walks at EOP. From colorful songbirds to majestic raptors\, every walk is a chance to spot wildlife\, learn from expert guides\, and enjoy the serenity of the trails. ✨ \n⏰ Walks run 2–3 hours along scenic paths✅ Pre-registration required to reserve your spot \nBring your binoculars\, your curiosity\, and your love for the outdoors—connect with fellow bird lovers and make your Sundays an adventure in nature! 🌎💚
URL:https://beoutdoorsarizona.org/event/%f0%9f%8c%bf%f0%9f%90%a6-join-sunday-bird-walks-at-the-environmental-operations-park-%f0%9f%90%a6%f0%9f%8c%bf-3/
LOCATION:Elias Orion Project (EOP) Birding Platform
CATEGORIES:Bird Watching,Morning Event,Streams and Rivers,Trails,Wildlife Education,Wildlife Watching
ATTACH;FMTTYPE=image/jpeg:https://beoutdoorsarizona.org/wp-content/uploads/2025/07/San-Pedro-River.jpeg
END:VEVENT
BEGIN:VEVENT
DTSTART;TZID=America/Phoenix:20250927T070000
DTEND;TZID=America/Phoenix:20250927T100000
DTSTAMP:20260423T050652
CREATED:20250830T215001Z
LAST-MODIFIED:20250830T215144Z
UID:10014952-1758956400-1758967200@beoutdoorsarizona.org
SUMMARY:🌿🐦 Monthly Bird Walks Along the San Pedro River 🐦🌿
DESCRIPTION:Join us for a monthly guided bird walk along the scenic San Pedro River and its lush riparian forest! Discover a variety of bird species\, from colorful songbirds to majestic raptors\, and learn why this area is so vital for wildlife. 🌎✨ \nHosted by the San Pedro Riparian National Conservation Area (SPRNCA)\, these walks highlight the conservation efforts protecting dozens of resident and migratory birds. It’s a rare chance to see nature and science in action while enjoying the tranquility of the river. 🦅💚 \n⏰ Walks last 2–3 hours and cover several scenic miles✅ Bring water\, binoculars\, and a sense of adventure \nReconnect with nature\, learn from expert guides\, and experience the wonder of one of Arizona’s most treasured ecosystems! 🌵🌊
URL:https://beoutdoorsarizona.org/event/%f0%9f%8c%bf%f0%9f%90%a6-monthly-bird-walks-along-the-san-pedro-river-%f0%9f%90%a6%f0%9f%8c%bf/
LOCATION:San Pedro House\, Sierra Vista\, AZ\, United States
CATEGORIES:Bird Watching,Conservation,Morning Event,Reptiles,Streams and Rivers,Trails,Wildlife Education,Wildlife Watching
ATTACH;FMTTYPE=image/png:https://beoutdoorsarizona.org/wp-content/uploads/2025/01/bird-watching.png
GEO:31.571011;-110.170235
END:VEVENT
BEGIN:VEVENT
DTSTART;TZID=America/Phoenix:20250927T070000
DTEND;TZID=America/Phoenix:20250927T100000
DTSTAMP:20260423T050652
CREATED:20250830T221117Z
LAST-MODIFIED:20250830T221117Z
UID:10014969-1758956400-1758967200@beoutdoorsarizona.org
SUMMARY:🌿🐦 Monthly Bird Walks Along the San Pedro River 🐦🌿
DESCRIPTION:Join us for a monthly guided bird walk along the scenic San Pedro River and its lush riparian forest! Discover a variety of bird species\, from colorful songbirds to majestic raptors\, and learn why this area is so vital for wildlife. 🌎✨ \nHosted by the San Pedro Riparian National Conservation Area (SPRNCA)\, these walks highlight the conservation efforts protecting dozens of resident and migratory birds. It’s a rare chance to see nature and science in action while enjoying the tranquility of the river. 🦅💚 \n⏰ Walks last 2–3 hours and cover several scenic miles✅ Bring water\, binoculars\, and a sense of adventure \nReconnect with nature\, learn from expert guides\, and experience the wonder of one of Arizona’s most treasured ecosystems! 🌵🌊
URL:https://beoutdoorsarizona.org/event/%f0%9f%8c%bf%f0%9f%90%a6-monthly-bird-walks-along-the-san-pedro-river-%f0%9f%90%a6%f0%9f%8c%bf-2/
LOCATION:San Pedro House\, Sierra Vista\, AZ\, United States
CATEGORIES:Bird Watching,Conservation,Morning Event,Reptiles,Streams and Rivers,Trails,Wildlife Education,Wildlife Watching
ATTACH;FMTTYPE=image/png:https://beoutdoorsarizona.org/wp-content/uploads/2025/01/bird-watching.png
GEO:31.571011;-110.170235
END:VEVENT
BEGIN:VEVENT
DTSTART;TZID=America/Phoenix:20250927T080000
DTEND;TZID=America/Phoenix:20250927T110000
DTSTAMP:20260423T050652
CREATED:20250819T231803Z
LAST-MODIFIED:20250819T231803Z
UID:10014881-1758960000-1758970800@beoutdoorsarizona.org
SUMMARY:Wildlife Extravaganza on Tumamoc Hill
DESCRIPTION:🦉🌿 Wildlife Extravaganza at Tumamoc Hill! 🌿🦉 \nGet ready for our first-ever Wildlife Extravaganza at the Tumamoc Historic Boathouse (base of the Hill)! Meet local wildlife experts\, explore interactive exhibits\, and get your animal questions answered up close and personal! 🐍🦅🐾 \n🎁 Tons of Giveaways🎨 Kids’ Activities & Games🌟 Fun for the whole family \n📍 Parking Info: There is no visitor parking on Tumamoc Hill itself. Street parking is available on Anklam Rd\, or in the dirt lot at the corner of Anklam & Silverbell Rd. \n🎟️ This event is FREE and open to all! \n📧 Questions? Contact us at tumamoc-hill@arizona.edu \nCome explore\, play\, and discover the amazing wildlife around us—it’s a day you won’t want to miss!
URL:https://beoutdoorsarizona.org/event/wildlife-extravaganza-on-tumamoc-hill/
LOCATION:Tumamoc Hill Boathouse\, Tucson\, 85745\, United States
CATEGORIES:Bugs/Insects/Butterflies,Conservation,Ecology,Family Event,Morning Event,Reptiles,Social Gathering-Festivals-Fundraisers,Wildlife Education,Youth Event
ATTACH;FMTTYPE=image/png:https://beoutdoorsarizona.org/wp-content/uploads/2025/02/social-family-festival.png
END:VEVENT
BEGIN:VEVENT
DTSTART;TZID=America/Phoenix:20250929T090000
DTEND;TZID=America/Phoenix:20250929T100000
DTSTAMP:20260423T050652
CREATED:20240320T144911Z
LAST-MODIFIED:20250314T194356Z
UID:10004419-1759136400-1759140000@beoutdoorsarizona.org
SUMMARY:Guided Bird Walks at Tonto Natural Bridge
DESCRIPTION:Join a ranger on a ~1 mile\, mostly paved\, walk through some of the most biodiverse terrain in central Arizona. A combination of plant communities and habitats surrounding the world’s largest travertine bridge supports a wide variety of bird species that call the park home and we will be searching for. Meets between the Waterfall Parking and Waterfall Trailhead. Bringing your own optics is encouraged! \nEvent is free\, day-use fee still applies. \nThe day-use fee at Tonto Natural Bridge State Park is: \nAdult (14+): $7.00\nYouth (7–13): $4.00\nChild (0–6): FREE
URL:https://beoutdoorsarizona.org/event/guided-bird-walks-at-tonto-natural-bridge/2025-09-29/
LOCATION:Tonto Natural Bridge State Park\, Arizona 260\, Pine\, AZ\, 85544\, United States
CATEGORIES:Bird Watching,Morning Event
ATTACH;FMTTYPE=image/png:https://beoutdoorsarizona.org/wp-content/uploads/2025/01/bird-watching.png
GEO:34.3846108;-111.4546941
X-APPLE-STRUCTURED-LOCATION;VALUE=URI;X-ADDRESS=Tonto Natural Bridge State Park Arizona 260 Pine AZ 85544 United States;X-APPLE-RADIUS=500;X-TITLE=Arizona 260:geo:-111.4546941,34.3846108
END:VEVENT
END:VCALENDAR