BEGIN:VCALENDAR
VERSION:2.0
PRODID:-//Be Outdoors Arizona - ECPv6.15.20//NONSGML v1.0//EN
CALSCALE:GREGORIAN
METHOD:PUBLISH
X-ORIGINAL-URL:https://beoutdoorsarizona.org
X-WR-CALDESC:Events for Be Outdoors Arizona
REFRESH-INTERVAL;VALUE=DURATION:PT1H
X-Robots-Tag:noindex
X-PUBLISHED-TTL:PT1H
BEGIN:VTIMEZONE
TZID:America/Phoenix
BEGIN:STANDARD
TZOFFSETFROM:-0700
TZOFFSETTO:-0700
TZNAME:MST
DTSTART:20240101T000000
END:STANDARD
END:VTIMEZONE
BEGIN:VEVENT
DTSTART;TZID=America/Phoenix:20251017T230000
DTEND;TZID=America/Phoenix:20260208T233000
DTSTAMP:20260421T063224
CREATED:20250831T015357Z
LAST-MODIFIED:20250831T015417Z
UID:10014897-1760742000-1770593400@beoutdoorsarizona.org
SUMMARY:🌟Beginner-Friendly Mentored Quail Hunts – Christian Hunters of America 🌟
DESCRIPTION:Dates: Oct. 17\, 2025 – Feb. 8\, 2026 \nLooking to gain hands-on hunting experience this quail season? Join the Christian Hunters of America (CHA) for mentored group quail hunts designed specifically for beginner and novice hunters! \n🌟 What to Expect: \n\n\nGuided quail hunts with experienced mentors \n\n\nOpportunities for shooting practice on clay birds before heading into the field—perfect for first-time hunters \n\n\nHunts arranged to fit your schedule; dates\, times\, and locations by arrangement \n\n\nA supportive and educational environment focused on skill-building\, safety\, and outdoor ethics \n\n\n⚠️ Special Registration RequiredReserve your spot early to participate in this unique learning and hunting experience. \n📞 Information & Registration:Text or call 602-909-3600 or 602-309-3430 \n 
URL:https://beoutdoorsarizona.org/event/%f0%9f%8c%9fbeginner-friendly-mentored-quail-hunts-christian-hunters-of-america-%f0%9f%8c%9f/
LOCATION:Arizona\, 5000 W. Carefree Highway Phoenix\, AZ 85086
CATEGORIES:Hunting,Mentored event,Shooting Sports,Wildlife Education,Youth Event
ATTACH;FMTTYPE=image/jpeg:https://beoutdoorsarizona.org/wp-content/uploads/2025/07/quail-rory-aikens.jpeg
END:VEVENT
BEGIN:VEVENT
DTSTART;TZID=America/Phoenix:20260219T170000
DTEND;TZID=America/Phoenix:20260222T230000
DTSTAMP:20260421T063224
CREATED:20250831T021758Z
LAST-MODIFIED:20250831T021900Z
UID:10014938-1771520400-1771801200@beoutdoorsarizona.org
SUMMARY:🐗🏹 Units 31 & 32 – Mentored Youth General Javelina Hunting Camp with Into the Wild Outdoors (IWO)
DESCRIPTION:Are you a new hunter with a general javelina tag? Bring your family and join us for an immersive\, mentored hunting camp designed to teach essential hunting skills\, safety\, and outdoor ethics in a supportive and hands-on environment. \n🌟 Camp Highlights: \n\n\nMentorship from experienced hunters for beginners and first-time javelina hunters \n\n\nInstruction on:• Glassing and spotting game• Understanding habitat and tracking techniques• Field care and proper handling of harvested game• Rules and regulations to ensure a safe and legal hunt \n\n\nBreakfast and dinners provided to keep you fueled throughout the camp \n\n\nOpportunities for families to learn together and enjoy the outdoors \n\n\nBuild confidence\, hunting skills\, and connect with other youth hunters and their families \n\n\n\n🎒 What to Bring – Youth Hunting Camp Checklist\nClothing & Personal Gear: \n\n\nSturdy\, closed-toe shoes or boots \n\n\nWeather-appropriate layers (cool mornings\, warmer afternoons) \n\n\nHat & sunglasses \n\n\nRain jacket or windbreaker \n\n\nPersonal toiletries \n\n\nCamping & Outdoor Gear: \n\n\nSleeping bag or bedding \n\n\nTent (if not provided) \n\n\nFlashlight or headlamp + extra batteries \n\n\nCamp chair (optional) \n\n\nHunting Essentials: \n\n\nHunting gear (firearm or bow as applicable) \n\n\nGeneral Javelina Hunt Tag \n\n\nHunting license (if required) \n\n\nBinoculars (optional) \n\n\nWater bottle / hydration pack \n\n\nSnacks (optional) \n\n\nOther: \n\n\nPersonal medications or special items \n\n\nSunscreen & insect repellent \n\n\nNotebook & pen (for notes and observations) \n\n\n📌 Meals are provided; all mentoring and instruction included. \n\n📌 Important Registration Information\n\n\nRegistration opens September 15\, 2025 at 3:00 PM CDT \n\n\nSpots are limited—reserve early to guarantee participation! \n\n\n📞 Contact for More Information:Email: info@intothewildoutdoors.orgPhone: 520-507-0871
URL:https://beoutdoorsarizona.org/event/%f0%9f%90%97%f0%9f%8f%b9-units-31-32-mentored-youth-general-javelina-hunting-camp-with-into-the-wild-outdoors-iwo/
LOCATION:Stockon Pass\, 32 34’37N\, 109 50’ 56”W Fort Grant\,\, AZ 85643
CATEGORIES:Hunting,Mentored event,Shooting Sports,Wildlife Education,Wildlife Watching,Youth Event
ATTACH;FMTTYPE=image/jpeg:https://beoutdoorsarizona.org/wp-content/uploads/2025/07/Campfire-Kids.jpeg
END:VEVENT
BEGIN:VEVENT
DTSTART;TZID=America/Phoenix:20260221T090000
DTEND;TZID=America/Phoenix:20260221T103000
DTSTAMP:20260421T063224
CREATED:20250910T010900Z
LAST-MODIFIED:20250910T010926Z
UID:10014974-1771664400-1771669800@beoutdoorsarizona.org
SUMMARY:🌿 Science & Art in the Desert: Plant Clay Printmaking 🎨
DESCRIPTION:Join us for a fun\, family-friendly event that blends science and creativity! \nKick things off with a quick\, kid-friendly science presentation led by Alex La Pierre of Borderlands\, where children will learn about the fascinating plants that thrive in our desert landscape. Discover how native plants grow\, adapt\, and support life in the Sonoran Desert. \nThen\, let your imagination bloom in a special art activity with artist Aubrey Behrens. Kids and families will get hands-on creating their own plant clay prints\, capturing the unique shapes and textures of desert plants in beautiful take-home artwork. \n✨ Event Highlights: \n\n\nEngaging science talk with Alex La Pierre (Borderlands) \n\n\nCreative clay printmaking guided by artist Aubrey Behrens \n\n\nPerfect for kids and families of all ages
URL:https://beoutdoorsarizona.org/event/%f0%9f%8c%bf-science-art-in-the-desert-plant-clay-printmaking-%f0%9f%8e%a8/
LOCATION:Tumamoc Hill Boathouse\, Tucson\, 85745\, United States
CATEGORIES:Botany,Ecology,Educational/Training/Workshop,Family Event,Mentored event,Youth Event
ATTACH;FMTTYPE=image/png:https://beoutdoorsarizona.org/wp-content/uploads/2024/07/outdoor-activities-kids.png
END:VEVENT
BEGIN:VEVENT
DTSTART;TZID=America/Phoenix:20260221T100000
DTEND;TZID=America/Phoenix:20260221T130000
DTSTAMP:20260421T063224
CREATED:20260130T125837Z
LAST-MODIFIED:20260130T130016Z
UID:10015105-1771668000-1771678800@beoutdoorsarizona.org
SUMMARY:Restoration at the PVCC Arizona Restoration Center
DESCRIPTION:Help out with community nature restoration and gardening at the ARC at Paradise Valley Community College! We will be removing invasive plants\, planting native plants and seeds\, improving paths\, creating habitat\, and more! Our tasks and their difficulty are highly flexible\, and we will teach you how to do everything! We will provide water refills\, snacks\, shade\, tools\, bags for disposal\, and a few chairs. Our supplies are limited of these\, so you are encouraged to bring your own\, especially tools and gloves\, if you’d like to ensure you have them. You are also encouraged to wear sunscreen and closed-toed shoes. Let’s make a difference in our community and get connected with nature! \nSign up or just show up! \nFor more information about the ARC\, visit paradisevalley.edu/arc
URL:https://beoutdoorsarizona.org/event/restoration-at-the-pvcc-arizona-restoration-center-2/
LOCATION:Paradise Valley Community College\, 18401 N 32nd St\, Phoenix\, AZ\, 85024\, United States
CATEGORIES:Clean up,Conservation,Ecology,Invasive Species,Mentored event,Trails,Volunteering
ATTACH;FMTTYPE=image/png:https://beoutdoorsarizona.org/wp-content/uploads/2025/04/Desert-Plants.png
END:VEVENT
END:VCALENDAR